BEGIN:VCALENDAR
VERSION:2.0
PRODID:-//Leatherback Brewing - ECPv6.15.20//NONSGML v1.0//EN
CALSCALE:GREGORIAN
METHOD:PUBLISH
X-ORIGINAL-URL:https://leatherbackbrewing.com
X-WR-CALDESC:Events for Leatherback Brewing
REFRESH-INTERVAL;VALUE=DURATION:PT1H
X-Robots-Tag:noindex
X-PUBLISHED-TTL:PT1H
BEGIN:VTIMEZONE
TZID:UTC
BEGIN:STANDARD
TZOFFSETFROM:+0000
TZOFFSETTO:+0000
TZNAME:UTC
DTSTART:20240101T000000
END:STANDARD
END:VTIMEZONE
BEGIN:VEVENT
DTSTART;TZID=UTC:20250301T184500
DTEND;TZID=UTC:20250301T203000
DTSTAMP:20260422T220605
CREATED:20240322T204739Z
LAST-MODIFIED:20240529T203805Z
UID:10003190-1740854700-1740861000@leatherbackbrewing.com
SUMMARY:St. Croix- Movie Night
DESCRIPTION:Bring the whole family to Leatherback to watch a movie under the stars! \nWe’ll be serving craft beer and cocktails along with our regular menu! \nCome early to get a table outside or bring your own chairs or blankets. \nCheck our Facebook page to find this month’s movie!
URL:https://leatherbackbrewing.com/event/st-croix-movie-night-2/2025-03-01/
LOCATION:Leatherback Brewing Company- St. Croix
CATEGORIES:Family Fun,movie
ATTACH;FMTTYPE=image/png:https://leatherbackbrewing.com/wp-content/uploads/2024/03/Movie-Night.png
END:VEVENT
END:VCALENDAR