BEGIN:VCALENDAR
VERSION:2.0
PRODID:-//Leatherback Brewing - ECPv6.15.20//NONSGML v1.0//EN
CALSCALE:GREGORIAN
METHOD:PUBLISH
X-WR-CALNAME:Leatherback Brewing
X-ORIGINAL-URL:https://leatherbackbrewing.com
X-WR-CALDESC:Events for Leatherback Brewing
REFRESH-INTERVAL;VALUE=DURATION:PT1H
X-Robots-Tag:noindex
X-PUBLISHED-TTL:PT1H
BEGIN:VTIMEZONE
TZID:UTC
BEGIN:STANDARD
TZOFFSETFROM:+0000
TZOFFSETTO:+0000
TZNAME:UTC
DTSTART:20250101T000000
END:STANDARD
END:VTIMEZONE
BEGIN:VEVENT
DTSTART;TZID=UTC:20260515T173000
DTEND;TZID=UTC:20260515T193000
DTSTAMP:20260422T220428
CREATED:20250512T171126Z
LAST-MODIFIED:20250604T172325Z
UID:10003003-1778866200-1778873400@leatherbackbrewing.com
SUMMARY:St. Croix- Crab Races
DESCRIPTION:Join us for Crab Races with Tito & Sue! \nCheer on your crab while enjoying your favorite Leatherback brew or a cocktail! Bring the while family for some pizza and fun! \nCrabs available starting at 5:30. Arrive early to get a good seat!
URL:https://leatherbackbrewing.com/event/tito-sue-crab-races-2/2026-05-15/
LOCATION:Leatherback Brewing Company- St. Croix
CATEGORIES:Family Fun
ATTACH;FMTTYPE=image/png:https://leatherbackbrewing.com/wp-content/uploads/2024/03/Carb-Races.png
END:VEVENT
END:VCALENDAR