BEGIN:VCALENDAR
VERSION:2.0
PRODID:-//Leatherback Brewing - ECPv6.15.20//NONSGML v1.0//EN
CALSCALE:GREGORIAN
METHOD:PUBLISH
X-ORIGINAL-URL:https://leatherbackbrewing.com
X-WR-CALDESC:Events for Leatherback Brewing
REFRESH-INTERVAL;VALUE=DURATION:PT1H
X-Robots-Tag:noindex
X-PUBLISHED-TTL:PT1H
BEGIN:VTIMEZONE
TZID:UTC
BEGIN:STANDARD
TZOFFSETFROM:+0000
TZOFFSETTO:+0000
TZNAME:UTC
DTSTART:20250101T000000
END:STANDARD
END:VTIMEZONE
BEGIN:VEVENT
DTSTART;TZID=UTC:20260202T160000
DTEND;TZID=UTC:20260202T180000
DTSTAMP:20260423T164618
CREATED:20240923T195910Z
LAST-MODIFIED:20240923T195910Z
UID:10003460-1770048000-1770055200@leatherbackbrewing.com
SUMMARY:St. Croix Happy Hour
DESCRIPTION:Join us for Happy Hour 4:00pm – 6:00pm with $5 Flagship Beers and $10 Wings!
URL:https://leatherbackbrewing.com/event/st-croix-happy-hour-2/2026-02-02/
CATEGORIES:Specials
ATTACH;FMTTYPE=image/jpeg:https://leatherbackbrewing.com/wp-content/uploads/2024/09/Happy-Hour.jpg
END:VEVENT
BEGIN:VEVENT
DTSTART;TZID=UTC:20260203T160000
DTEND;TZID=UTC:20260203T180000
DTSTAMP:20260423T164618
CREATED:20240923T195910Z
LAST-MODIFIED:20240923T195910Z
UID:10003461-1770134400-1770141600@leatherbackbrewing.com
SUMMARY:St. Croix Happy Hour
DESCRIPTION:Join us for Happy Hour 4:00pm – 6:00pm with $5 Flagship Beers and $10 Wings!
URL:https://leatherbackbrewing.com/event/st-croix-happy-hour-2/2026-02-03/
CATEGORIES:Specials
ATTACH;FMTTYPE=image/jpeg:https://leatherbackbrewing.com/wp-content/uploads/2024/09/Happy-Hour.jpg
END:VEVENT
BEGIN:VEVENT
DTSTART;TZID=UTC:20260204T160000
DTEND;TZID=UTC:20260204T180000
DTSTAMP:20260423T164618
CREATED:20240923T195910Z
LAST-MODIFIED:20240923T195910Z
UID:10003462-1770220800-1770228000@leatherbackbrewing.com
SUMMARY:St. Croix Happy Hour
DESCRIPTION:Join us for Happy Hour 4:00pm – 6:00pm with $5 Flagship Beers and $10 Wings!
URL:https://leatherbackbrewing.com/event/st-croix-happy-hour-2/2026-02-04/
CATEGORIES:Specials
ATTACH;FMTTYPE=image/jpeg:https://leatherbackbrewing.com/wp-content/uploads/2024/09/Happy-Hour.jpg
END:VEVENT
BEGIN:VEVENT
DTSTART;TZID=UTC:20260209T160000
DTEND;TZID=UTC:20260209T180000
DTSTAMP:20260423T164618
CREATED:20240923T195910Z
LAST-MODIFIED:20240923T195910Z
UID:10003463-1770652800-1770660000@leatherbackbrewing.com
SUMMARY:St. Croix Happy Hour
DESCRIPTION:Join us for Happy Hour 4:00pm – 6:00pm with $5 Flagship Beers and $10 Wings!
URL:https://leatherbackbrewing.com/event/st-croix-happy-hour-2/2026-02-09/
CATEGORIES:Specials
ATTACH;FMTTYPE=image/jpeg:https://leatherbackbrewing.com/wp-content/uploads/2024/09/Happy-Hour.jpg
END:VEVENT
BEGIN:VEVENT
DTSTART;TZID=UTC:20260210T160000
DTEND;TZID=UTC:20260210T180000
DTSTAMP:20260423T164618
CREATED:20240923T195910Z
LAST-MODIFIED:20240923T195910Z
UID:10003464-1770739200-1770746400@leatherbackbrewing.com
SUMMARY:St. Croix Happy Hour
DESCRIPTION:Join us for Happy Hour 4:00pm – 6:00pm with $5 Flagship Beers and $10 Wings!
URL:https://leatherbackbrewing.com/event/st-croix-happy-hour-2/2026-02-10/
CATEGORIES:Specials
ATTACH;FMTTYPE=image/jpeg:https://leatherbackbrewing.com/wp-content/uploads/2024/09/Happy-Hour.jpg
END:VEVENT
BEGIN:VEVENT
DTSTART;TZID=UTC:20260211T160000
DTEND;TZID=UTC:20260211T180000
DTSTAMP:20260423T164618
CREATED:20240923T195910Z
LAST-MODIFIED:20240923T195910Z
UID:10003465-1770825600-1770832800@leatherbackbrewing.com
SUMMARY:St. Croix Happy Hour
DESCRIPTION:Join us for Happy Hour 4:00pm – 6:00pm with $5 Flagship Beers and $10 Wings!
URL:https://leatherbackbrewing.com/event/st-croix-happy-hour-2/2026-02-11/
CATEGORIES:Specials
ATTACH;FMTTYPE=image/jpeg:https://leatherbackbrewing.com/wp-content/uploads/2024/09/Happy-Hour.jpg
END:VEVENT
BEGIN:VEVENT
DTSTART;TZID=UTC:20260216T160000
DTEND;TZID=UTC:20260216T180000
DTSTAMP:20260423T164618
CREATED:20240923T195910Z
LAST-MODIFIED:20240923T195910Z
UID:10003466-1771257600-1771264800@leatherbackbrewing.com
SUMMARY:St. Croix Happy Hour
DESCRIPTION:Join us for Happy Hour 4:00pm – 6:00pm with $5 Flagship Beers and $10 Wings!
URL:https://leatherbackbrewing.com/event/st-croix-happy-hour-2/2026-02-16/
CATEGORIES:Specials
ATTACH;FMTTYPE=image/jpeg:https://leatherbackbrewing.com/wp-content/uploads/2024/09/Happy-Hour.jpg
END:VEVENT
BEGIN:VEVENT
DTSTART;TZID=UTC:20260217T160000
DTEND;TZID=UTC:20260217T180000
DTSTAMP:20260423T164618
CREATED:20240923T195910Z
LAST-MODIFIED:20240923T195910Z
UID:10003467-1771344000-1771351200@leatherbackbrewing.com
SUMMARY:St. Croix Happy Hour
DESCRIPTION:Join us for Happy Hour 4:00pm – 6:00pm with $5 Flagship Beers and $10 Wings!
URL:https://leatherbackbrewing.com/event/st-croix-happy-hour-2/2026-02-17/
CATEGORIES:Specials
ATTACH;FMTTYPE=image/jpeg:https://leatherbackbrewing.com/wp-content/uploads/2024/09/Happy-Hour.jpg
END:VEVENT
BEGIN:VEVENT
DTSTART;TZID=UTC:20260218T160000
DTEND;TZID=UTC:20260218T180000
DTSTAMP:20260423T164618
CREATED:20240923T195910Z
LAST-MODIFIED:20240923T195910Z
UID:10003468-1771430400-1771437600@leatherbackbrewing.com
SUMMARY:St. Croix Happy Hour
DESCRIPTION:Join us for Happy Hour 4:00pm – 6:00pm with $5 Flagship Beers and $10 Wings!
URL:https://leatherbackbrewing.com/event/st-croix-happy-hour-2/2026-02-18/
CATEGORIES:Specials
ATTACH;FMTTYPE=image/jpeg:https://leatherbackbrewing.com/wp-content/uploads/2024/09/Happy-Hour.jpg
END:VEVENT
BEGIN:VEVENT
DTSTART;TZID=UTC:20260223T160000
DTEND;TZID=UTC:20260223T180000
DTSTAMP:20260423T164618
CREATED:20240923T195910Z
LAST-MODIFIED:20240923T195910Z
UID:10003469-1771862400-1771869600@leatherbackbrewing.com
SUMMARY:St. Croix Happy Hour
DESCRIPTION:Join us for Happy Hour 4:00pm – 6:00pm with $5 Flagship Beers and $10 Wings!
URL:https://leatherbackbrewing.com/event/st-croix-happy-hour-2/2026-02-23/
CATEGORIES:Specials
ATTACH;FMTTYPE=image/jpeg:https://leatherbackbrewing.com/wp-content/uploads/2024/09/Happy-Hour.jpg
END:VEVENT
BEGIN:VEVENT
DTSTART;TZID=UTC:20260224T160000
DTEND;TZID=UTC:20260224T180000
DTSTAMP:20260423T164618
CREATED:20240923T195910Z
LAST-MODIFIED:20240923T195910Z
UID:10003470-1771948800-1771956000@leatherbackbrewing.com
SUMMARY:St. Croix Happy Hour
DESCRIPTION:Join us for Happy Hour 4:00pm – 6:00pm with $5 Flagship Beers and $10 Wings!
URL:https://leatherbackbrewing.com/event/st-croix-happy-hour-2/2026-02-24/
CATEGORIES:Specials
ATTACH;FMTTYPE=image/jpeg:https://leatherbackbrewing.com/wp-content/uploads/2024/09/Happy-Hour.jpg
END:VEVENT
BEGIN:VEVENT
DTSTART;TZID=UTC:20260225T160000
DTEND;TZID=UTC:20260225T180000
DTSTAMP:20260423T164618
CREATED:20240923T195910Z
LAST-MODIFIED:20240923T195910Z
UID:10003471-1772035200-1772042400@leatherbackbrewing.com
SUMMARY:St. Croix Happy Hour
DESCRIPTION:Join us for Happy Hour 4:00pm – 6:00pm with $5 Flagship Beers and $10 Wings!
URL:https://leatherbackbrewing.com/event/st-croix-happy-hour-2/2026-02-25/
CATEGORIES:Specials
ATTACH;FMTTYPE=image/jpeg:https://leatherbackbrewing.com/wp-content/uploads/2024/09/Happy-Hour.jpg
END:VEVENT
END:VCALENDAR