BEGIN:VCALENDAR
VERSION:2.0
PRODID:-//Leatherback Brewing - ECPv6.15.20//NONSGML v1.0//EN
CALSCALE:GREGORIAN
METHOD:PUBLISH
X-ORIGINAL-URL:https://leatherbackbrewing.com
X-WR-CALDESC:Events for Leatherback Brewing
REFRESH-INTERVAL;VALUE=DURATION:PT1H
X-Robots-Tag:noindex
X-PUBLISHED-TTL:PT1H
BEGIN:VTIMEZONE
TZID:UTC
BEGIN:STANDARD
TZOFFSETFROM:+0000
TZOFFSETTO:+0000
TZNAME:UTC
DTSTART:20250101T000000
END:STANDARD
END:VTIMEZONE
BEGIN:VEVENT
DTSTART;TZID=UTC:20260622T160000
DTEND;TZID=UTC:20260622T180000
DTSTAMP:20260422T220751
CREATED:20240923T195910Z
LAST-MODIFIED:20240923T195910Z
UID:10003520-1782144000-1782151200@leatherbackbrewing.com
SUMMARY:St. Croix Happy Hour
DESCRIPTION:Join us for Happy Hour 4:00pm – 6:00pm with $5 Flagship Beers and $10 Wings!
URL:https://leatherbackbrewing.com/event/st-croix-happy-hour-2/2026-06-22/
CATEGORIES:Specials
ATTACH;FMTTYPE=image/jpeg:https://leatherbackbrewing.com/wp-content/uploads/2024/09/Happy-Hour.jpg
END:VEVENT
BEGIN:VEVENT
DTSTART;TZID=UTC:20260623T160000
DTEND;TZID=UTC:20260623T180000
DTSTAMP:20260422T220751
CREATED:20240923T195910Z
LAST-MODIFIED:20240923T195910Z
UID:10003521-1782230400-1782237600@leatherbackbrewing.com
SUMMARY:St. Croix Happy Hour
DESCRIPTION:Join us for Happy Hour 4:00pm – 6:00pm with $5 Flagship Beers and $10 Wings!
URL:https://leatherbackbrewing.com/event/st-croix-happy-hour-2/2026-06-23/
CATEGORIES:Specials
ATTACH;FMTTYPE=image/jpeg:https://leatherbackbrewing.com/wp-content/uploads/2024/09/Happy-Hour.jpg
END:VEVENT
BEGIN:VEVENT
DTSTART;TZID=UTC:20260624T160000
DTEND;TZID=UTC:20260624T180000
DTSTAMP:20260422T220751
CREATED:20240923T195910Z
LAST-MODIFIED:20240923T195910Z
UID:10003522-1782316800-1782324000@leatherbackbrewing.com
SUMMARY:St. Croix Happy Hour
DESCRIPTION:Join us for Happy Hour 4:00pm – 6:00pm with $5 Flagship Beers and $10 Wings!
URL:https://leatherbackbrewing.com/event/st-croix-happy-hour-2/2026-06-24/
CATEGORIES:Specials
ATTACH;FMTTYPE=image/jpeg:https://leatherbackbrewing.com/wp-content/uploads/2024/09/Happy-Hour.jpg
END:VEVENT
BEGIN:VEVENT
DTSTART;TZID=UTC:20260629T160000
DTEND;TZID=UTC:20260629T180000
DTSTAMP:20260422T220751
CREATED:20240923T195910Z
LAST-MODIFIED:20240923T195910Z
UID:10003523-1782748800-1782756000@leatherbackbrewing.com
SUMMARY:St. Croix Happy Hour
DESCRIPTION:Join us for Happy Hour 4:00pm – 6:00pm with $5 Flagship Beers and $10 Wings!
URL:https://leatherbackbrewing.com/event/st-croix-happy-hour-2/2026-06-29/
CATEGORIES:Specials
ATTACH;FMTTYPE=image/jpeg:https://leatherbackbrewing.com/wp-content/uploads/2024/09/Happy-Hour.jpg
END:VEVENT
BEGIN:VEVENT
DTSTART;TZID=UTC:20260630T160000
DTEND;TZID=UTC:20260630T180000
DTSTAMP:20260422T220751
CREATED:20240923T195910Z
LAST-MODIFIED:20240923T195910Z
UID:10003524-1782835200-1782842400@leatherbackbrewing.com
SUMMARY:St. Croix Happy Hour
DESCRIPTION:Join us for Happy Hour 4:00pm – 6:00pm with $5 Flagship Beers and $10 Wings!
URL:https://leatherbackbrewing.com/event/st-croix-happy-hour-2/2026-06-30/
CATEGORIES:Specials
ATTACH;FMTTYPE=image/jpeg:https://leatherbackbrewing.com/wp-content/uploads/2024/09/Happy-Hour.jpg
END:VEVENT
BEGIN:VEVENT
DTSTART;TZID=UTC:20260701T160000
DTEND;TZID=UTC:20260701T180000
DTSTAMP:20260422T220751
CREATED:20240923T195910Z
LAST-MODIFIED:20240923T195910Z
UID:10003525-1782921600-1782928800@leatherbackbrewing.com
SUMMARY:St. Croix Happy Hour
DESCRIPTION:Join us for Happy Hour 4:00pm – 6:00pm with $5 Flagship Beers and $10 Wings!
URL:https://leatherbackbrewing.com/event/st-croix-happy-hour-2/2026-07-01/
CATEGORIES:Specials
ATTACH;FMTTYPE=image/jpeg:https://leatherbackbrewing.com/wp-content/uploads/2024/09/Happy-Hour.jpg
END:VEVENT
BEGIN:VEVENT
DTSTART;TZID=UTC:20260706T160000
DTEND;TZID=UTC:20260706T180000
DTSTAMP:20260422T220751
CREATED:20240923T195910Z
LAST-MODIFIED:20240923T195910Z
UID:10003526-1783353600-1783360800@leatherbackbrewing.com
SUMMARY:St. Croix Happy Hour
DESCRIPTION:Join us for Happy Hour 4:00pm – 6:00pm with $5 Flagship Beers and $10 Wings!
URL:https://leatherbackbrewing.com/event/st-croix-happy-hour-2/2026-07-06/
CATEGORIES:Specials
ATTACH;FMTTYPE=image/jpeg:https://leatherbackbrewing.com/wp-content/uploads/2024/09/Happy-Hour.jpg
END:VEVENT
BEGIN:VEVENT
DTSTART;TZID=UTC:20260707T160000
DTEND;TZID=UTC:20260707T180000
DTSTAMP:20260422T220751
CREATED:20240923T195910Z
LAST-MODIFIED:20240923T195910Z
UID:10003527-1783440000-1783447200@leatherbackbrewing.com
SUMMARY:St. Croix Happy Hour
DESCRIPTION:Join us for Happy Hour 4:00pm – 6:00pm with $5 Flagship Beers and $10 Wings!
URL:https://leatherbackbrewing.com/event/st-croix-happy-hour-2/2026-07-07/
CATEGORIES:Specials
ATTACH;FMTTYPE=image/jpeg:https://leatherbackbrewing.com/wp-content/uploads/2024/09/Happy-Hour.jpg
END:VEVENT
BEGIN:VEVENT
DTSTART;TZID=UTC:20260708T160000
DTEND;TZID=UTC:20260708T180000
DTSTAMP:20260422T220751
CREATED:20240923T195910Z
LAST-MODIFIED:20240923T195910Z
UID:10003528-1783526400-1783533600@leatherbackbrewing.com
SUMMARY:St. Croix Happy Hour
DESCRIPTION:Join us for Happy Hour 4:00pm – 6:00pm with $5 Flagship Beers and $10 Wings!
URL:https://leatherbackbrewing.com/event/st-croix-happy-hour-2/2026-07-08/
CATEGORIES:Specials
ATTACH;FMTTYPE=image/jpeg:https://leatherbackbrewing.com/wp-content/uploads/2024/09/Happy-Hour.jpg
END:VEVENT
BEGIN:VEVENT
DTSTART;TZID=UTC:20260713T160000
DTEND;TZID=UTC:20260713T180000
DTSTAMP:20260422T220751
CREATED:20240923T195910Z
LAST-MODIFIED:20240923T195910Z
UID:10003529-1783958400-1783965600@leatherbackbrewing.com
SUMMARY:St. Croix Happy Hour
DESCRIPTION:Join us for Happy Hour 4:00pm – 6:00pm with $5 Flagship Beers and $10 Wings!
URL:https://leatherbackbrewing.com/event/st-croix-happy-hour-2/2026-07-13/
CATEGORIES:Specials
ATTACH;FMTTYPE=image/jpeg:https://leatherbackbrewing.com/wp-content/uploads/2024/09/Happy-Hour.jpg
END:VEVENT
BEGIN:VEVENT
DTSTART;TZID=UTC:20260714T160000
DTEND;TZID=UTC:20260714T180000
DTSTAMP:20260422T220751
CREATED:20240923T195910Z
LAST-MODIFIED:20240923T195910Z
UID:10003530-1784044800-1784052000@leatherbackbrewing.com
SUMMARY:St. Croix Happy Hour
DESCRIPTION:Join us for Happy Hour 4:00pm – 6:00pm with $5 Flagship Beers and $10 Wings!
URL:https://leatherbackbrewing.com/event/st-croix-happy-hour-2/2026-07-14/
CATEGORIES:Specials
ATTACH;FMTTYPE=image/jpeg:https://leatherbackbrewing.com/wp-content/uploads/2024/09/Happy-Hour.jpg
END:VEVENT
BEGIN:VEVENT
DTSTART;TZID=UTC:20260715T160000
DTEND;TZID=UTC:20260715T180000
DTSTAMP:20260422T220751
CREATED:20240923T195910Z
LAST-MODIFIED:20240923T195910Z
UID:10003531-1784131200-1784138400@leatherbackbrewing.com
SUMMARY:St. Croix Happy Hour
DESCRIPTION:Join us for Happy Hour 4:00pm – 6:00pm with $5 Flagship Beers and $10 Wings!
URL:https://leatherbackbrewing.com/event/st-croix-happy-hour-2/2026-07-15/
CATEGORIES:Specials
ATTACH;FMTTYPE=image/jpeg:https://leatherbackbrewing.com/wp-content/uploads/2024/09/Happy-Hour.jpg
END:VEVENT
BEGIN:VEVENT
DTSTART;TZID=UTC:20260720T160000
DTEND;TZID=UTC:20260720T180000
DTSTAMP:20260422T220751
CREATED:20240923T195910Z
LAST-MODIFIED:20240923T195910Z
UID:10003532-1784563200-1784570400@leatherbackbrewing.com
SUMMARY:St. Croix Happy Hour
DESCRIPTION:Join us for Happy Hour 4:00pm – 6:00pm with $5 Flagship Beers and $10 Wings!
URL:https://leatherbackbrewing.com/event/st-croix-happy-hour-2/2026-07-20/
CATEGORIES:Specials
ATTACH;FMTTYPE=image/jpeg:https://leatherbackbrewing.com/wp-content/uploads/2024/09/Happy-Hour.jpg
END:VEVENT
BEGIN:VEVENT
DTSTART;TZID=UTC:20260721T160000
DTEND;TZID=UTC:20260721T180000
DTSTAMP:20260422T220751
CREATED:20240923T195910Z
LAST-MODIFIED:20240923T195910Z
UID:10003533-1784649600-1784656800@leatherbackbrewing.com
SUMMARY:St. Croix Happy Hour
DESCRIPTION:Join us for Happy Hour 4:00pm – 6:00pm with $5 Flagship Beers and $10 Wings!
URL:https://leatherbackbrewing.com/event/st-croix-happy-hour-2/2026-07-21/
CATEGORIES:Specials
ATTACH;FMTTYPE=image/jpeg:https://leatherbackbrewing.com/wp-content/uploads/2024/09/Happy-Hour.jpg
END:VEVENT
BEGIN:VEVENT
DTSTART;TZID=UTC:20260722T160000
DTEND;TZID=UTC:20260722T180000
DTSTAMP:20260422T220751
CREATED:20240923T195910Z
LAST-MODIFIED:20240923T195910Z
UID:10003534-1784736000-1784743200@leatherbackbrewing.com
SUMMARY:St. Croix Happy Hour
DESCRIPTION:Join us for Happy Hour 4:00pm – 6:00pm with $5 Flagship Beers and $10 Wings!
URL:https://leatherbackbrewing.com/event/st-croix-happy-hour-2/2026-07-22/
CATEGORIES:Specials
ATTACH;FMTTYPE=image/jpeg:https://leatherbackbrewing.com/wp-content/uploads/2024/09/Happy-Hour.jpg
END:VEVENT
BEGIN:VEVENT
DTSTART;TZID=UTC:20260727T160000
DTEND;TZID=UTC:20260727T180000
DTSTAMP:20260422T220751
CREATED:20240923T195910Z
LAST-MODIFIED:20240923T195910Z
UID:10003535-1785168000-1785175200@leatherbackbrewing.com
SUMMARY:St. Croix Happy Hour
DESCRIPTION:Join us for Happy Hour 4:00pm – 6:00pm with $5 Flagship Beers and $10 Wings!
URL:https://leatherbackbrewing.com/event/st-croix-happy-hour-2/2026-07-27/
CATEGORIES:Specials
ATTACH;FMTTYPE=image/jpeg:https://leatherbackbrewing.com/wp-content/uploads/2024/09/Happy-Hour.jpg
END:VEVENT
BEGIN:VEVENT
DTSTART;TZID=UTC:20260728T160000
DTEND;TZID=UTC:20260728T180000
DTSTAMP:20260422T220751
CREATED:20240923T195910Z
LAST-MODIFIED:20240923T195910Z
UID:10003536-1785254400-1785261600@leatherbackbrewing.com
SUMMARY:St. Croix Happy Hour
DESCRIPTION:Join us for Happy Hour 4:00pm – 6:00pm with $5 Flagship Beers and $10 Wings!
URL:https://leatherbackbrewing.com/event/st-croix-happy-hour-2/2026-07-28/
CATEGORIES:Specials
ATTACH;FMTTYPE=image/jpeg:https://leatherbackbrewing.com/wp-content/uploads/2024/09/Happy-Hour.jpg
END:VEVENT
BEGIN:VEVENT
DTSTART;TZID=UTC:20260729T160000
DTEND;TZID=UTC:20260729T180000
DTSTAMP:20260422T220751
CREATED:20240923T195910Z
LAST-MODIFIED:20240923T195910Z
UID:10003537-1785340800-1785348000@leatherbackbrewing.com
SUMMARY:St. Croix Happy Hour
DESCRIPTION:Join us for Happy Hour 4:00pm – 6:00pm with $5 Flagship Beers and $10 Wings!
URL:https://leatherbackbrewing.com/event/st-croix-happy-hour-2/2026-07-29/
CATEGORIES:Specials
ATTACH;FMTTYPE=image/jpeg:https://leatherbackbrewing.com/wp-content/uploads/2024/09/Happy-Hour.jpg
END:VEVENT
BEGIN:VEVENT
DTSTART;TZID=UTC:20260803T160000
DTEND;TZID=UTC:20260803T180000
DTSTAMP:20260422T220751
CREATED:20240923T195910Z
LAST-MODIFIED:20240923T195910Z
UID:10003538-1785772800-1785780000@leatherbackbrewing.com
SUMMARY:St. Croix Happy Hour
DESCRIPTION:Join us for Happy Hour 4:00pm – 6:00pm with $5 Flagship Beers and $10 Wings!
URL:https://leatherbackbrewing.com/event/st-croix-happy-hour-2/2026-08-03/
CATEGORIES:Specials
ATTACH;FMTTYPE=image/jpeg:https://leatherbackbrewing.com/wp-content/uploads/2024/09/Happy-Hour.jpg
END:VEVENT
BEGIN:VEVENT
DTSTART;TZID=UTC:20260804T160000
DTEND;TZID=UTC:20260804T180000
DTSTAMP:20260422T220751
CREATED:20240923T195910Z
LAST-MODIFIED:20240923T195910Z
UID:10003539-1785859200-1785866400@leatherbackbrewing.com
SUMMARY:St. Croix Happy Hour
DESCRIPTION:Join us for Happy Hour 4:00pm – 6:00pm with $5 Flagship Beers and $10 Wings!
URL:https://leatherbackbrewing.com/event/st-croix-happy-hour-2/2026-08-04/
CATEGORIES:Specials
ATTACH;FMTTYPE=image/jpeg:https://leatherbackbrewing.com/wp-content/uploads/2024/09/Happy-Hour.jpg
END:VEVENT
BEGIN:VEVENT
DTSTART;TZID=UTC:20260805T160000
DTEND;TZID=UTC:20260805T180000
DTSTAMP:20260422T220751
CREATED:20240923T195910Z
LAST-MODIFIED:20240923T195910Z
UID:10003540-1785945600-1785952800@leatherbackbrewing.com
SUMMARY:St. Croix Happy Hour
DESCRIPTION:Join us for Happy Hour 4:00pm – 6:00pm with $5 Flagship Beers and $10 Wings!
URL:https://leatherbackbrewing.com/event/st-croix-happy-hour-2/2026-08-05/
CATEGORIES:Specials
ATTACH;FMTTYPE=image/jpeg:https://leatherbackbrewing.com/wp-content/uploads/2024/09/Happy-Hour.jpg
END:VEVENT
BEGIN:VEVENT
DTSTART;TZID=UTC:20260810T160000
DTEND;TZID=UTC:20260810T180000
DTSTAMP:20260422T220751
CREATED:20240923T195910Z
LAST-MODIFIED:20240923T195910Z
UID:10003541-1786377600-1786384800@leatherbackbrewing.com
SUMMARY:St. Croix Happy Hour
DESCRIPTION:Join us for Happy Hour 4:00pm – 6:00pm with $5 Flagship Beers and $10 Wings!
URL:https://leatherbackbrewing.com/event/st-croix-happy-hour-2/2026-08-10/
CATEGORIES:Specials
ATTACH;FMTTYPE=image/jpeg:https://leatherbackbrewing.com/wp-content/uploads/2024/09/Happy-Hour.jpg
END:VEVENT
BEGIN:VEVENT
DTSTART;TZID=UTC:20260811T160000
DTEND;TZID=UTC:20260811T180000
DTSTAMP:20260422T220751
CREATED:20240923T195910Z
LAST-MODIFIED:20240923T195910Z
UID:10003542-1786464000-1786471200@leatherbackbrewing.com
SUMMARY:St. Croix Happy Hour
DESCRIPTION:Join us for Happy Hour 4:00pm – 6:00pm with $5 Flagship Beers and $10 Wings!
URL:https://leatherbackbrewing.com/event/st-croix-happy-hour-2/2026-08-11/
CATEGORIES:Specials
ATTACH;FMTTYPE=image/jpeg:https://leatherbackbrewing.com/wp-content/uploads/2024/09/Happy-Hour.jpg
END:VEVENT
BEGIN:VEVENT
DTSTART;TZID=UTC:20260812T160000
DTEND;TZID=UTC:20260812T180000
DTSTAMP:20260422T220751
CREATED:20240923T195910Z
LAST-MODIFIED:20240923T195910Z
UID:10003543-1786550400-1786557600@leatherbackbrewing.com
SUMMARY:St. Croix Happy Hour
DESCRIPTION:Join us for Happy Hour 4:00pm – 6:00pm with $5 Flagship Beers and $10 Wings!
URL:https://leatherbackbrewing.com/event/st-croix-happy-hour-2/2026-08-12/
CATEGORIES:Specials
ATTACH;FMTTYPE=image/jpeg:https://leatherbackbrewing.com/wp-content/uploads/2024/09/Happy-Hour.jpg
END:VEVENT
BEGIN:VEVENT
DTSTART;TZID=UTC:20260817T160000
DTEND;TZID=UTC:20260817T180000
DTSTAMP:20260422T220751
CREATED:20240923T195910Z
LAST-MODIFIED:20240923T195910Z
UID:10003544-1786982400-1786989600@leatherbackbrewing.com
SUMMARY:St. Croix Happy Hour
DESCRIPTION:Join us for Happy Hour 4:00pm – 6:00pm with $5 Flagship Beers and $10 Wings!
URL:https://leatherbackbrewing.com/event/st-croix-happy-hour-2/2026-08-17/
CATEGORIES:Specials
ATTACH;FMTTYPE=image/jpeg:https://leatherbackbrewing.com/wp-content/uploads/2024/09/Happy-Hour.jpg
END:VEVENT
BEGIN:VEVENT
DTSTART;TZID=UTC:20260818T160000
DTEND;TZID=UTC:20260818T180000
DTSTAMP:20260422T220751
CREATED:20240923T195910Z
LAST-MODIFIED:20240923T195910Z
UID:10003545-1787068800-1787076000@leatherbackbrewing.com
SUMMARY:St. Croix Happy Hour
DESCRIPTION:Join us for Happy Hour 4:00pm – 6:00pm with $5 Flagship Beers and $10 Wings!
URL:https://leatherbackbrewing.com/event/st-croix-happy-hour-2/2026-08-18/
CATEGORIES:Specials
ATTACH;FMTTYPE=image/jpeg:https://leatherbackbrewing.com/wp-content/uploads/2024/09/Happy-Hour.jpg
END:VEVENT
BEGIN:VEVENT
DTSTART;TZID=UTC:20260819T160000
DTEND;TZID=UTC:20260819T180000
DTSTAMP:20260422T220751
CREATED:20240923T195910Z
LAST-MODIFIED:20240923T195910Z
UID:10003546-1787155200-1787162400@leatherbackbrewing.com
SUMMARY:St. Croix Happy Hour
DESCRIPTION:Join us for Happy Hour 4:00pm – 6:00pm with $5 Flagship Beers and $10 Wings!
URL:https://leatherbackbrewing.com/event/st-croix-happy-hour-2/2026-08-19/
CATEGORIES:Specials
ATTACH;FMTTYPE=image/jpeg:https://leatherbackbrewing.com/wp-content/uploads/2024/09/Happy-Hour.jpg
END:VEVENT
BEGIN:VEVENT
DTSTART;TZID=UTC:20260824T160000
DTEND;TZID=UTC:20260824T180000
DTSTAMP:20260422T220751
CREATED:20240923T195910Z
LAST-MODIFIED:20240923T195910Z
UID:10003547-1787587200-1787594400@leatherbackbrewing.com
SUMMARY:St. Croix Happy Hour
DESCRIPTION:Join us for Happy Hour 4:00pm – 6:00pm with $5 Flagship Beers and $10 Wings!
URL:https://leatherbackbrewing.com/event/st-croix-happy-hour-2/2026-08-24/
CATEGORIES:Specials
ATTACH;FMTTYPE=image/jpeg:https://leatherbackbrewing.com/wp-content/uploads/2024/09/Happy-Hour.jpg
END:VEVENT
BEGIN:VEVENT
DTSTART;TZID=UTC:20260825T160000
DTEND;TZID=UTC:20260825T180000
DTSTAMP:20260422T220751
CREATED:20240923T195910Z
LAST-MODIFIED:20240923T195910Z
UID:10003548-1787673600-1787680800@leatherbackbrewing.com
SUMMARY:St. Croix Happy Hour
DESCRIPTION:Join us for Happy Hour 4:00pm – 6:00pm with $5 Flagship Beers and $10 Wings!
URL:https://leatherbackbrewing.com/event/st-croix-happy-hour-2/2026-08-25/
CATEGORIES:Specials
ATTACH;FMTTYPE=image/jpeg:https://leatherbackbrewing.com/wp-content/uploads/2024/09/Happy-Hour.jpg
END:VEVENT
BEGIN:VEVENT
DTSTART;TZID=UTC:20260826T160000
DTEND;TZID=UTC:20260826T180000
DTSTAMP:20260422T220751
CREATED:20240923T195910Z
LAST-MODIFIED:20240923T195910Z
UID:10003549-1787760000-1787767200@leatherbackbrewing.com
SUMMARY:St. Croix Happy Hour
DESCRIPTION:Join us for Happy Hour 4:00pm – 6:00pm with $5 Flagship Beers and $10 Wings!
URL:https://leatherbackbrewing.com/event/st-croix-happy-hour-2/2026-08-26/
CATEGORIES:Specials
ATTACH;FMTTYPE=image/jpeg:https://leatherbackbrewing.com/wp-content/uploads/2024/09/Happy-Hour.jpg
END:VEVENT
END:VCALENDAR