BEGIN:VCALENDAR
VERSION:2.0
PRODID:-//Leatherback Brewing - ECPv6.15.20//NONSGML v1.0//EN
CALSCALE:GREGORIAN
METHOD:PUBLISH
X-WR-CALNAME:Leatherback Brewing
X-ORIGINAL-URL:https://leatherbackbrewing.com
X-WR-CALDESC:Events for Leatherback Brewing
REFRESH-INTERVAL;VALUE=DURATION:PT1H
X-Robots-Tag:noindex
X-PUBLISHED-TTL:PT1H
BEGIN:VTIMEZONE
TZID:UTC
BEGIN:STANDARD
TZOFFSETFROM:+0000
TZOFFSETTO:+0000
TZNAME:UTC
DTSTART:20220101T000000
END:STANDARD
END:VTIMEZONE
BEGIN:VEVENT
DTSTART;TZID=UTC:20240706T184500
DTEND;TZID=UTC:20240706T203000
DTSTAMP:20260423T182800
CREATED:20240322T204739Z
LAST-MODIFIED:20240529T203805Z
UID:10003182-1720291500-1720297800@leatherbackbrewing.com
SUMMARY:St. Croix- Movie Night
DESCRIPTION:Bring the whole family to Leatherback to watch a movie under the stars! \nWe’ll be serving craft beer and cocktails along with our regular menu! \nCome early to get a table outside or bring your own chairs or blankets. \nCheck our Facebook page to find this month’s movie!
URL:https://leatherbackbrewing.com/event/st-croix-movie-night-2/2024-07-06/
LOCATION:Leatherback Brewing Company- St. Croix
CATEGORIES:Family Fun,movie
ATTACH;FMTTYPE=image/png:https://leatherbackbrewing.com/wp-content/uploads/2024/03/Movie-Night.png
END:VEVENT
BEGIN:VEVENT
DTSTART;TZID=UTC:20240705T173000
DTEND;TZID=UTC:20240705T193000
DTSTAMP:20260423T182800
CREATED:20240322T203444Z
LAST-MODIFIED:20240322T203621Z
UID:10002906-1720200600-1720207800@leatherbackbrewing.com
SUMMARY:St. Croix- Crab Races
DESCRIPTION:Join us for Crab Races with Tito & Sue! \nCheer on your crab while enjoying your favorite Leatherback brew or a cocktail! Bring the while family for some pizza and fun! \nCrabs available starting at 5:30. Arrive early to get a good seat!
URL:https://leatherbackbrewing.com/event/tito-sue-crab-races/2024-07-05/
LOCATION:Leatherback Brewing Company- St. Croix
CATEGORIES:Family Fun
ATTACH;FMTTYPE=image/png:https://leatherbackbrewing.com/wp-content/uploads/2024/03/Carb-Races.png
END:VEVENT
BEGIN:VEVENT
DTSTART;TZID=UTC:20240628T173000
DTEND;TZID=UTC:20240628T193000
DTSTAMP:20260423T182800
CREATED:20240322T203444Z
LAST-MODIFIED:20240322T203621Z
UID:10002905-1719595800-1719603000@leatherbackbrewing.com
SUMMARY:St. Croix- Crab Races
DESCRIPTION:Join us for Crab Races with Tito & Sue! \nCheer on your crab while enjoying your favorite Leatherback brew or a cocktail! Bring the while family for some pizza and fun! \nCrabs available starting at 5:30. Arrive early to get a good seat!
URL:https://leatherbackbrewing.com/event/tito-sue-crab-races/2024-06-28/
LOCATION:Leatherback Brewing Company- St. Croix
CATEGORIES:Family Fun
ATTACH;FMTTYPE=image/png:https://leatherbackbrewing.com/wp-content/uploads/2024/03/Carb-Races.png
END:VEVENT
BEGIN:VEVENT
DTSTART;TZID=UTC:20240621T173000
DTEND;TZID=UTC:20240621T193000
DTSTAMP:20260423T182800
CREATED:20240322T203444Z
LAST-MODIFIED:20240322T203621Z
UID:10002904-1718991000-1718998200@leatherbackbrewing.com
SUMMARY:St. Croix- Crab Races
DESCRIPTION:Join us for Crab Races with Tito & Sue! \nCheer on your crab while enjoying your favorite Leatherback brew or a cocktail! Bring the while family for some pizza and fun! \nCrabs available starting at 5:30. Arrive early to get a good seat!
URL:https://leatherbackbrewing.com/event/tito-sue-crab-races/2024-06-21/
LOCATION:Leatherback Brewing Company- St. Croix
CATEGORIES:Family Fun
ATTACH;FMTTYPE=image/png:https://leatherbackbrewing.com/wp-content/uploads/2024/03/Carb-Races.png
END:VEVENT
BEGIN:VEVENT
DTSTART;TZID=UTC:20240614T173000
DTEND;TZID=UTC:20240614T193000
DTSTAMP:20260423T182800
CREATED:20240322T203444Z
LAST-MODIFIED:20240322T203621Z
UID:10002903-1718386200-1718393400@leatherbackbrewing.com
SUMMARY:St. Croix- Crab Races
DESCRIPTION:Join us for Crab Races with Tito & Sue! \nCheer on your crab while enjoying your favorite Leatherback brew or a cocktail! Bring the while family for some pizza and fun! \nCrabs available starting at 5:30. Arrive early to get a good seat!
URL:https://leatherbackbrewing.com/event/tito-sue-crab-races/2024-06-14/
LOCATION:Leatherback Brewing Company- St. Croix
CATEGORIES:Family Fun
ATTACH;FMTTYPE=image/png:https://leatherbackbrewing.com/wp-content/uploads/2024/03/Carb-Races.png
END:VEVENT
BEGIN:VEVENT
DTSTART;TZID=UTC:20240611T180000
DTEND;TZID=UTC:20240611T210000
DTSTAMP:20260423T182800
CREATED:20240529T203244Z
LAST-MODIFIED:20240529T204116Z
UID:10001076-1718128800-1718139600@leatherbackbrewing.com
SUMMARY:St. Croix- Trivia Tuesday
DESCRIPTION:Test your knowledge at our weekly Trivia Night every Tuesday. We highly encourage you to arrive early to get a table for your team which can consist of 6 people or less. There will be prizes each round and a prize for first and second place. It is free to play!\nHappy hour from 4pm-6pm
URL:https://leatherbackbrewing.com/event/trivia-tuesday/
LOCATION:Leatherback Brewing Company- St. Croix
CATEGORIES:Family Fun
ATTACH;FMTTYPE=image/png:https://leatherbackbrewing.com/wp-content/uploads/2024/05/Trivia-Tuesday.png
END:VEVENT
BEGIN:VEVENT
DTSTART;TZID=UTC:20240607T173000
DTEND;TZID=UTC:20240607T193000
DTSTAMP:20260423T182800
CREATED:20240322T203444Z
LAST-MODIFIED:20240322T203621Z
UID:10002902-1717781400-1717788600@leatherbackbrewing.com
SUMMARY:St. Croix- Crab Races
DESCRIPTION:Join us for Crab Races with Tito & Sue! \nCheer on your crab while enjoying your favorite Leatherback brew or a cocktail! Bring the while family for some pizza and fun! \nCrabs available starting at 5:30. Arrive early to get a good seat!
URL:https://leatherbackbrewing.com/event/tito-sue-crab-races/2024-06-07/
LOCATION:Leatherback Brewing Company- St. Croix
CATEGORIES:Family Fun
ATTACH;FMTTYPE=image/png:https://leatherbackbrewing.com/wp-content/uploads/2024/03/Carb-Races.png
END:VEVENT
BEGIN:VEVENT
DTSTART;TZID=UTC:20240601T184500
DTEND;TZID=UTC:20240601T203000
DTSTAMP:20260423T182800
CREATED:20240322T204739Z
LAST-MODIFIED:20240529T203805Z
UID:10003181-1717267500-1717273800@leatherbackbrewing.com
SUMMARY:St. Croix- Movie Night
DESCRIPTION:Bring the whole family to Leatherback to watch a movie under the stars! \nWe’ll be serving craft beer and cocktails along with our regular menu! \nCome early to get a table outside or bring your own chairs or blankets. \nCheck our Facebook page to find this month’s movie!
URL:https://leatherbackbrewing.com/event/st-croix-movie-night-2/2024-06-01/
LOCATION:Leatherback Brewing Company- St. Croix
CATEGORIES:Family Fun,movie
ATTACH;FMTTYPE=image/png:https://leatherbackbrewing.com/wp-content/uploads/2024/03/Movie-Night.png
END:VEVENT
BEGIN:VEVENT
DTSTART;TZID=UTC:20240531T173000
DTEND;TZID=UTC:20240531T193000
DTSTAMP:20260423T182800
CREATED:20240322T203444Z
LAST-MODIFIED:20240322T203621Z
UID:10002901-1717176600-1717183800@leatherbackbrewing.com
SUMMARY:St. Croix- Crab Races
DESCRIPTION:Join us for Crab Races with Tito & Sue! \nCheer on your crab while enjoying your favorite Leatherback brew or a cocktail! Bring the while family for some pizza and fun! \nCrabs available starting at 5:30. Arrive early to get a good seat!
URL:https://leatherbackbrewing.com/event/tito-sue-crab-races/2024-05-31/
LOCATION:Leatherback Brewing Company- St. Croix
CATEGORIES:Family Fun
ATTACH;FMTTYPE=image/png:https://leatherbackbrewing.com/wp-content/uploads/2024/03/Carb-Races.png
END:VEVENT
BEGIN:VEVENT
DTSTART;TZID=UTC:20240524T173000
DTEND;TZID=UTC:20240524T193000
DTSTAMP:20260423T182800
CREATED:20240322T203444Z
LAST-MODIFIED:20240322T203621Z
UID:10002900-1716571800-1716579000@leatherbackbrewing.com
SUMMARY:St. Croix- Crab Races
DESCRIPTION:Join us for Crab Races with Tito & Sue! \nCheer on your crab while enjoying your favorite Leatherback brew or a cocktail! Bring the while family for some pizza and fun! \nCrabs available starting at 5:30. Arrive early to get a good seat!
URL:https://leatherbackbrewing.com/event/tito-sue-crab-races/2024-05-24/
LOCATION:Leatherback Brewing Company- St. Croix
CATEGORIES:Family Fun
ATTACH;FMTTYPE=image/png:https://leatherbackbrewing.com/wp-content/uploads/2024/03/Carb-Races.png
END:VEVENT
BEGIN:VEVENT
DTSTART;TZID=UTC:20240517T173000
DTEND;TZID=UTC:20240517T193000
DTSTAMP:20260423T182800
CREATED:20240322T203444Z
LAST-MODIFIED:20240322T203621Z
UID:10002899-1715967000-1715974200@leatherbackbrewing.com
SUMMARY:St. Croix- Crab Races
DESCRIPTION:Join us for Crab Races with Tito & Sue! \nCheer on your crab while enjoying your favorite Leatherback brew or a cocktail! Bring the while family for some pizza and fun! \nCrabs available starting at 5:30. Arrive early to get a good seat!
URL:https://leatherbackbrewing.com/event/tito-sue-crab-races/2024-05-17/
LOCATION:Leatherback Brewing Company- St. Croix
CATEGORIES:Family Fun
ATTACH;FMTTYPE=image/png:https://leatherbackbrewing.com/wp-content/uploads/2024/03/Carb-Races.png
END:VEVENT
BEGIN:VEVENT
DTSTART;TZID=UTC:20240510T173000
DTEND;TZID=UTC:20240510T193000
DTSTAMP:20260423T182800
CREATED:20240322T203444Z
LAST-MODIFIED:20240322T203621Z
UID:10002898-1715362200-1715369400@leatherbackbrewing.com
SUMMARY:St. Croix- Crab Races
DESCRIPTION:Join us for Crab Races with Tito & Sue! \nCheer on your crab while enjoying your favorite Leatherback brew or a cocktail! Bring the while family for some pizza and fun! \nCrabs available starting at 5:30. Arrive early to get a good seat!
URL:https://leatherbackbrewing.com/event/tito-sue-crab-races/2024-05-10/
LOCATION:Leatherback Brewing Company- St. Croix
CATEGORIES:Family Fun
ATTACH;FMTTYPE=image/png:https://leatherbackbrewing.com/wp-content/uploads/2024/03/Carb-Races.png
END:VEVENT
BEGIN:VEVENT
DTSTART;TZID=UTC:20240504T184500
DTEND;TZID=UTC:20240504T203000
DTSTAMP:20260423T182800
CREATED:20240322T204739Z
LAST-MODIFIED:20240529T203805Z
UID:10003180-1714848300-1714854600@leatherbackbrewing.com
SUMMARY:St. Croix- Movie Night
DESCRIPTION:Bring the whole family to Leatherback to watch a movie under the stars! \nWe’ll be serving craft beer and cocktails along with our regular menu! \nCome early to get a table outside or bring your own chairs or blankets. \nCheck our Facebook page to find this month’s movie!
URL:https://leatherbackbrewing.com/event/st-croix-movie-night-2/2024-05-04/
LOCATION:Leatherback Brewing Company- St. Croix
CATEGORIES:Family Fun,movie
ATTACH;FMTTYPE=image/png:https://leatherbackbrewing.com/wp-content/uploads/2024/03/Movie-Night.png
END:VEVENT
BEGIN:VEVENT
DTSTART;TZID=UTC:20240503T173000
DTEND;TZID=UTC:20240503T193000
DTSTAMP:20260423T182800
CREATED:20240322T203444Z
LAST-MODIFIED:20240322T203621Z
UID:10002897-1714757400-1714764600@leatherbackbrewing.com
SUMMARY:St. Croix- Crab Races
DESCRIPTION:Join us for Crab Races with Tito & Sue! \nCheer on your crab while enjoying your favorite Leatherback brew or a cocktail! Bring the while family for some pizza and fun! \nCrabs available starting at 5:30. Arrive early to get a good seat!
URL:https://leatherbackbrewing.com/event/tito-sue-crab-races/2024-05-03/
LOCATION:Leatherback Brewing Company- St. Croix
CATEGORIES:Family Fun
ATTACH;FMTTYPE=image/png:https://leatherbackbrewing.com/wp-content/uploads/2024/03/Carb-Races.png
END:VEVENT
BEGIN:VEVENT
DTSTART;TZID=UTC:20240426T173000
DTEND;TZID=UTC:20240426T193000
DTSTAMP:20260423T182800
CREATED:20240322T203444Z
LAST-MODIFIED:20240322T203621Z
UID:10002896-1714152600-1714159800@leatherbackbrewing.com
SUMMARY:St. Croix- Crab Races
DESCRIPTION:Join us for Crab Races with Tito & Sue! \nCheer on your crab while enjoying your favorite Leatherback brew or a cocktail! Bring the while family for some pizza and fun! \nCrabs available starting at 5:30. Arrive early to get a good seat!
URL:https://leatherbackbrewing.com/event/tito-sue-crab-races/2024-04-26/
LOCATION:Leatherback Brewing Company- St. Croix
CATEGORIES:Family Fun
ATTACH;FMTTYPE=image/png:https://leatherbackbrewing.com/wp-content/uploads/2024/03/Carb-Races.png
END:VEVENT
BEGIN:VEVENT
DTSTART;TZID=UTC:20240419T173000
DTEND;TZID=UTC:20240419T193000
DTSTAMP:20260423T182800
CREATED:20240322T203444Z
LAST-MODIFIED:20240322T203621Z
UID:10002895-1713547800-1713555000@leatherbackbrewing.com
SUMMARY:St. Croix- Crab Races
DESCRIPTION:Join us for Crab Races with Tito & Sue! \nCheer on your crab while enjoying your favorite Leatherback brew or a cocktail! Bring the while family for some pizza and fun! \nCrabs available starting at 5:30. Arrive early to get a good seat!
URL:https://leatherbackbrewing.com/event/tito-sue-crab-races/2024-04-19/
LOCATION:Leatherback Brewing Company- St. Croix
CATEGORIES:Family Fun
ATTACH;FMTTYPE=image/png:https://leatherbackbrewing.com/wp-content/uploads/2024/03/Carb-Races.png
END:VEVENT
BEGIN:VEVENT
DTSTART;TZID=UTC:20240412T173000
DTEND;TZID=UTC:20240412T193000
DTSTAMP:20260423T182800
CREATED:20240322T203444Z
LAST-MODIFIED:20240322T203621Z
UID:10002894-1712943000-1712950200@leatherbackbrewing.com
SUMMARY:St. Croix- Crab Races
DESCRIPTION:Join us for Crab Races with Tito & Sue! \nCheer on your crab while enjoying your favorite Leatherback brew or a cocktail! Bring the while family for some pizza and fun! \nCrabs available starting at 5:30. Arrive early to get a good seat!
URL:https://leatherbackbrewing.com/event/tito-sue-crab-races/2024-04-12/
LOCATION:Leatherback Brewing Company- St. Croix
CATEGORIES:Family Fun
ATTACH;FMTTYPE=image/png:https://leatherbackbrewing.com/wp-content/uploads/2024/03/Carb-Races.png
END:VEVENT
BEGIN:VEVENT
DTSTART;TZID=UTC:20240406T184500
DTEND;TZID=UTC:20240406T203000
DTSTAMP:20260423T182800
CREATED:20240322T204739Z
LAST-MODIFIED:20240529T203805Z
UID:10003179-1712429100-1712435400@leatherbackbrewing.com
SUMMARY:St. Croix- Movie Night
DESCRIPTION:Bring the whole family to Leatherback to watch a movie under the stars! \nWe’ll be serving craft beer and cocktails along with our regular menu! \nCome early to get a table outside or bring your own chairs or blankets. \nCheck our Facebook page to find this month’s movie!
URL:https://leatherbackbrewing.com/event/st-croix-movie-night-2/2024-04-06/
LOCATION:Leatherback Brewing Company- St. Croix
CATEGORIES:Family Fun,movie
ATTACH;FMTTYPE=image/png:https://leatherbackbrewing.com/wp-content/uploads/2024/03/Movie-Night.png
END:VEVENT
BEGIN:VEVENT
DTSTART;TZID=UTC:20240405T173000
DTEND;TZID=UTC:20240405T193000
DTSTAMP:20260423T182800
CREATED:20240322T203444Z
LAST-MODIFIED:20240322T203621Z
UID:10002893-1712338200-1712345400@leatherbackbrewing.com
SUMMARY:St. Croix- Crab Races
DESCRIPTION:Join us for Crab Races with Tito & Sue! \nCheer on your crab while enjoying your favorite Leatherback brew or a cocktail! Bring the while family for some pizza and fun! \nCrabs available starting at 5:30. Arrive early to get a good seat!
URL:https://leatherbackbrewing.com/event/tito-sue-crab-races/2024-04-05/
LOCATION:Leatherback Brewing Company- St. Croix
CATEGORIES:Family Fun
ATTACH;FMTTYPE=image/png:https://leatherbackbrewing.com/wp-content/uploads/2024/03/Carb-Races.png
END:VEVENT
BEGIN:VEVENT
DTSTART;TZID=UTC:20240330T120000
DTEND;TZID=UTC:20240330T150000
DTSTAMP:20260423T182800
CREATED:20240326T134736Z
LAST-MODIFIED:20240326T134736Z
UID:10003245-1711800000-1711810800@leatherbackbrewing.com
SUMMARY:The Leatherback Easter Egg Hunt
DESCRIPTION:It’s time for another Easter Egg Hunt at Leatherback! Bring the whole family and don’t forget a basket to collect some eggs! The egg hunt will begin at noon\, PLUS we’ll have face painting and a special visit from the Easter Bunny!
URL:https://leatherbackbrewing.com/event/the-leatherback-easter-egg-hunt/
LOCATION:Leatherback Brewing Company- St. Croix
CATEGORIES:Family Fun
ATTACH;FMTTYPE=image/png:https://leatherbackbrewing.com/wp-content/uploads/2024/03/Egg-Hunt.png
END:VEVENT
BEGIN:VEVENT
DTSTART;TZID=UTC:20240329T173000
DTEND;TZID=UTC:20240329T193000
DTSTAMP:20260423T182800
CREATED:20240322T203444Z
LAST-MODIFIED:20240322T203621Z
UID:10002892-1711733400-1711740600@leatherbackbrewing.com
SUMMARY:St. Croix- Crab Races
DESCRIPTION:Join us for Crab Races with Tito & Sue! \nCheer on your crab while enjoying your favorite Leatherback brew or a cocktail! Bring the while family for some pizza and fun! \nCrabs available starting at 5:30. Arrive early to get a good seat!
URL:https://leatherbackbrewing.com/event/tito-sue-crab-races/2024-03-29/
LOCATION:Leatherback Brewing Company- St. Croix
CATEGORIES:Family Fun
ATTACH;FMTTYPE=image/png:https://leatherbackbrewing.com/wp-content/uploads/2024/03/Carb-Races.png
END:VEVENT
BEGIN:VEVENT
DTSTART;TZID=UTC:20240322T173000
DTEND;TZID=UTC:20240322T193000
DTSTAMP:20260423T182800
CREATED:20240322T203444Z
LAST-MODIFIED:20240322T203621Z
UID:10002891-1711128600-1711135800@leatherbackbrewing.com
SUMMARY:St. Croix- Crab Races
DESCRIPTION:Join us for Crab Races with Tito & Sue! \nCheer on your crab while enjoying your favorite Leatherback brew or a cocktail! Bring the while family for some pizza and fun! \nCrabs available starting at 5:30. Arrive early to get a good seat!
URL:https://leatherbackbrewing.com/event/tito-sue-crab-races/2024-03-22/
LOCATION:Leatherback Brewing Company- St. Croix
CATEGORIES:Family Fun
ATTACH;FMTTYPE=image/png:https://leatherbackbrewing.com/wp-content/uploads/2024/03/Carb-Races.png
END:VEVENT
BEGIN:VEVENT
DTSTART;TZID=UTC:20231229T170000
DTEND;TZID=UTC:20231229T200000
DTSTAMP:20260423T182800
CREATED:20221005T160714Z
LAST-MODIFIED:20221005T164126Z
UID:10002889-1703869200-1703880000@leatherbackbrewing.com
SUMMARY:St. Croix Live Music
DESCRIPTION:Check our Facebook page to see who is playing!
URL:https://leatherbackbrewing.com/event/st-croix-live-music/2023-12-29/
LOCATION:Leatherback Brewing Company- St. Croix
CATEGORIES:Live Music
ATTACH;FMTTYPE=application/pdf:https://leatherbackbrewing.com/wp-content/uploads/2022/10/LBB_LiveMusic_St.-Croix.pdf
END:VEVENT
BEGIN:VEVENT
DTSTART;TZID=UTC:20231225T113000
DTEND;TZID=UTC:20231225T200000
DTSTAMP:20260423T182800
CREATED:20210920T214536Z
LAST-MODIFIED:20221005T161137Z
UID:10002364-1703503800-1703534400@leatherbackbrewing.com
SUMMARY:St. Croix- LOVE Mondays!
DESCRIPTION:THREE Reasons to LOVE Mondays!\n\n1. A chance to set hte tone for the coming week.\n2. Another beautiful day of island life!\n3. A free pint of beer with the purchase of a large pizza at Leatherback Brewing Company! (Dine in only)
URL:https://leatherbackbrewing.com/event/lovemondays/2023-12-25/
LOCATION:Leatherback Brewing Company- St. Croix
CATEGORIES:Specials
ATTACH;FMTTYPE=image/jpeg:https://leatherbackbrewing.com/wp-content/uploads/2021/09/LBB_Mondays_Flyer-scaled.jpg
END:VEVENT
BEGIN:VEVENT
DTSTART;TZID=UTC:20231222T170000
DTEND;TZID=UTC:20231222T200000
DTSTAMP:20260423T182801
CREATED:20221005T160714Z
LAST-MODIFIED:20221005T164126Z
UID:10002888-1703264400-1703275200@leatherbackbrewing.com
SUMMARY:St. Croix Live Music
DESCRIPTION:Check our Facebook page to see who is playing!
URL:https://leatherbackbrewing.com/event/st-croix-live-music/2023-12-22/
LOCATION:Leatherback Brewing Company- St. Croix
CATEGORIES:Live Music
ATTACH;FMTTYPE=application/pdf:https://leatherbackbrewing.com/wp-content/uploads/2022/10/LBB_LiveMusic_St.-Croix.pdf
END:VEVENT
BEGIN:VEVENT
DTSTART;TZID=UTC:20231218T113000
DTEND;TZID=UTC:20231218T200000
DTSTAMP:20260423T182801
CREATED:20210920T214536Z
LAST-MODIFIED:20221005T161137Z
UID:10002363-1702899000-1702929600@leatherbackbrewing.com
SUMMARY:St. Croix- LOVE Mondays!
DESCRIPTION:THREE Reasons to LOVE Mondays!\n\n1. A chance to set hte tone for the coming week.\n2. Another beautiful day of island life!\n3. A free pint of beer with the purchase of a large pizza at Leatherback Brewing Company! (Dine in only)
URL:https://leatherbackbrewing.com/event/lovemondays/2023-12-18/
LOCATION:Leatherback Brewing Company- St. Croix
CATEGORIES:Specials
ATTACH;FMTTYPE=image/jpeg:https://leatherbackbrewing.com/wp-content/uploads/2021/09/LBB_Mondays_Flyer-scaled.jpg
END:VEVENT
BEGIN:VEVENT
DTSTART;TZID=UTC:20231215T170000
DTEND;TZID=UTC:20231215T200000
DTSTAMP:20260423T182801
CREATED:20221005T160714Z
LAST-MODIFIED:20221005T164126Z
UID:10002887-1702659600-1702670400@leatherbackbrewing.com
SUMMARY:St. Croix Live Music
DESCRIPTION:Check our Facebook page to see who is playing!
URL:https://leatherbackbrewing.com/event/st-croix-live-music/2023-12-15/
LOCATION:Leatherback Brewing Company- St. Croix
CATEGORIES:Live Music
ATTACH;FMTTYPE=application/pdf:https://leatherbackbrewing.com/wp-content/uploads/2022/10/LBB_LiveMusic_St.-Croix.pdf
END:VEVENT
BEGIN:VEVENT
DTSTART;TZID=UTC:20231211T113000
DTEND;TZID=UTC:20231211T200000
DTSTAMP:20260423T182801
CREATED:20210920T214536Z
LAST-MODIFIED:20221005T161137Z
UID:10002362-1702294200-1702324800@leatherbackbrewing.com
SUMMARY:St. Croix- LOVE Mondays!
DESCRIPTION:THREE Reasons to LOVE Mondays!\n\n1. A chance to set hte tone for the coming week.\n2. Another beautiful day of island life!\n3. A free pint of beer with the purchase of a large pizza at Leatherback Brewing Company! (Dine in only)
URL:https://leatherbackbrewing.com/event/lovemondays/2023-12-11/
LOCATION:Leatherback Brewing Company- St. Croix
CATEGORIES:Specials
ATTACH;FMTTYPE=image/jpeg:https://leatherbackbrewing.com/wp-content/uploads/2021/09/LBB_Mondays_Flyer-scaled.jpg
END:VEVENT
BEGIN:VEVENT
DTSTART;TZID=UTC:20231208T170000
DTEND;TZID=UTC:20231208T200000
DTSTAMP:20260423T182801
CREATED:20221005T160714Z
LAST-MODIFIED:20221005T164126Z
UID:10002886-1702054800-1702065600@leatherbackbrewing.com
SUMMARY:St. Croix Live Music
DESCRIPTION:Check our Facebook page to see who is playing!
URL:https://leatherbackbrewing.com/event/st-croix-live-music/2023-12-08/
LOCATION:Leatherback Brewing Company- St. Croix
CATEGORIES:Live Music
ATTACH;FMTTYPE=application/pdf:https://leatherbackbrewing.com/wp-content/uploads/2022/10/LBB_LiveMusic_St.-Croix.pdf
END:VEVENT
BEGIN:VEVENT
DTSTART;TZID=UTC:20231204T113000
DTEND;TZID=UTC:20231204T200000
DTSTAMP:20260423T182801
CREATED:20210920T214536Z
LAST-MODIFIED:20221005T161137Z
UID:10002361-1701689400-1701720000@leatherbackbrewing.com
SUMMARY:St. Croix- LOVE Mondays!
DESCRIPTION:THREE Reasons to LOVE Mondays!\n\n1. A chance to set hte tone for the coming week.\n2. Another beautiful day of island life!\n3. A free pint of beer with the purchase of a large pizza at Leatherback Brewing Company! (Dine in only)
URL:https://leatherbackbrewing.com/event/lovemondays/2023-12-04/
LOCATION:Leatherback Brewing Company- St. Croix
CATEGORIES:Specials
ATTACH;FMTTYPE=image/jpeg:https://leatherbackbrewing.com/wp-content/uploads/2021/09/LBB_Mondays_Flyer-scaled.jpg
END:VEVENT
END:VCALENDAR