BEGIN:VCALENDAR
VERSION:2.0
PRODID:-//Leatherback Brewing - ECPv6.15.20//NONSGML v1.0//EN
CALSCALE:GREGORIAN
METHOD:PUBLISH
X-ORIGINAL-URL:https://leatherbackbrewing.com
X-WR-CALDESC:Events for Leatherback Brewing
REFRESH-INTERVAL;VALUE=DURATION:PT1H
X-Robots-Tag:noindex
X-PUBLISHED-TTL:PT1H
BEGIN:VTIMEZONE
TZID:UTC
BEGIN:STANDARD
TZOFFSETFROM:+0000
TZOFFSETTO:+0000
TZNAME:UTC
DTSTART:20230101T000000
END:STANDARD
END:VTIMEZONE
BEGIN:VEVENT
DTSTART;TZID=UTC:20241104T160000
DTEND;TZID=UTC:20241104T180000
DTSTAMP:20260423T071908
CREATED:20240923T195910Z
LAST-MODIFIED:20240923T195910Z
UID:10003265-1730736000-1730743200@leatherbackbrewing.com
SUMMARY:St. Croix Happy Hour
DESCRIPTION:Join us for Happy Hour 4:00pm – 6:00pm with $5 Flagship Beers and $10 Wings!
URL:https://leatherbackbrewing.com/event/st-croix-happy-hour-2/2024-11-04/
CATEGORIES:Specials
ATTACH;FMTTYPE=image/jpeg:https://leatherbackbrewing.com/wp-content/uploads/2024/09/Happy-Hour.jpg
END:VEVENT
BEGIN:VEVENT
DTSTART;TZID=UTC:20241105T160000
DTEND;TZID=UTC:20241105T180000
DTSTAMP:20260423T071908
CREATED:20240923T195910Z
LAST-MODIFIED:20240923T195910Z
UID:10003266-1730822400-1730829600@leatherbackbrewing.com
SUMMARY:St. Croix Happy Hour
DESCRIPTION:Join us for Happy Hour 4:00pm – 6:00pm with $5 Flagship Beers and $10 Wings!
URL:https://leatherbackbrewing.com/event/st-croix-happy-hour-2/2024-11-05/
CATEGORIES:Specials
ATTACH;FMTTYPE=image/jpeg:https://leatherbackbrewing.com/wp-content/uploads/2024/09/Happy-Hour.jpg
END:VEVENT
BEGIN:VEVENT
DTSTART;TZID=UTC:20241106T160000
DTEND;TZID=UTC:20241106T180000
DTSTAMP:20260423T071908
CREATED:20240923T195910Z
LAST-MODIFIED:20240923T195910Z
UID:10003267-1730908800-1730916000@leatherbackbrewing.com
SUMMARY:St. Croix Happy Hour
DESCRIPTION:Join us for Happy Hour 4:00pm – 6:00pm with $5 Flagship Beers and $10 Wings!
URL:https://leatherbackbrewing.com/event/st-croix-happy-hour-2/2024-11-06/
CATEGORIES:Specials
ATTACH;FMTTYPE=image/jpeg:https://leatherbackbrewing.com/wp-content/uploads/2024/09/Happy-Hour.jpg
END:VEVENT
BEGIN:VEVENT
DTSTART;TZID=UTC:20241108T173000
DTEND;TZID=UTC:20241108T193000
DTSTAMP:20260423T071908
CREATED:20240322T203444Z
LAST-MODIFIED:20240322T203621Z
UID:10002924-1731087000-1731094200@leatherbackbrewing.com
SUMMARY:St. Croix- Crab Races
DESCRIPTION:Join us for Crab Races with Tito & Sue! \nCheer on your crab while enjoying your favorite Leatherback brew or a cocktail! Bring the while family for some pizza and fun! \nCrabs available starting at 5:30. Arrive early to get a good seat!
URL:https://leatherbackbrewing.com/event/tito-sue-crab-races/2024-11-08/
LOCATION:Leatherback Brewing Company- St. Croix
CATEGORIES:Family Fun
ATTACH;FMTTYPE=image/png:https://leatherbackbrewing.com/wp-content/uploads/2024/03/Carb-Races.png
END:VEVENT
BEGIN:VEVENT
DTSTART;TZID=UTC:20241111T160000
DTEND;TZID=UTC:20241111T180000
DTSTAMP:20260423T071908
CREATED:20240923T195910Z
LAST-MODIFIED:20240923T195910Z
UID:10003268-1731340800-1731348000@leatherbackbrewing.com
SUMMARY:St. Croix Happy Hour
DESCRIPTION:Join us for Happy Hour 4:00pm – 6:00pm with $5 Flagship Beers and $10 Wings!
URL:https://leatherbackbrewing.com/event/st-croix-happy-hour-2/2024-11-11/
CATEGORIES:Specials
ATTACH;FMTTYPE=image/jpeg:https://leatherbackbrewing.com/wp-content/uploads/2024/09/Happy-Hour.jpg
END:VEVENT
BEGIN:VEVENT
DTSTART;TZID=UTC:20241112T160000
DTEND;TZID=UTC:20241112T180000
DTSTAMP:20260423T071908
CREATED:20240923T195910Z
LAST-MODIFIED:20240923T195910Z
UID:10003269-1731427200-1731434400@leatherbackbrewing.com
SUMMARY:St. Croix Happy Hour
DESCRIPTION:Join us for Happy Hour 4:00pm – 6:00pm with $5 Flagship Beers and $10 Wings!
URL:https://leatherbackbrewing.com/event/st-croix-happy-hour-2/2024-11-12/
CATEGORIES:Specials
ATTACH;FMTTYPE=image/jpeg:https://leatherbackbrewing.com/wp-content/uploads/2024/09/Happy-Hour.jpg
END:VEVENT
BEGIN:VEVENT
DTSTART;TZID=UTC:20241113T160000
DTEND;TZID=UTC:20241113T180000
DTSTAMP:20260423T071908
CREATED:20240923T195910Z
LAST-MODIFIED:20240923T195910Z
UID:10003270-1731513600-1731520800@leatherbackbrewing.com
SUMMARY:St. Croix Happy Hour
DESCRIPTION:Join us for Happy Hour 4:00pm – 6:00pm with $5 Flagship Beers and $10 Wings!
URL:https://leatherbackbrewing.com/event/st-croix-happy-hour-2/2024-11-13/
CATEGORIES:Specials
ATTACH;FMTTYPE=image/jpeg:https://leatherbackbrewing.com/wp-content/uploads/2024/09/Happy-Hour.jpg
END:VEVENT
BEGIN:VEVENT
DTSTART;TZID=UTC:20241115T173000
DTEND;TZID=UTC:20241115T193000
DTSTAMP:20260423T071908
CREATED:20240322T203444Z
LAST-MODIFIED:20240322T203621Z
UID:10002925-1731691800-1731699000@leatherbackbrewing.com
SUMMARY:St. Croix- Crab Races
DESCRIPTION:Join us for Crab Races with Tito & Sue! \nCheer on your crab while enjoying your favorite Leatherback brew or a cocktail! Bring the while family for some pizza and fun! \nCrabs available starting at 5:30. Arrive early to get a good seat!
URL:https://leatherbackbrewing.com/event/tito-sue-crab-races/2024-11-15/
LOCATION:Leatherback Brewing Company- St. Croix
CATEGORIES:Family Fun
ATTACH;FMTTYPE=image/png:https://leatherbackbrewing.com/wp-content/uploads/2024/03/Carb-Races.png
END:VEVENT
BEGIN:VEVENT
DTSTART;TZID=UTC:20241118T160000
DTEND;TZID=UTC:20241118T180000
DTSTAMP:20260423T071908
CREATED:20240923T195910Z
LAST-MODIFIED:20240923T195910Z
UID:10003271-1731945600-1731952800@leatherbackbrewing.com
SUMMARY:St. Croix Happy Hour
DESCRIPTION:Join us for Happy Hour 4:00pm – 6:00pm with $5 Flagship Beers and $10 Wings!
URL:https://leatherbackbrewing.com/event/st-croix-happy-hour-2/2024-11-18/
CATEGORIES:Specials
ATTACH;FMTTYPE=image/jpeg:https://leatherbackbrewing.com/wp-content/uploads/2024/09/Happy-Hour.jpg
END:VEVENT
BEGIN:VEVENT
DTSTART;TZID=UTC:20241119T160000
DTEND;TZID=UTC:20241119T180000
DTSTAMP:20260423T071908
CREATED:20240923T195910Z
LAST-MODIFIED:20240923T195910Z
UID:10003272-1732032000-1732039200@leatherbackbrewing.com
SUMMARY:St. Croix Happy Hour
DESCRIPTION:Join us for Happy Hour 4:00pm – 6:00pm with $5 Flagship Beers and $10 Wings!
URL:https://leatherbackbrewing.com/event/st-croix-happy-hour-2/2024-11-19/
CATEGORIES:Specials
ATTACH;FMTTYPE=image/jpeg:https://leatherbackbrewing.com/wp-content/uploads/2024/09/Happy-Hour.jpg
END:VEVENT
BEGIN:VEVENT
DTSTART;TZID=UTC:20241120T160000
DTEND;TZID=UTC:20241120T180000
DTSTAMP:20260423T071908
CREATED:20240923T195910Z
LAST-MODIFIED:20240923T195910Z
UID:10003273-1732118400-1732125600@leatherbackbrewing.com
SUMMARY:St. Croix Happy Hour
DESCRIPTION:Join us for Happy Hour 4:00pm – 6:00pm with $5 Flagship Beers and $10 Wings!
URL:https://leatherbackbrewing.com/event/st-croix-happy-hour-2/2024-11-20/
CATEGORIES:Specials
ATTACH;FMTTYPE=image/jpeg:https://leatherbackbrewing.com/wp-content/uploads/2024/09/Happy-Hour.jpg
END:VEVENT
BEGIN:VEVENT
DTSTART;TZID=UTC:20241122T173000
DTEND;TZID=UTC:20241122T193000
DTSTAMP:20260423T071908
CREATED:20240322T203444Z
LAST-MODIFIED:20240322T203621Z
UID:10002926-1732296600-1732303800@leatherbackbrewing.com
SUMMARY:St. Croix- Crab Races
DESCRIPTION:Join us for Crab Races with Tito & Sue! \nCheer on your crab while enjoying your favorite Leatherback brew or a cocktail! Bring the while family for some pizza and fun! \nCrabs available starting at 5:30. Arrive early to get a good seat!
URL:https://leatherbackbrewing.com/event/tito-sue-crab-races/2024-11-22/
LOCATION:Leatherback Brewing Company- St. Croix
CATEGORIES:Family Fun
ATTACH;FMTTYPE=image/png:https://leatherbackbrewing.com/wp-content/uploads/2024/03/Carb-Races.png
END:VEVENT
BEGIN:VEVENT
DTSTART;TZID=UTC:20241125T160000
DTEND;TZID=UTC:20241125T180000
DTSTAMP:20260423T071908
CREATED:20240923T195910Z
LAST-MODIFIED:20240923T195910Z
UID:10003274-1732550400-1732557600@leatherbackbrewing.com
SUMMARY:St. Croix Happy Hour
DESCRIPTION:Join us for Happy Hour 4:00pm – 6:00pm with $5 Flagship Beers and $10 Wings!
URL:https://leatherbackbrewing.com/event/st-croix-happy-hour-2/2024-11-25/
CATEGORIES:Specials
ATTACH;FMTTYPE=image/jpeg:https://leatherbackbrewing.com/wp-content/uploads/2024/09/Happy-Hour.jpg
END:VEVENT
BEGIN:VEVENT
DTSTART;TZID=UTC:20241126T160000
DTEND;TZID=UTC:20241126T180000
DTSTAMP:20260423T071908
CREATED:20240923T195910Z
LAST-MODIFIED:20240923T195910Z
UID:10003275-1732636800-1732644000@leatherbackbrewing.com
SUMMARY:St. Croix Happy Hour
DESCRIPTION:Join us for Happy Hour 4:00pm – 6:00pm with $5 Flagship Beers and $10 Wings!
URL:https://leatherbackbrewing.com/event/st-croix-happy-hour-2/2024-11-26/
CATEGORIES:Specials
ATTACH;FMTTYPE=image/jpeg:https://leatherbackbrewing.com/wp-content/uploads/2024/09/Happy-Hour.jpg
END:VEVENT
BEGIN:VEVENT
DTSTART;TZID=UTC:20241127T160000
DTEND;TZID=UTC:20241127T180000
DTSTAMP:20260423T071908
CREATED:20240923T195910Z
LAST-MODIFIED:20240923T195910Z
UID:10003276-1732723200-1732730400@leatherbackbrewing.com
SUMMARY:St. Croix Happy Hour
DESCRIPTION:Join us for Happy Hour 4:00pm – 6:00pm with $5 Flagship Beers and $10 Wings!
URL:https://leatherbackbrewing.com/event/st-croix-happy-hour-2/2024-11-27/
CATEGORIES:Specials
ATTACH;FMTTYPE=image/jpeg:https://leatherbackbrewing.com/wp-content/uploads/2024/09/Happy-Hour.jpg
END:VEVENT
BEGIN:VEVENT
DTSTART;TZID=UTC:20241129T173000
DTEND;TZID=UTC:20241129T193000
DTSTAMP:20260423T071908
CREATED:20240322T203444Z
LAST-MODIFIED:20240322T203621Z
UID:10002927-1732901400-1732908600@leatherbackbrewing.com
SUMMARY:St. Croix- Crab Races
DESCRIPTION:Join us for Crab Races with Tito & Sue! \nCheer on your crab while enjoying your favorite Leatherback brew or a cocktail! Bring the while family for some pizza and fun! \nCrabs available starting at 5:30. Arrive early to get a good seat!
URL:https://leatherbackbrewing.com/event/tito-sue-crab-races/2024-11-29/
LOCATION:Leatherback Brewing Company- St. Croix
CATEGORIES:Family Fun
ATTACH;FMTTYPE=image/png:https://leatherbackbrewing.com/wp-content/uploads/2024/03/Carb-Races.png
END:VEVENT
BEGIN:VEVENT
DTSTART;TZID=UTC:20241202T160000
DTEND;TZID=UTC:20241202T180000
DTSTAMP:20260423T071908
CREATED:20240923T195910Z
LAST-MODIFIED:20240923T195910Z
UID:10003277-1733155200-1733162400@leatherbackbrewing.com
SUMMARY:St. Croix Happy Hour
DESCRIPTION:Join us for Happy Hour 4:00pm – 6:00pm with $5 Flagship Beers and $10 Wings!
URL:https://leatherbackbrewing.com/event/st-croix-happy-hour-2/2024-12-02/
CATEGORIES:Specials
ATTACH;FMTTYPE=image/jpeg:https://leatherbackbrewing.com/wp-content/uploads/2024/09/Happy-Hour.jpg
END:VEVENT
BEGIN:VEVENT
DTSTART;TZID=UTC:20241203T160000
DTEND;TZID=UTC:20241203T180000
DTSTAMP:20260423T071908
CREATED:20240923T195910Z
LAST-MODIFIED:20240923T195910Z
UID:10003278-1733241600-1733248800@leatherbackbrewing.com
SUMMARY:St. Croix Happy Hour
DESCRIPTION:Join us for Happy Hour 4:00pm – 6:00pm with $5 Flagship Beers and $10 Wings!
URL:https://leatherbackbrewing.com/event/st-croix-happy-hour-2/2024-12-03/
CATEGORIES:Specials
ATTACH;FMTTYPE=image/jpeg:https://leatherbackbrewing.com/wp-content/uploads/2024/09/Happy-Hour.jpg
END:VEVENT
BEGIN:VEVENT
DTSTART;TZID=UTC:20241204T160000
DTEND;TZID=UTC:20241204T180000
DTSTAMP:20260423T071908
CREATED:20240923T195910Z
LAST-MODIFIED:20240923T195910Z
UID:10003279-1733328000-1733335200@leatherbackbrewing.com
SUMMARY:St. Croix Happy Hour
DESCRIPTION:Join us for Happy Hour 4:00pm – 6:00pm with $5 Flagship Beers and $10 Wings!
URL:https://leatherbackbrewing.com/event/st-croix-happy-hour-2/2024-12-04/
CATEGORIES:Specials
ATTACH;FMTTYPE=image/jpeg:https://leatherbackbrewing.com/wp-content/uploads/2024/09/Happy-Hour.jpg
END:VEVENT
BEGIN:VEVENT
DTSTART;TZID=UTC:20241206T173000
DTEND;TZID=UTC:20241206T193000
DTSTAMP:20260423T071908
CREATED:20240322T203444Z
LAST-MODIFIED:20240322T203621Z
UID:10002928-1733506200-1733513400@leatherbackbrewing.com
SUMMARY:St. Croix- Crab Races
DESCRIPTION:Join us for Crab Races with Tito & Sue! \nCheer on your crab while enjoying your favorite Leatherback brew or a cocktail! Bring the while family for some pizza and fun! \nCrabs available starting at 5:30. Arrive early to get a good seat!
URL:https://leatherbackbrewing.com/event/tito-sue-crab-races/2024-12-06/
LOCATION:Leatherback Brewing Company- St. Croix
CATEGORIES:Family Fun
ATTACH;FMTTYPE=image/png:https://leatherbackbrewing.com/wp-content/uploads/2024/03/Carb-Races.png
END:VEVENT
BEGIN:VEVENT
DTSTART;TZID=UTC:20241207T184500
DTEND;TZID=UTC:20241207T203000
DTSTAMP:20260423T071908
CREATED:20240322T204739Z
LAST-MODIFIED:20240529T203805Z
UID:10003187-1733597100-1733603400@leatherbackbrewing.com
SUMMARY:St. Croix- Movie Night
DESCRIPTION:Bring the whole family to Leatherback to watch a movie under the stars! \nWe’ll be serving craft beer and cocktails along with our regular menu! \nCome early to get a table outside or bring your own chairs or blankets. \nCheck our Facebook page to find this month’s movie!
URL:https://leatherbackbrewing.com/event/st-croix-movie-night-2/2024-12-07/
LOCATION:Leatherback Brewing Company- St. Croix
CATEGORIES:Family Fun,movie
ATTACH;FMTTYPE=image/png:https://leatherbackbrewing.com/wp-content/uploads/2024/03/Movie-Night.png
END:VEVENT
BEGIN:VEVENT
DTSTART;TZID=UTC:20241209T160000
DTEND;TZID=UTC:20241209T180000
DTSTAMP:20260423T071908
CREATED:20240923T195910Z
LAST-MODIFIED:20240923T195910Z
UID:10003280-1733760000-1733767200@leatherbackbrewing.com
SUMMARY:St. Croix Happy Hour
DESCRIPTION:Join us for Happy Hour 4:00pm – 6:00pm with $5 Flagship Beers and $10 Wings!
URL:https://leatherbackbrewing.com/event/st-croix-happy-hour-2/2024-12-09/
CATEGORIES:Specials
ATTACH;FMTTYPE=image/jpeg:https://leatherbackbrewing.com/wp-content/uploads/2024/09/Happy-Hour.jpg
END:VEVENT
BEGIN:VEVENT
DTSTART;TZID=UTC:20241210T160000
DTEND;TZID=UTC:20241210T180000
DTSTAMP:20260423T071908
CREATED:20240923T195910Z
LAST-MODIFIED:20240923T195910Z
UID:10003281-1733846400-1733853600@leatherbackbrewing.com
SUMMARY:St. Croix Happy Hour
DESCRIPTION:Join us for Happy Hour 4:00pm – 6:00pm with $5 Flagship Beers and $10 Wings!
URL:https://leatherbackbrewing.com/event/st-croix-happy-hour-2/2024-12-10/
CATEGORIES:Specials
ATTACH;FMTTYPE=image/jpeg:https://leatherbackbrewing.com/wp-content/uploads/2024/09/Happy-Hour.jpg
END:VEVENT
BEGIN:VEVENT
DTSTART;TZID=UTC:20241211T160000
DTEND;TZID=UTC:20241211T180000
DTSTAMP:20260423T071908
CREATED:20240923T195910Z
LAST-MODIFIED:20240923T195910Z
UID:10003282-1733932800-1733940000@leatherbackbrewing.com
SUMMARY:St. Croix Happy Hour
DESCRIPTION:Join us for Happy Hour 4:00pm – 6:00pm with $5 Flagship Beers and $10 Wings!
URL:https://leatherbackbrewing.com/event/st-croix-happy-hour-2/2024-12-11/
CATEGORIES:Specials
ATTACH;FMTTYPE=image/jpeg:https://leatherbackbrewing.com/wp-content/uploads/2024/09/Happy-Hour.jpg
END:VEVENT
BEGIN:VEVENT
DTSTART;TZID=UTC:20241213T173000
DTEND;TZID=UTC:20241213T193000
DTSTAMP:20260423T071908
CREATED:20240322T203444Z
LAST-MODIFIED:20240322T203621Z
UID:10002929-1734111000-1734118200@leatherbackbrewing.com
SUMMARY:St. Croix- Crab Races
DESCRIPTION:Join us for Crab Races with Tito & Sue! \nCheer on your crab while enjoying your favorite Leatherback brew or a cocktail! Bring the while family for some pizza and fun! \nCrabs available starting at 5:30. Arrive early to get a good seat!
URL:https://leatherbackbrewing.com/event/tito-sue-crab-races/2024-12-13/
LOCATION:Leatherback Brewing Company- St. Croix
CATEGORIES:Family Fun
ATTACH;FMTTYPE=image/png:https://leatherbackbrewing.com/wp-content/uploads/2024/03/Carb-Races.png
END:VEVENT
BEGIN:VEVENT
DTSTART;TZID=UTC:20241216T160000
DTEND;TZID=UTC:20241216T180000
DTSTAMP:20260423T071908
CREATED:20240923T195910Z
LAST-MODIFIED:20240923T195910Z
UID:10003283-1734364800-1734372000@leatherbackbrewing.com
SUMMARY:St. Croix Happy Hour
DESCRIPTION:Join us for Happy Hour 4:00pm – 6:00pm with $5 Flagship Beers and $10 Wings!
URL:https://leatherbackbrewing.com/event/st-croix-happy-hour-2/2024-12-16/
CATEGORIES:Specials
ATTACH;FMTTYPE=image/jpeg:https://leatherbackbrewing.com/wp-content/uploads/2024/09/Happy-Hour.jpg
END:VEVENT
BEGIN:VEVENT
DTSTART;TZID=UTC:20241217T160000
DTEND;TZID=UTC:20241217T180000
DTSTAMP:20260423T071908
CREATED:20240923T195910Z
LAST-MODIFIED:20240923T195910Z
UID:10003284-1734451200-1734458400@leatherbackbrewing.com
SUMMARY:St. Croix Happy Hour
DESCRIPTION:Join us for Happy Hour 4:00pm – 6:00pm with $5 Flagship Beers and $10 Wings!
URL:https://leatherbackbrewing.com/event/st-croix-happy-hour-2/2024-12-17/
CATEGORIES:Specials
ATTACH;FMTTYPE=image/jpeg:https://leatherbackbrewing.com/wp-content/uploads/2024/09/Happy-Hour.jpg
END:VEVENT
BEGIN:VEVENT
DTSTART;TZID=UTC:20241218T160000
DTEND;TZID=UTC:20241218T180000
DTSTAMP:20260423T071908
CREATED:20240923T195910Z
LAST-MODIFIED:20240923T195910Z
UID:10003285-1734537600-1734544800@leatherbackbrewing.com
SUMMARY:St. Croix Happy Hour
DESCRIPTION:Join us for Happy Hour 4:00pm – 6:00pm with $5 Flagship Beers and $10 Wings!
URL:https://leatherbackbrewing.com/event/st-croix-happy-hour-2/2024-12-18/
CATEGORIES:Specials
ATTACH;FMTTYPE=image/jpeg:https://leatherbackbrewing.com/wp-content/uploads/2024/09/Happy-Hour.jpg
END:VEVENT
BEGIN:VEVENT
DTSTART;TZID=UTC:20241220T173000
DTEND;TZID=UTC:20241220T193000
DTSTAMP:20260423T071908
CREATED:20240322T203444Z
LAST-MODIFIED:20240322T203621Z
UID:10002930-1734715800-1734723000@leatherbackbrewing.com
SUMMARY:St. Croix- Crab Races
DESCRIPTION:Join us for Crab Races with Tito & Sue! \nCheer on your crab while enjoying your favorite Leatherback brew or a cocktail! Bring the while family for some pizza and fun! \nCrabs available starting at 5:30. Arrive early to get a good seat!
URL:https://leatherbackbrewing.com/event/tito-sue-crab-races/2024-12-20/
LOCATION:Leatherback Brewing Company- St. Croix
CATEGORIES:Family Fun
ATTACH;FMTTYPE=image/png:https://leatherbackbrewing.com/wp-content/uploads/2024/03/Carb-Races.png
END:VEVENT
BEGIN:VEVENT
DTSTART;TZID=UTC:20241223T160000
DTEND;TZID=UTC:20241223T180000
DTSTAMP:20260423T071908
CREATED:20240923T195910Z
LAST-MODIFIED:20240923T195910Z
UID:10003286-1734969600-1734976800@leatherbackbrewing.com
SUMMARY:St. Croix Happy Hour
DESCRIPTION:Join us for Happy Hour 4:00pm – 6:00pm with $5 Flagship Beers and $10 Wings!
URL:https://leatherbackbrewing.com/event/st-croix-happy-hour-2/2024-12-23/
CATEGORIES:Specials
ATTACH;FMTTYPE=image/jpeg:https://leatherbackbrewing.com/wp-content/uploads/2024/09/Happy-Hour.jpg
END:VEVENT
END:VCALENDAR