BEGIN:VCALENDAR
VERSION:2.0
PRODID:-//Leatherback Brewing - ECPv6.15.20//NONSGML v1.0//EN
CALSCALE:GREGORIAN
METHOD:PUBLISH
X-ORIGINAL-URL:https://leatherbackbrewing.com
X-WR-CALDESC:Events for Leatherback Brewing
REFRESH-INTERVAL;VALUE=DURATION:PT1H
X-Robots-Tag:noindex
X-PUBLISHED-TTL:PT1H
BEGIN:VTIMEZONE
TZID:UTC
BEGIN:STANDARD
TZOFFSETFROM:+0000
TZOFFSETTO:+0000
TZNAME:UTC
DTSTART:20240101T000000
END:STANDARD
END:VTIMEZONE
BEGIN:VEVENT
DTSTART;TZID=UTC:20250526T160000
DTEND;TZID=UTC:20250526T180000
DTSTAMP:20260422T220010
CREATED:20240923T195910Z
LAST-MODIFIED:20240923T195910Z
UID:10003352-1748275200-1748282400@leatherbackbrewing.com
SUMMARY:St. Croix Happy Hour
DESCRIPTION:Join us for Happy Hour 4:00pm – 6:00pm with $5 Flagship Beers and $10 Wings!
URL:https://leatherbackbrewing.com/event/st-croix-happy-hour-2/2025-05-26/
CATEGORIES:Specials
ATTACH;FMTTYPE=image/jpeg:https://leatherbackbrewing.com/wp-content/uploads/2024/09/Happy-Hour.jpg
END:VEVENT
BEGIN:VEVENT
DTSTART;TZID=UTC:20250527T160000
DTEND;TZID=UTC:20250527T180000
DTSTAMP:20260422T220010
CREATED:20240923T195910Z
LAST-MODIFIED:20240923T195910Z
UID:10003353-1748361600-1748368800@leatherbackbrewing.com
SUMMARY:St. Croix Happy Hour
DESCRIPTION:Join us for Happy Hour 4:00pm – 6:00pm with $5 Flagship Beers and $10 Wings!
URL:https://leatherbackbrewing.com/event/st-croix-happy-hour-2/2025-05-27/
CATEGORIES:Specials
ATTACH;FMTTYPE=image/jpeg:https://leatherbackbrewing.com/wp-content/uploads/2024/09/Happy-Hour.jpg
END:VEVENT
BEGIN:VEVENT
DTSTART;TZID=UTC:20250527T180000
DTEND;TZID=UTC:20250527T200000
DTSTAMP:20260422T220010
CREATED:20250512T170133Z
LAST-MODIFIED:20250512T170133Z
UID:10004102-1748368800-1748376000@leatherbackbrewing.com
SUMMARY:Tuesday Night Trivia
DESCRIPTION:Think you’ve got what it takes to be trivia champs?\nTrivia Tuesday kicks off at 6:00 PM—grab your team and get ready to compete!\n• Teams can have up to 6 players\n• Prizes awarded after every round\n• Teams face off for 1st and 2nd place glory\n\n\nBring your A-game\, some good vibes\, and a whole lot of brainpower.\nLet’s make it a night to remember!\n\n\n\n\n\n\n\n\nCall 340-772-2337 and we will reserve a table for your team of 6 people or less or come early and find a spot and enjoy Happy Hour (starting at 4:00pm)
URL:https://leatherbackbrewing.com/event/tuesday-night-trivia/2025-05-27/
ATTACH;FMTTYPE=image/jpeg:https://leatherbackbrewing.com/wp-content/uploads/2025/05/Trivia-Night.jpg
END:VEVENT
BEGIN:VEVENT
DTSTART;TZID=UTC:20250528T160000
DTEND;TZID=UTC:20250528T180000
DTSTAMP:20260422T220010
CREATED:20240923T195910Z
LAST-MODIFIED:20240923T195910Z
UID:10003354-1748448000-1748455200@leatherbackbrewing.com
SUMMARY:St. Croix Happy Hour
DESCRIPTION:Join us for Happy Hour 4:00pm – 6:00pm with $5 Flagship Beers and $10 Wings!
URL:https://leatherbackbrewing.com/event/st-croix-happy-hour-2/2025-05-28/
CATEGORIES:Specials
ATTACH;FMTTYPE=image/jpeg:https://leatherbackbrewing.com/wp-content/uploads/2024/09/Happy-Hour.jpg
END:VEVENT
BEGIN:VEVENT
DTSTART;TZID=UTC:20250530T173000
DTEND;TZID=UTC:20250530T193000
DTSTAMP:20260422T220010
CREATED:20250512T171126Z
LAST-MODIFIED:20250604T172325Z
UID:10002953-1748626200-1748633400@leatherbackbrewing.com
SUMMARY:St. Croix- Crab Races
DESCRIPTION:Join us for Crab Races with Tito & Sue! \nCheer on your crab while enjoying your favorite Leatherback brew or a cocktail! Bring the while family for some pizza and fun! \nCrabs available starting at 5:30. Arrive early to get a good seat!
URL:https://leatherbackbrewing.com/event/tito-sue-crab-races-2/2025-05-30/
LOCATION:Leatherback Brewing Company- St. Croix
CATEGORIES:Family Fun
ATTACH;FMTTYPE=image/png:https://leatherbackbrewing.com/wp-content/uploads/2024/03/Carb-Races.png
END:VEVENT
BEGIN:VEVENT
DTSTART;TZID=UTC:20250602T160000
DTEND;TZID=UTC:20250602T180000
DTSTAMP:20260422T220010
CREATED:20240923T195910Z
LAST-MODIFIED:20240923T195910Z
UID:10003355-1748880000-1748887200@leatherbackbrewing.com
SUMMARY:St. Croix Happy Hour
DESCRIPTION:Join us for Happy Hour 4:00pm – 6:00pm with $5 Flagship Beers and $10 Wings!
URL:https://leatherbackbrewing.com/event/st-croix-happy-hour-2/2025-06-02/
CATEGORIES:Specials
ATTACH;FMTTYPE=image/jpeg:https://leatherbackbrewing.com/wp-content/uploads/2024/09/Happy-Hour.jpg
END:VEVENT
BEGIN:VEVENT
DTSTART;TZID=UTC:20250603T160000
DTEND;TZID=UTC:20250603T180000
DTSTAMP:20260422T220010
CREATED:20240923T195910Z
LAST-MODIFIED:20240923T195910Z
UID:10003356-1748966400-1748973600@leatherbackbrewing.com
SUMMARY:St. Croix Happy Hour
DESCRIPTION:Join us for Happy Hour 4:00pm – 6:00pm with $5 Flagship Beers and $10 Wings!
URL:https://leatherbackbrewing.com/event/st-croix-happy-hour-2/2025-06-03/
CATEGORIES:Specials
ATTACH;FMTTYPE=image/jpeg:https://leatherbackbrewing.com/wp-content/uploads/2024/09/Happy-Hour.jpg
END:VEVENT
BEGIN:VEVENT
DTSTART;TZID=UTC:20250603T180000
DTEND;TZID=UTC:20250603T200000
DTSTAMP:20260422T220010
CREATED:20250512T170133Z
LAST-MODIFIED:20250512T170133Z
UID:10004103-1748973600-1748980800@leatherbackbrewing.com
SUMMARY:Tuesday Night Trivia
DESCRIPTION:Think you’ve got what it takes to be trivia champs?\nTrivia Tuesday kicks off at 6:00 PM—grab your team and get ready to compete!\n• Teams can have up to 6 players\n• Prizes awarded after every round\n• Teams face off for 1st and 2nd place glory\n\n\nBring your A-game\, some good vibes\, and a whole lot of brainpower.\nLet’s make it a night to remember!\n\n\n\n\n\n\n\n\nCall 340-772-2337 and we will reserve a table for your team of 6 people or less or come early and find a spot and enjoy Happy Hour (starting at 4:00pm)
URL:https://leatherbackbrewing.com/event/tuesday-night-trivia/2025-06-03/
ATTACH;FMTTYPE=image/jpeg:https://leatherbackbrewing.com/wp-content/uploads/2025/05/Trivia-Night.jpg
END:VEVENT
BEGIN:VEVENT
DTSTART;TZID=UTC:20250604T160000
DTEND;TZID=UTC:20250604T180000
DTSTAMP:20260422T220010
CREATED:20240923T195910Z
LAST-MODIFIED:20240923T195910Z
UID:10003357-1749052800-1749060000@leatherbackbrewing.com
SUMMARY:St. Croix Happy Hour
DESCRIPTION:Join us for Happy Hour 4:00pm – 6:00pm with $5 Flagship Beers and $10 Wings!
URL:https://leatherbackbrewing.com/event/st-croix-happy-hour-2/2025-06-04/
CATEGORIES:Specials
ATTACH;FMTTYPE=image/jpeg:https://leatherbackbrewing.com/wp-content/uploads/2024/09/Happy-Hour.jpg
END:VEVENT
BEGIN:VEVENT
DTSTART;TZID=UTC:20250606T173000
DTEND;TZID=UTC:20250606T193000
DTSTAMP:20260422T220010
CREATED:20250512T171126Z
LAST-MODIFIED:20250604T172325Z
UID:10002954-1749231000-1749238200@leatherbackbrewing.com
SUMMARY:St. Croix- Crab Races
DESCRIPTION:Join us for Crab Races with Tito & Sue! \nCheer on your crab while enjoying your favorite Leatherback brew or a cocktail! Bring the while family for some pizza and fun! \nCrabs available starting at 5:30. Arrive early to get a good seat!
URL:https://leatherbackbrewing.com/event/tito-sue-crab-races-2/2025-06-06/
LOCATION:Leatherback Brewing Company- St. Croix
CATEGORIES:Family Fun
ATTACH;FMTTYPE=image/png:https://leatherbackbrewing.com/wp-content/uploads/2024/03/Carb-Races.png
END:VEVENT
BEGIN:VEVENT
DTSTART;TZID=UTC:20250607T184500
DTEND;TZID=UTC:20250607T203000
DTSTAMP:20260422T220010
CREATED:20240322T204739Z
LAST-MODIFIED:20240529T203805Z
UID:10003193-1749321900-1749328200@leatherbackbrewing.com
SUMMARY:St. Croix- Movie Night
DESCRIPTION:Bring the whole family to Leatherback to watch a movie under the stars! \nWe’ll be serving craft beer and cocktails along with our regular menu! \nCome early to get a table outside or bring your own chairs or blankets. \nCheck our Facebook page to find this month’s movie!
URL:https://leatherbackbrewing.com/event/st-croix-movie-night-2/2025-06-07/
LOCATION:Leatherback Brewing Company- St. Croix
CATEGORIES:Family Fun,movie
ATTACH;FMTTYPE=image/png:https://leatherbackbrewing.com/wp-content/uploads/2024/03/Movie-Night.png
END:VEVENT
BEGIN:VEVENT
DTSTART;TZID=UTC:20250609T160000
DTEND;TZID=UTC:20250609T180000
DTSTAMP:20260422T220010
CREATED:20240923T195910Z
LAST-MODIFIED:20240923T195910Z
UID:10003358-1749484800-1749492000@leatherbackbrewing.com
SUMMARY:St. Croix Happy Hour
DESCRIPTION:Join us for Happy Hour 4:00pm – 6:00pm with $5 Flagship Beers and $10 Wings!
URL:https://leatherbackbrewing.com/event/st-croix-happy-hour-2/2025-06-09/
CATEGORIES:Specials
ATTACH;FMTTYPE=image/jpeg:https://leatherbackbrewing.com/wp-content/uploads/2024/09/Happy-Hour.jpg
END:VEVENT
BEGIN:VEVENT
DTSTART;TZID=UTC:20250610T160000
DTEND;TZID=UTC:20250610T180000
DTSTAMP:20260422T220010
CREATED:20240923T195910Z
LAST-MODIFIED:20240923T195910Z
UID:10003359-1749571200-1749578400@leatherbackbrewing.com
SUMMARY:St. Croix Happy Hour
DESCRIPTION:Join us for Happy Hour 4:00pm – 6:00pm with $5 Flagship Beers and $10 Wings!
URL:https://leatherbackbrewing.com/event/st-croix-happy-hour-2/2025-06-10/
CATEGORIES:Specials
ATTACH;FMTTYPE=image/jpeg:https://leatherbackbrewing.com/wp-content/uploads/2024/09/Happy-Hour.jpg
END:VEVENT
BEGIN:VEVENT
DTSTART;TZID=UTC:20250610T180000
DTEND;TZID=UTC:20250610T200000
DTSTAMP:20260422T220010
CREATED:20250512T170133Z
LAST-MODIFIED:20250512T170133Z
UID:10004104-1749578400-1749585600@leatherbackbrewing.com
SUMMARY:Tuesday Night Trivia
DESCRIPTION:Think you’ve got what it takes to be trivia champs?\nTrivia Tuesday kicks off at 6:00 PM—grab your team and get ready to compete!\n• Teams can have up to 6 players\n• Prizes awarded after every round\n• Teams face off for 1st and 2nd place glory\n\n\nBring your A-game\, some good vibes\, and a whole lot of brainpower.\nLet’s make it a night to remember!\n\n\n\n\n\n\n\n\nCall 340-772-2337 and we will reserve a table for your team of 6 people or less or come early and find a spot and enjoy Happy Hour (starting at 4:00pm)
URL:https://leatherbackbrewing.com/event/tuesday-night-trivia/2025-06-10/
ATTACH;FMTTYPE=image/jpeg:https://leatherbackbrewing.com/wp-content/uploads/2025/05/Trivia-Night.jpg
END:VEVENT
BEGIN:VEVENT
DTSTART;TZID=UTC:20250611T160000
DTEND;TZID=UTC:20250611T180000
DTSTAMP:20260422T220010
CREATED:20240923T195910Z
LAST-MODIFIED:20240923T195910Z
UID:10003360-1749657600-1749664800@leatherbackbrewing.com
SUMMARY:St. Croix Happy Hour
DESCRIPTION:Join us for Happy Hour 4:00pm – 6:00pm with $5 Flagship Beers and $10 Wings!
URL:https://leatherbackbrewing.com/event/st-croix-happy-hour-2/2025-06-11/
CATEGORIES:Specials
ATTACH;FMTTYPE=image/jpeg:https://leatherbackbrewing.com/wp-content/uploads/2024/09/Happy-Hour.jpg
END:VEVENT
BEGIN:VEVENT
DTSTART;TZID=UTC:20250613T173000
DTEND;TZID=UTC:20250613T193000
DTSTAMP:20260422T220010
CREATED:20250512T171126Z
LAST-MODIFIED:20250604T172325Z
UID:10002955-1749835800-1749843000@leatherbackbrewing.com
SUMMARY:St. Croix- Crab Races
DESCRIPTION:Join us for Crab Races with Tito & Sue! \nCheer on your crab while enjoying your favorite Leatherback brew or a cocktail! Bring the while family for some pizza and fun! \nCrabs available starting at 5:30. Arrive early to get a good seat!
URL:https://leatherbackbrewing.com/event/tito-sue-crab-races-2/2025-06-13/
LOCATION:Leatherback Brewing Company- St. Croix
CATEGORIES:Family Fun
ATTACH;FMTTYPE=image/png:https://leatherbackbrewing.com/wp-content/uploads/2024/03/Carb-Races.png
END:VEVENT
BEGIN:VEVENT
DTSTART;TZID=UTC:20250614T120000
DTEND;TZID=UTC:20250614T170000
DTSTAMP:20260422T220010
CREATED:20250604T173303Z
LAST-MODIFIED:20250604T175123Z
UID:10004658-1749902400-1749920400@leatherbackbrewing.com
SUMMARY:Inaugural BBQ Competition
DESCRIPTION:Get Ready for the Ultimate BBQ Showdown!\nWe’re fired up to announce our Inaugural Barbecue Contest happening on Saturday\, June 14th\, 2025\, starting at 12 p.m.! \nThink you’ve got what it takes to be crowned BBQ champion? Enter one category or enter them all — just $25 per category! \nCompetition Categories:\n• Beef Sliders\n• Ribs\n• Brisket\n• Chicken Wings\n• Fish\n• Vegetarian\n• Barbecue Sauce \nOpen to the Public!\nCome hungry — the event is open for public tasting! Tasting tickets are just $5 each\, so bring your appetite and sample some of the best BBQ around. \nPrizes include:\n• Cash prizes\n• Swag\n• Bragging rights\, of course! \nSpots are limited\, so sign up early at Leatherback Brewing Co.\, cash only. \nLet the grilling (and tasting) begin! \nRules: BBQ Battle Rules
URL:https://leatherbackbrewing.com/event/inaugural-bbq-competition/
LOCATION:Leatherback Brewing Company- St. Croix
CATEGORIES:Family Fun,Live Music
ATTACH;FMTTYPE=image/jpeg:https://leatherbackbrewing.com/wp-content/uploads/2025/06/LBB_BBQCompetition_FB1-scaled.jpg
END:VEVENT
BEGIN:VEVENT
DTSTART;TZID=UTC:20250616T160000
DTEND;TZID=UTC:20250616T180000
DTSTAMP:20260422T220010
CREATED:20240923T195910Z
LAST-MODIFIED:20240923T195910Z
UID:10003361-1750089600-1750096800@leatherbackbrewing.com
SUMMARY:St. Croix Happy Hour
DESCRIPTION:Join us for Happy Hour 4:00pm – 6:00pm with $5 Flagship Beers and $10 Wings!
URL:https://leatherbackbrewing.com/event/st-croix-happy-hour-2/2025-06-16/
CATEGORIES:Specials
ATTACH;FMTTYPE=image/jpeg:https://leatherbackbrewing.com/wp-content/uploads/2024/09/Happy-Hour.jpg
END:VEVENT
BEGIN:VEVENT
DTSTART;TZID=UTC:20250617T160000
DTEND;TZID=UTC:20250617T180000
DTSTAMP:20260422T220010
CREATED:20240923T195910Z
LAST-MODIFIED:20240923T195910Z
UID:10003362-1750176000-1750183200@leatherbackbrewing.com
SUMMARY:St. Croix Happy Hour
DESCRIPTION:Join us for Happy Hour 4:00pm – 6:00pm with $5 Flagship Beers and $10 Wings!
URL:https://leatherbackbrewing.com/event/st-croix-happy-hour-2/2025-06-17/
CATEGORIES:Specials
ATTACH;FMTTYPE=image/jpeg:https://leatherbackbrewing.com/wp-content/uploads/2024/09/Happy-Hour.jpg
END:VEVENT
BEGIN:VEVENT
DTSTART;TZID=UTC:20250617T180000
DTEND;TZID=UTC:20250617T200000
DTSTAMP:20260422T220010
CREATED:20250512T170133Z
LAST-MODIFIED:20250512T170133Z
UID:10004105-1750183200-1750190400@leatherbackbrewing.com
SUMMARY:Tuesday Night Trivia
DESCRIPTION:Think you’ve got what it takes to be trivia champs?\nTrivia Tuesday kicks off at 6:00 PM—grab your team and get ready to compete!\n• Teams can have up to 6 players\n• Prizes awarded after every round\n• Teams face off for 1st and 2nd place glory\n\n\nBring your A-game\, some good vibes\, and a whole lot of brainpower.\nLet’s make it a night to remember!\n\n\n\n\n\n\n\n\nCall 340-772-2337 and we will reserve a table for your team of 6 people or less or come early and find a spot and enjoy Happy Hour (starting at 4:00pm)
URL:https://leatherbackbrewing.com/event/tuesday-night-trivia/2025-06-17/
ATTACH;FMTTYPE=image/jpeg:https://leatherbackbrewing.com/wp-content/uploads/2025/05/Trivia-Night.jpg
END:VEVENT
BEGIN:VEVENT
DTSTART;TZID=UTC:20250618T160000
DTEND;TZID=UTC:20250618T180000
DTSTAMP:20260422T220010
CREATED:20240923T195910Z
LAST-MODIFIED:20240923T195910Z
UID:10003363-1750262400-1750269600@leatherbackbrewing.com
SUMMARY:St. Croix Happy Hour
DESCRIPTION:Join us for Happy Hour 4:00pm – 6:00pm with $5 Flagship Beers and $10 Wings!
URL:https://leatherbackbrewing.com/event/st-croix-happy-hour-2/2025-06-18/
CATEGORIES:Specials
ATTACH;FMTTYPE=image/jpeg:https://leatherbackbrewing.com/wp-content/uploads/2024/09/Happy-Hour.jpg
END:VEVENT
BEGIN:VEVENT
DTSTART;TZID=UTC:20250620T173000
DTEND;TZID=UTC:20250620T193000
DTSTAMP:20260422T220010
CREATED:20250512T171126Z
LAST-MODIFIED:20250604T172325Z
UID:10002956-1750440600-1750447800@leatherbackbrewing.com
SUMMARY:St. Croix- Crab Races
DESCRIPTION:Join us for Crab Races with Tito & Sue! \nCheer on your crab while enjoying your favorite Leatherback brew or a cocktail! Bring the while family for some pizza and fun! \nCrabs available starting at 5:30. Arrive early to get a good seat!
URL:https://leatherbackbrewing.com/event/tito-sue-crab-races-2/2025-06-20/
LOCATION:Leatherback Brewing Company- St. Croix
CATEGORIES:Family Fun
ATTACH;FMTTYPE=image/png:https://leatherbackbrewing.com/wp-content/uploads/2024/03/Carb-Races.png
END:VEVENT
BEGIN:VEVENT
DTSTART;TZID=UTC:20250623T160000
DTEND;TZID=UTC:20250623T180000
DTSTAMP:20260422T220010
CREATED:20240923T195910Z
LAST-MODIFIED:20240923T195910Z
UID:10003364-1750694400-1750701600@leatherbackbrewing.com
SUMMARY:St. Croix Happy Hour
DESCRIPTION:Join us for Happy Hour 4:00pm – 6:00pm with $5 Flagship Beers and $10 Wings!
URL:https://leatherbackbrewing.com/event/st-croix-happy-hour-2/2025-06-23/
CATEGORIES:Specials
ATTACH;FMTTYPE=image/jpeg:https://leatherbackbrewing.com/wp-content/uploads/2024/09/Happy-Hour.jpg
END:VEVENT
BEGIN:VEVENT
DTSTART;TZID=UTC:20250624T160000
DTEND;TZID=UTC:20250624T180000
DTSTAMP:20260422T220010
CREATED:20240923T195910Z
LAST-MODIFIED:20240923T195910Z
UID:10003365-1750780800-1750788000@leatherbackbrewing.com
SUMMARY:St. Croix Happy Hour
DESCRIPTION:Join us for Happy Hour 4:00pm – 6:00pm with $5 Flagship Beers and $10 Wings!
URL:https://leatherbackbrewing.com/event/st-croix-happy-hour-2/2025-06-24/
CATEGORIES:Specials
ATTACH;FMTTYPE=image/jpeg:https://leatherbackbrewing.com/wp-content/uploads/2024/09/Happy-Hour.jpg
END:VEVENT
BEGIN:VEVENT
DTSTART;TZID=UTC:20250624T180000
DTEND;TZID=UTC:20250624T200000
DTSTAMP:20260422T220010
CREATED:20250512T170133Z
LAST-MODIFIED:20250512T170133Z
UID:10004106-1750788000-1750795200@leatherbackbrewing.com
SUMMARY:Tuesday Night Trivia
DESCRIPTION:Think you’ve got what it takes to be trivia champs?\nTrivia Tuesday kicks off at 6:00 PM—grab your team and get ready to compete!\n• Teams can have up to 6 players\n• Prizes awarded after every round\n• Teams face off for 1st and 2nd place glory\n\n\nBring your A-game\, some good vibes\, and a whole lot of brainpower.\nLet’s make it a night to remember!\n\n\n\n\n\n\n\n\nCall 340-772-2337 and we will reserve a table for your team of 6 people or less or come early and find a spot and enjoy Happy Hour (starting at 4:00pm)
URL:https://leatherbackbrewing.com/event/tuesday-night-trivia/2025-06-24/
ATTACH;FMTTYPE=image/jpeg:https://leatherbackbrewing.com/wp-content/uploads/2025/05/Trivia-Night.jpg
END:VEVENT
BEGIN:VEVENT
DTSTART;TZID=UTC:20250625T160000
DTEND;TZID=UTC:20250625T180000
DTSTAMP:20260422T220010
CREATED:20240923T195910Z
LAST-MODIFIED:20240923T195910Z
UID:10003366-1750867200-1750874400@leatherbackbrewing.com
SUMMARY:St. Croix Happy Hour
DESCRIPTION:Join us for Happy Hour 4:00pm – 6:00pm with $5 Flagship Beers and $10 Wings!
URL:https://leatherbackbrewing.com/event/st-croix-happy-hour-2/2025-06-25/
CATEGORIES:Specials
ATTACH;FMTTYPE=image/jpeg:https://leatherbackbrewing.com/wp-content/uploads/2024/09/Happy-Hour.jpg
END:VEVENT
BEGIN:VEVENT
DTSTART;TZID=UTC:20250627T173000
DTEND;TZID=UTC:20250627T193000
DTSTAMP:20260422T220010
CREATED:20250512T171126Z
LAST-MODIFIED:20250604T172325Z
UID:10002957-1751045400-1751052600@leatherbackbrewing.com
SUMMARY:St. Croix- Crab Races
DESCRIPTION:Join us for Crab Races with Tito & Sue! \nCheer on your crab while enjoying your favorite Leatherback brew or a cocktail! Bring the while family for some pizza and fun! \nCrabs available starting at 5:30. Arrive early to get a good seat!
URL:https://leatherbackbrewing.com/event/tito-sue-crab-races-2/2025-06-27/
LOCATION:Leatherback Brewing Company- St. Croix
CATEGORIES:Family Fun
ATTACH;FMTTYPE=image/png:https://leatherbackbrewing.com/wp-content/uploads/2024/03/Carb-Races.png
END:VEVENT
BEGIN:VEVENT
DTSTART;TZID=UTC:20250630T160000
DTEND;TZID=UTC:20250630T180000
DTSTAMP:20260422T220010
CREATED:20240923T195910Z
LAST-MODIFIED:20240923T195910Z
UID:10003367-1751299200-1751306400@leatherbackbrewing.com
SUMMARY:St. Croix Happy Hour
DESCRIPTION:Join us for Happy Hour 4:00pm – 6:00pm with $5 Flagship Beers and $10 Wings!
URL:https://leatherbackbrewing.com/event/st-croix-happy-hour-2/2025-06-30/
CATEGORIES:Specials
ATTACH;FMTTYPE=image/jpeg:https://leatherbackbrewing.com/wp-content/uploads/2024/09/Happy-Hour.jpg
END:VEVENT
BEGIN:VEVENT
DTSTART;TZID=UTC:20250701T160000
DTEND;TZID=UTC:20250701T180000
DTSTAMP:20260422T220010
CREATED:20240923T195910Z
LAST-MODIFIED:20240923T195910Z
UID:10003368-1751385600-1751392800@leatherbackbrewing.com
SUMMARY:St. Croix Happy Hour
DESCRIPTION:Join us for Happy Hour 4:00pm – 6:00pm with $5 Flagship Beers and $10 Wings!
URL:https://leatherbackbrewing.com/event/st-croix-happy-hour-2/2025-07-01/
CATEGORIES:Specials
ATTACH;FMTTYPE=image/jpeg:https://leatherbackbrewing.com/wp-content/uploads/2024/09/Happy-Hour.jpg
END:VEVENT
BEGIN:VEVENT
DTSTART;TZID=UTC:20250701T180000
DTEND;TZID=UTC:20250701T200000
DTSTAMP:20260422T220010
CREATED:20250512T170133Z
LAST-MODIFIED:20250512T170133Z
UID:10004107-1751392800-1751400000@leatherbackbrewing.com
SUMMARY:Tuesday Night Trivia
DESCRIPTION:Think you’ve got what it takes to be trivia champs?\nTrivia Tuesday kicks off at 6:00 PM—grab your team and get ready to compete!\n• Teams can have up to 6 players\n• Prizes awarded after every round\n• Teams face off for 1st and 2nd place glory\n\n\nBring your A-game\, some good vibes\, and a whole lot of brainpower.\nLet’s make it a night to remember!\n\n\n\n\n\n\n\n\nCall 340-772-2337 and we will reserve a table for your team of 6 people or less or come early and find a spot and enjoy Happy Hour (starting at 4:00pm)
URL:https://leatherbackbrewing.com/event/tuesday-night-trivia/2025-07-01/
ATTACH;FMTTYPE=image/jpeg:https://leatherbackbrewing.com/wp-content/uploads/2025/05/Trivia-Night.jpg
END:VEVENT
END:VCALENDAR