BEGIN:VCALENDAR
VERSION:2.0
PRODID:-//Leatherback Brewing - ECPv6.15.20//NONSGML v1.0//EN
CALSCALE:GREGORIAN
METHOD:PUBLISH
X-WR-CALNAME:Leatherback Brewing
X-ORIGINAL-URL:https://leatherbackbrewing.com
X-WR-CALDESC:Events for Leatherback Brewing
REFRESH-INTERVAL;VALUE=DURATION:PT1H
X-Robots-Tag:noindex
X-PUBLISHED-TTL:PT1H
BEGIN:VTIMEZONE
TZID:UTC
BEGIN:STANDARD
TZOFFSETFROM:+0000
TZOFFSETTO:+0000
TZNAME:UTC
DTSTART:20210101T000000
END:STANDARD
END:VTIMEZONE
BEGIN:VEVENT
DTSTART;TZID=UTC:20230224T170000
DTEND;TZID=UTC:20230224T200000
DTSTAMP:20260424T141935
CREATED:20221005T160714Z
LAST-MODIFIED:20221005T164126Z
UID:10002845-1677258000-1677268800@leatherbackbrewing.com
SUMMARY:St. Croix Live Music
DESCRIPTION:Check our Facebook page to see who is playing!
URL:https://leatherbackbrewing.com/event/st-croix-live-music/2023-02-24/
LOCATION:Leatherback Brewing Company- St. Croix
CATEGORIES:Live Music
ATTACH;FMTTYPE=application/pdf:https://leatherbackbrewing.com/wp-content/uploads/2022/10/LBB_LiveMusic_St.-Croix.pdf
END:VEVENT
BEGIN:VEVENT
DTSTART;TZID=UTC:20230220T113000
DTEND;TZID=UTC:20230220T200000
DTSTAMP:20260424T141935
CREATED:20210920T214536Z
LAST-MODIFIED:20221005T161137Z
UID:10002320-1676892600-1676923200@leatherbackbrewing.com
SUMMARY:St. Croix- LOVE Mondays!
DESCRIPTION:THREE Reasons to LOVE Mondays!\n\n1. A chance to set hte tone for the coming week.\n2. Another beautiful day of island life!\n3. A free pint of beer with the purchase of a large pizza at Leatherback Brewing Company! (Dine in only)
URL:https://leatherbackbrewing.com/event/lovemondays/2023-02-20/
LOCATION:Leatherback Brewing Company- St. Croix
CATEGORIES:Specials
ATTACH;FMTTYPE=image/jpeg:https://leatherbackbrewing.com/wp-content/uploads/2021/09/LBB_Mondays_Flyer-scaled.jpg
END:VEVENT
BEGIN:VEVENT
DTSTART;TZID=UTC:20230217T170000
DTEND;TZID=UTC:20230217T200000
DTSTAMP:20260424T141935
CREATED:20221005T160714Z
LAST-MODIFIED:20221005T164126Z
UID:10002844-1676653200-1676664000@leatherbackbrewing.com
SUMMARY:St. Croix Live Music
DESCRIPTION:Check our Facebook page to see who is playing!
URL:https://leatherbackbrewing.com/event/st-croix-live-music/2023-02-17/
LOCATION:Leatherback Brewing Company- St. Croix
CATEGORIES:Live Music
ATTACH;FMTTYPE=application/pdf:https://leatherbackbrewing.com/wp-content/uploads/2022/10/LBB_LiveMusic_St.-Croix.pdf
END:VEVENT
BEGIN:VEVENT
DTSTART;TZID=UTC:20230213T113000
DTEND;TZID=UTC:20230213T200000
DTSTAMP:20260424T141935
CREATED:20210920T214536Z
LAST-MODIFIED:20221005T161137Z
UID:10002319-1676287800-1676318400@leatherbackbrewing.com
SUMMARY:St. Croix- LOVE Mondays!
DESCRIPTION:THREE Reasons to LOVE Mondays!\n\n1. A chance to set hte tone for the coming week.\n2. Another beautiful day of island life!\n3. A free pint of beer with the purchase of a large pizza at Leatherback Brewing Company! (Dine in only)
URL:https://leatherbackbrewing.com/event/lovemondays/2023-02-13/
LOCATION:Leatherback Brewing Company- St. Croix
CATEGORIES:Specials
ATTACH;FMTTYPE=image/jpeg:https://leatherbackbrewing.com/wp-content/uploads/2021/09/LBB_Mondays_Flyer-scaled.jpg
END:VEVENT
BEGIN:VEVENT
DTSTART;TZID=UTC:20230210T170000
DTEND;TZID=UTC:20230210T200000
DTSTAMP:20260424T141935
CREATED:20221005T160714Z
LAST-MODIFIED:20221005T164126Z
UID:10002843-1676048400-1676059200@leatherbackbrewing.com
SUMMARY:St. Croix Live Music
DESCRIPTION:Check our Facebook page to see who is playing!
URL:https://leatherbackbrewing.com/event/st-croix-live-music/2023-02-10/
LOCATION:Leatherback Brewing Company- St. Croix
CATEGORIES:Live Music
ATTACH;FMTTYPE=application/pdf:https://leatherbackbrewing.com/wp-content/uploads/2022/10/LBB_LiveMusic_St.-Croix.pdf
END:VEVENT
BEGIN:VEVENT
DTSTART;TZID=UTC:20230206T113000
DTEND;TZID=UTC:20230206T200000
DTSTAMP:20260424T141935
CREATED:20210920T214536Z
LAST-MODIFIED:20221005T161137Z
UID:10002318-1675683000-1675713600@leatherbackbrewing.com
SUMMARY:St. Croix- LOVE Mondays!
DESCRIPTION:THREE Reasons to LOVE Mondays!\n\n1. A chance to set hte tone for the coming week.\n2. Another beautiful day of island life!\n3. A free pint of beer with the purchase of a large pizza at Leatherback Brewing Company! (Dine in only)
URL:https://leatherbackbrewing.com/event/lovemondays/2023-02-06/
LOCATION:Leatherback Brewing Company- St. Croix
CATEGORIES:Specials
ATTACH;FMTTYPE=image/jpeg:https://leatherbackbrewing.com/wp-content/uploads/2021/09/LBB_Mondays_Flyer-scaled.jpg
END:VEVENT
BEGIN:VEVENT
DTSTART;TZID=UTC:20230205T190000
DTEND;TZID=UTC:20230205T210000
DTSTAMP:20260424T141936
CREATED:20221005T155657Z
LAST-MODIFIED:20221005T155731Z
UID:10002814-1675623600-1675630800@leatherbackbrewing.com
SUMMARY:St. Croix- Movie Night
DESCRIPTION:Join us for a family friendly movie on the first Saturday of every month! Bring your chairs and blankets and enjoy a movie outdoors\, under the stars! Check our Facebook page for the current month’s movie!
URL:https://leatherbackbrewing.com/event/st-croix-movie-night/2023-02-05/
LOCATION:Leatherback Brewing Company- St. Croix
ATTACH;FMTTYPE=image/jpeg:https://leatherbackbrewing.com/wp-content/uploads/2022/10/movie.jpg
END:VEVENT
BEGIN:VEVENT
DTSTART;TZID=UTC:20230203T170000
DTEND;TZID=UTC:20230203T200000
DTSTAMP:20260424T141936
CREATED:20221005T160714Z
LAST-MODIFIED:20221005T164126Z
UID:10002842-1675443600-1675454400@leatherbackbrewing.com
SUMMARY:St. Croix Live Music
DESCRIPTION:Check our Facebook page to see who is playing!
URL:https://leatherbackbrewing.com/event/st-croix-live-music/2023-02-03/
LOCATION:Leatherback Brewing Company- St. Croix
CATEGORIES:Live Music
ATTACH;FMTTYPE=application/pdf:https://leatherbackbrewing.com/wp-content/uploads/2022/10/LBB_LiveMusic_St.-Croix.pdf
END:VEVENT
BEGIN:VEVENT
DTSTART;TZID=UTC:20230130T113000
DTEND;TZID=UTC:20230130T200000
DTSTAMP:20260424T141936
CREATED:20210920T214536Z
LAST-MODIFIED:20221005T161137Z
UID:10002317-1675078200-1675108800@leatherbackbrewing.com
SUMMARY:St. Croix- LOVE Mondays!
DESCRIPTION:THREE Reasons to LOVE Mondays!\n\n1. A chance to set hte tone for the coming week.\n2. Another beautiful day of island life!\n3. A free pint of beer with the purchase of a large pizza at Leatherback Brewing Company! (Dine in only)
URL:https://leatherbackbrewing.com/event/lovemondays/2023-01-30/
LOCATION:Leatherback Brewing Company- St. Croix
CATEGORIES:Specials
ATTACH;FMTTYPE=image/jpeg:https://leatherbackbrewing.com/wp-content/uploads/2021/09/LBB_Mondays_Flyer-scaled.jpg
END:VEVENT
BEGIN:VEVENT
DTSTART;TZID=UTC:20230129T130000
DTEND;TZID=UTC:20230129T190000
DTSTAMP:20260424T141936
CREATED:20210920T220132Z
LAST-MODIFIED:20221005T151135Z
UID:10002244-1674997200-1675018800@leatherbackbrewing.com
SUMMARY:St. Croix- Sunday Football
DESCRIPTION:It’s Football Season! Come out each week to see how your NFL picks stack up! \nSt. Croix- We’ll be playing almost all of the Sunday afternoon games plus Redzone! Come cheer for your favorite team while drinking your favorite local brews! \n 
URL:https://leatherbackbrewing.com/event/sunday-football/2023-01-29/
LOCATION:Leatherback Brewing Company- St. Croix
ATTACH;FMTTYPE=image/jpeg:https://leatherbackbrewing.com/wp-content/uploads/2021/09/football-1-scaled.jpg
END:VEVENT
BEGIN:VEVENT
DTSTART;TZID=UTC:20230127T170000
DTEND;TZID=UTC:20230127T200000
DTSTAMP:20260424T141936
CREATED:20221005T160714Z
LAST-MODIFIED:20221005T164126Z
UID:10002841-1674838800-1674849600@leatherbackbrewing.com
SUMMARY:St. Croix Live Music
DESCRIPTION:Check our Facebook page to see who is playing!
URL:https://leatherbackbrewing.com/event/st-croix-live-music/2023-01-27/
LOCATION:Leatherback Brewing Company- St. Croix
CATEGORIES:Live Music
ATTACH;FMTTYPE=application/pdf:https://leatherbackbrewing.com/wp-content/uploads/2022/10/LBB_LiveMusic_St.-Croix.pdf
END:VEVENT
BEGIN:VEVENT
DTSTART;TZID=UTC:20230123T113000
DTEND;TZID=UTC:20230123T200000
DTSTAMP:20260424T141936
CREATED:20210920T214536Z
LAST-MODIFIED:20221005T161137Z
UID:10002316-1674473400-1674504000@leatherbackbrewing.com
SUMMARY:St. Croix- LOVE Mondays!
DESCRIPTION:THREE Reasons to LOVE Mondays!\n\n1. A chance to set hte tone for the coming week.\n2. Another beautiful day of island life!\n3. A free pint of beer with the purchase of a large pizza at Leatherback Brewing Company! (Dine in only)
URL:https://leatherbackbrewing.com/event/lovemondays/2023-01-23/
LOCATION:Leatherback Brewing Company- St. Croix
CATEGORIES:Specials
ATTACH;FMTTYPE=image/jpeg:https://leatherbackbrewing.com/wp-content/uploads/2021/09/LBB_Mondays_Flyer-scaled.jpg
END:VEVENT
BEGIN:VEVENT
DTSTART;TZID=UTC:20230122T130000
DTEND;TZID=UTC:20230122T190000
DTSTAMP:20260424T141936
CREATED:20210920T220132Z
LAST-MODIFIED:20221005T151135Z
UID:10002243-1674392400-1674414000@leatherbackbrewing.com
SUMMARY:St. Croix- Sunday Football
DESCRIPTION:It’s Football Season! Come out each week to see how your NFL picks stack up! \nSt. Croix- We’ll be playing almost all of the Sunday afternoon games plus Redzone! Come cheer for your favorite team while drinking your favorite local brews! \n 
URL:https://leatherbackbrewing.com/event/sunday-football/2023-01-22/
LOCATION:Leatherback Brewing Company- St. Croix
ATTACH;FMTTYPE=image/jpeg:https://leatherbackbrewing.com/wp-content/uploads/2021/09/football-1-scaled.jpg
END:VEVENT
BEGIN:VEVENT
DTSTART;TZID=UTC:20230120T170000
DTEND;TZID=UTC:20230120T200000
DTSTAMP:20260424T141936
CREATED:20221005T160714Z
LAST-MODIFIED:20221005T164126Z
UID:10002840-1674234000-1674244800@leatherbackbrewing.com
SUMMARY:St. Croix Live Music
DESCRIPTION:Check our Facebook page to see who is playing!
URL:https://leatherbackbrewing.com/event/st-croix-live-music/2023-01-20/
LOCATION:Leatherback Brewing Company- St. Croix
CATEGORIES:Live Music
ATTACH;FMTTYPE=application/pdf:https://leatherbackbrewing.com/wp-content/uploads/2022/10/LBB_LiveMusic_St.-Croix.pdf
END:VEVENT
BEGIN:VEVENT
DTSTART;TZID=UTC:20230116T113000
DTEND;TZID=UTC:20230116T200000
DTSTAMP:20260424T141936
CREATED:20210920T214536Z
LAST-MODIFIED:20221005T161137Z
UID:10002315-1673868600-1673899200@leatherbackbrewing.com
SUMMARY:St. Croix- LOVE Mondays!
DESCRIPTION:THREE Reasons to LOVE Mondays!\n\n1. A chance to set hte tone for the coming week.\n2. Another beautiful day of island life!\n3. A free pint of beer with the purchase of a large pizza at Leatherback Brewing Company! (Dine in only)
URL:https://leatherbackbrewing.com/event/lovemondays/2023-01-16/
LOCATION:Leatherback Brewing Company- St. Croix
CATEGORIES:Specials
ATTACH;FMTTYPE=image/jpeg:https://leatherbackbrewing.com/wp-content/uploads/2021/09/LBB_Mondays_Flyer-scaled.jpg
END:VEVENT
BEGIN:VEVENT
DTSTART;TZID=UTC:20230115T130000
DTEND;TZID=UTC:20230115T190000
DTSTAMP:20260424T141936
CREATED:20210920T220132Z
LAST-MODIFIED:20221005T151135Z
UID:10002242-1673787600-1673809200@leatherbackbrewing.com
SUMMARY:St. Croix- Sunday Football
DESCRIPTION:It’s Football Season! Come out each week to see how your NFL picks stack up! \nSt. Croix- We’ll be playing almost all of the Sunday afternoon games plus Redzone! Come cheer for your favorite team while drinking your favorite local brews! \n 
URL:https://leatherbackbrewing.com/event/sunday-football/2023-01-15/
LOCATION:Leatherback Brewing Company- St. Croix
ATTACH;FMTTYPE=image/jpeg:https://leatherbackbrewing.com/wp-content/uploads/2021/09/football-1-scaled.jpg
END:VEVENT
BEGIN:VEVENT
DTSTART;TZID=UTC:20230113T170000
DTEND;TZID=UTC:20230113T200000
DTSTAMP:20260424T141936
CREATED:20221005T160714Z
LAST-MODIFIED:20221005T164126Z
UID:10002839-1673629200-1673640000@leatherbackbrewing.com
SUMMARY:St. Croix Live Music
DESCRIPTION:Check our Facebook page to see who is playing!
URL:https://leatherbackbrewing.com/event/st-croix-live-music/2023-01-13/
LOCATION:Leatherback Brewing Company- St. Croix
CATEGORIES:Live Music
ATTACH;FMTTYPE=application/pdf:https://leatherbackbrewing.com/wp-content/uploads/2022/10/LBB_LiveMusic_St.-Croix.pdf
END:VEVENT
BEGIN:VEVENT
DTSTART;TZID=UTC:20230109T113000
DTEND;TZID=UTC:20230109T200000
DTSTAMP:20260424T141936
CREATED:20210920T214536Z
LAST-MODIFIED:20221005T161137Z
UID:10002314-1673263800-1673294400@leatherbackbrewing.com
SUMMARY:St. Croix- LOVE Mondays!
DESCRIPTION:THREE Reasons to LOVE Mondays!\n\n1. A chance to set hte tone for the coming week.\n2. Another beautiful day of island life!\n3. A free pint of beer with the purchase of a large pizza at Leatherback Brewing Company! (Dine in only)
URL:https://leatherbackbrewing.com/event/lovemondays/2023-01-09/
LOCATION:Leatherback Brewing Company- St. Croix
CATEGORIES:Specials
ATTACH;FMTTYPE=image/jpeg:https://leatherbackbrewing.com/wp-content/uploads/2021/09/LBB_Mondays_Flyer-scaled.jpg
END:VEVENT
BEGIN:VEVENT
DTSTART;TZID=UTC:20230108T130000
DTEND;TZID=UTC:20230108T190000
DTSTAMP:20260424T141936
CREATED:20210920T220132Z
LAST-MODIFIED:20221005T151135Z
UID:10002241-1673182800-1673204400@leatherbackbrewing.com
SUMMARY:St. Croix- Sunday Football
DESCRIPTION:It’s Football Season! Come out each week to see how your NFL picks stack up! \nSt. Croix- We’ll be playing almost all of the Sunday afternoon games plus Redzone! Come cheer for your favorite team while drinking your favorite local brews! \n 
URL:https://leatherbackbrewing.com/event/sunday-football/2023-01-08/
LOCATION:Leatherback Brewing Company- St. Croix
ATTACH;FMTTYPE=image/jpeg:https://leatherbackbrewing.com/wp-content/uploads/2021/09/football-1-scaled.jpg
END:VEVENT
BEGIN:VEVENT
DTSTART;TZID=UTC:20230106T170000
DTEND;TZID=UTC:20230106T200000
DTSTAMP:20260424T141936
CREATED:20221005T160714Z
LAST-MODIFIED:20221005T164126Z
UID:10002838-1673024400-1673035200@leatherbackbrewing.com
SUMMARY:St. Croix Live Music
DESCRIPTION:Check our Facebook page to see who is playing!
URL:https://leatherbackbrewing.com/event/st-croix-live-music/2023-01-06/
LOCATION:Leatherback Brewing Company- St. Croix
CATEGORIES:Live Music
ATTACH;FMTTYPE=application/pdf:https://leatherbackbrewing.com/wp-content/uploads/2022/10/LBB_LiveMusic_St.-Croix.pdf
END:VEVENT
BEGIN:VEVENT
DTSTART;TZID=UTC:20230102T113000
DTEND;TZID=UTC:20230102T200000
DTSTAMP:20260424T141936
CREATED:20210920T214536Z
LAST-MODIFIED:20221005T161137Z
UID:10002313-1672659000-1672689600@leatherbackbrewing.com
SUMMARY:St. Croix- LOVE Mondays!
DESCRIPTION:THREE Reasons to LOVE Mondays!\n\n1. A chance to set hte tone for the coming week.\n2. Another beautiful day of island life!\n3. A free pint of beer with the purchase of a large pizza at Leatherback Brewing Company! (Dine in only)
URL:https://leatherbackbrewing.com/event/lovemondays/2023-01-02/
LOCATION:Leatherback Brewing Company- St. Croix
CATEGORIES:Specials
ATTACH;FMTTYPE=image/jpeg:https://leatherbackbrewing.com/wp-content/uploads/2021/09/LBB_Mondays_Flyer-scaled.jpg
END:VEVENT
BEGIN:VEVENT
DTSTART;TZID=UTC:20230101T190000
DTEND;TZID=UTC:20230101T210000
DTSTAMP:20260424T141936
CREATED:20221005T155657Z
LAST-MODIFIED:20221005T155731Z
UID:10002813-1672599600-1672606800@leatherbackbrewing.com
SUMMARY:St. Croix- Movie Night
DESCRIPTION:Join us for a family friendly movie on the first Saturday of every month! Bring your chairs and blankets and enjoy a movie outdoors\, under the stars! Check our Facebook page for the current month’s movie!
URL:https://leatherbackbrewing.com/event/st-croix-movie-night/2023-01-01/
LOCATION:Leatherback Brewing Company- St. Croix
ATTACH;FMTTYPE=image/jpeg:https://leatherbackbrewing.com/wp-content/uploads/2022/10/movie.jpg
END:VEVENT
BEGIN:VEVENT
DTSTART;TZID=UTC:20230101T130000
DTEND;TZID=UTC:20230101T190000
DTSTAMP:20260424T141936
CREATED:20210920T220132Z
LAST-MODIFIED:20221005T151135Z
UID:10002240-1672578000-1672599600@leatherbackbrewing.com
SUMMARY:St. Croix- Sunday Football
DESCRIPTION:It’s Football Season! Come out each week to see how your NFL picks stack up! \nSt. Croix- We’ll be playing almost all of the Sunday afternoon games plus Redzone! Come cheer for your favorite team while drinking your favorite local brews! \n 
URL:https://leatherbackbrewing.com/event/sunday-football/2023-01-01/
LOCATION:Leatherback Brewing Company- St. Croix
ATTACH;FMTTYPE=image/jpeg:https://leatherbackbrewing.com/wp-content/uploads/2021/09/football-1-scaled.jpg
END:VEVENT
BEGIN:VEVENT
DTSTART;TZID=UTC:20221230T170000
DTEND;TZID=UTC:20221230T200000
DTSTAMP:20260424T141936
CREATED:20221005T160714Z
LAST-MODIFIED:20221005T164126Z
UID:10002837-1672419600-1672430400@leatherbackbrewing.com
SUMMARY:St. Croix Live Music
DESCRIPTION:Check our Facebook page to see who is playing!
URL:https://leatherbackbrewing.com/event/st-croix-live-music/2022-12-30/
LOCATION:Leatherback Brewing Company- St. Croix
CATEGORIES:Live Music
ATTACH;FMTTYPE=application/pdf:https://leatherbackbrewing.com/wp-content/uploads/2022/10/LBB_LiveMusic_St.-Croix.pdf
END:VEVENT
BEGIN:VEVENT
DTSTART;TZID=UTC:20221229T180000
DTEND;TZID=UTC:20221229T210000
DTSTAMP:20260424T141936
CREATED:20221005T143756Z
LAST-MODIFIED:20221005T151726Z
UID:10001075-1672336800-1672347600@leatherbackbrewing.com
SUMMARY:St. Thomas- Open Mic Night
DESCRIPTION:In collaboration with Event Presenter/Producer Street Level VI (SLVI)\, we now have a weekly Open Mic Music Night every Thursday from 6-9 pm at Leatherback St. Thomas location in the Havensight Plaza (next to Chicken N’ Bowling). It has become THE PLACE to go every THURSDAY NIGHT on St. Thomas.\nJoin us every week as a popular island performing artist is a Guest Emcee for the night\, accompanied by the talented back-line of Ned Lutz on bass guitar and Terris Bynum aka ‘Tee’ on drums\, ready to support your on-stage presence. Bring your voice and your instruments!\nGuest Emcee Schedule:\nOct. 6 & 13 Shane Prather\nOct. 20 & 27 Adam Parr\nNov. 3 & 10 Drew Rock (yes he’s back!)\nNov. 17 & 24 Jared Courter\nWe welcome cameo performers for stand-up-comedy and poetry readings as well!\nEach week\, get there early to sign up with the Emcee for your cameo performance!\nExtended Happy Hour until 7pm = $2 off drafts and cocktails.\nOpen 12pm -10pm Thursday.
URL:https://leatherbackbrewing.com/event/stt-open-mic-night/2022-12-29/
LOCATION:Leatherback Brewing Company- St. Thomas
CATEGORIES:Live Music
ATTACH;FMTTYPE=image/jpeg:https://leatherbackbrewing.com/wp-content/uploads/2022/10/Open-Mic-scaled.jpg
END:VEVENT
BEGIN:VEVENT
DTSTART;TZID=UTC:20221226T113000
DTEND;TZID=UTC:20221226T200000
DTSTAMP:20260424T141936
CREATED:20210920T214536Z
LAST-MODIFIED:20221005T161137Z
UID:10002312-1672054200-1672084800@leatherbackbrewing.com
SUMMARY:St. Croix- LOVE Mondays!
DESCRIPTION:THREE Reasons to LOVE Mondays!\n\n1. A chance to set hte tone for the coming week.\n2. Another beautiful day of island life!\n3. A free pint of beer with the purchase of a large pizza at Leatherback Brewing Company! (Dine in only)
URL:https://leatherbackbrewing.com/event/lovemondays/2022-12-26/
LOCATION:Leatherback Brewing Company- St. Croix
CATEGORIES:Specials
ATTACH;FMTTYPE=image/jpeg:https://leatherbackbrewing.com/wp-content/uploads/2021/09/LBB_Mondays_Flyer-scaled.jpg
END:VEVENT
BEGIN:VEVENT
DTSTART;TZID=UTC:20221225T130000
DTEND;TZID=UTC:20221225T190000
DTSTAMP:20260424T141936
CREATED:20210920T220132Z
LAST-MODIFIED:20221005T151135Z
UID:10002239-1671973200-1671994800@leatherbackbrewing.com
SUMMARY:St. Croix- Sunday Football
DESCRIPTION:It’s Football Season! Come out each week to see how your NFL picks stack up! \nSt. Croix- We’ll be playing almost all of the Sunday afternoon games plus Redzone! Come cheer for your favorite team while drinking your favorite local brews! \n 
URL:https://leatherbackbrewing.com/event/sunday-football/2022-12-25/
LOCATION:Leatherback Brewing Company- St. Croix
ATTACH;FMTTYPE=image/jpeg:https://leatherbackbrewing.com/wp-content/uploads/2021/09/football-1-scaled.jpg
END:VEVENT
BEGIN:VEVENT
DTSTART;TZID=UTC:20221223T170000
DTEND;TZID=UTC:20221223T200000
DTSTAMP:20260424T141936
CREATED:20221005T160714Z
LAST-MODIFIED:20221005T164126Z
UID:10002836-1671814800-1671825600@leatherbackbrewing.com
SUMMARY:St. Croix Live Music
DESCRIPTION:Check our Facebook page to see who is playing!
URL:https://leatherbackbrewing.com/event/st-croix-live-music/2022-12-23/
LOCATION:Leatherback Brewing Company- St. Croix
CATEGORIES:Live Music
ATTACH;FMTTYPE=application/pdf:https://leatherbackbrewing.com/wp-content/uploads/2022/10/LBB_LiveMusic_St.-Croix.pdf
END:VEVENT
BEGIN:VEVENT
DTSTART;TZID=UTC:20221222T180000
DTEND;TZID=UTC:20221222T210000
DTSTAMP:20260424T141936
CREATED:20221005T143756Z
LAST-MODIFIED:20221005T151726Z
UID:10001074-1671732000-1671742800@leatherbackbrewing.com
SUMMARY:St. Thomas- Open Mic Night
DESCRIPTION:In collaboration with Event Presenter/Producer Street Level VI (SLVI)\, we now have a weekly Open Mic Music Night every Thursday from 6-9 pm at Leatherback St. Thomas location in the Havensight Plaza (next to Chicken N’ Bowling). It has become THE PLACE to go every THURSDAY NIGHT on St. Thomas.\nJoin us every week as a popular island performing artist is a Guest Emcee for the night\, accompanied by the talented back-line of Ned Lutz on bass guitar and Terris Bynum aka ‘Tee’ on drums\, ready to support your on-stage presence. Bring your voice and your instruments!\nGuest Emcee Schedule:\nOct. 6 & 13 Shane Prather\nOct. 20 & 27 Adam Parr\nNov. 3 & 10 Drew Rock (yes he’s back!)\nNov. 17 & 24 Jared Courter\nWe welcome cameo performers for stand-up-comedy and poetry readings as well!\nEach week\, get there early to sign up with the Emcee for your cameo performance!\nExtended Happy Hour until 7pm = $2 off drafts and cocktails.\nOpen 12pm -10pm Thursday.
URL:https://leatherbackbrewing.com/event/stt-open-mic-night/2022-12-22/
LOCATION:Leatherback Brewing Company- St. Thomas
CATEGORIES:Live Music
ATTACH;FMTTYPE=image/jpeg:https://leatherbackbrewing.com/wp-content/uploads/2022/10/Open-Mic-scaled.jpg
END:VEVENT
BEGIN:VEVENT
DTSTART;TZID=UTC:20221219T113000
DTEND;TZID=UTC:20221219T200000
DTSTAMP:20260424T141936
CREATED:20210920T214536Z
LAST-MODIFIED:20221005T161137Z
UID:10002311-1671449400-1671480000@leatherbackbrewing.com
SUMMARY:St. Croix- LOVE Mondays!
DESCRIPTION:THREE Reasons to LOVE Mondays!\n\n1. A chance to set hte tone for the coming week.\n2. Another beautiful day of island life!\n3. A free pint of beer with the purchase of a large pizza at Leatherback Brewing Company! (Dine in only)
URL:https://leatherbackbrewing.com/event/lovemondays/2022-12-19/
LOCATION:Leatherback Brewing Company- St. Croix
CATEGORIES:Specials
ATTACH;FMTTYPE=image/jpeg:https://leatherbackbrewing.com/wp-content/uploads/2021/09/LBB_Mondays_Flyer-scaled.jpg
END:VEVENT
END:VCALENDAR