BEGIN:VCALENDAR
VERSION:2.0
PRODID:-//Leatherback Brewing - ECPv6.15.20//NONSGML v1.0//EN
CALSCALE:GREGORIAN
METHOD:PUBLISH
X-WR-CALNAME:Leatherback Brewing
X-ORIGINAL-URL:https://leatherbackbrewing.com
X-WR-CALDESC:Events for Leatherback Brewing
REFRESH-INTERVAL;VALUE=DURATION:PT1H
X-Robots-Tag:noindex
X-PUBLISHED-TTL:PT1H
BEGIN:VTIMEZONE
TZID:UTC
BEGIN:STANDARD
TZOFFSETFROM:+0000
TZOFFSETTO:+0000
TZNAME:UTC
DTSTART:20210101T000000
END:STANDARD
END:VTIMEZONE
BEGIN:VEVENT
DTSTART;TZID=UTC:20221218T130000
DTEND;TZID=UTC:20221218T190000
DTSTAMP:20260424T151243
CREATED:20210920T220132Z
LAST-MODIFIED:20221005T151135Z
UID:10002238-1671368400-1671390000@leatherbackbrewing.com
SUMMARY:St. Croix- Sunday Football
DESCRIPTION:It’s Football Season! Come out each week to see how your NFL picks stack up! \nSt. Croix- We’ll be playing almost all of the Sunday afternoon games plus Redzone! Come cheer for your favorite team while drinking your favorite local brews! \n 
URL:https://leatherbackbrewing.com/event/sunday-football/2022-12-18/
LOCATION:Leatherback Brewing Company- St. Croix
ATTACH;FMTTYPE=image/jpeg:https://leatherbackbrewing.com/wp-content/uploads/2021/09/football-1-scaled.jpg
END:VEVENT
BEGIN:VEVENT
DTSTART;TZID=UTC:20221216T170000
DTEND;TZID=UTC:20221216T200000
DTSTAMP:20260424T151243
CREATED:20221005T160714Z
LAST-MODIFIED:20221005T164126Z
UID:10002835-1671210000-1671220800@leatherbackbrewing.com
SUMMARY:St. Croix Live Music
DESCRIPTION:Check our Facebook page to see who is playing!
URL:https://leatherbackbrewing.com/event/st-croix-live-music/2022-12-16/
LOCATION:Leatherback Brewing Company- St. Croix
CATEGORIES:Live Music
ATTACH;FMTTYPE=application/pdf:https://leatherbackbrewing.com/wp-content/uploads/2022/10/LBB_LiveMusic_St.-Croix.pdf
END:VEVENT
BEGIN:VEVENT
DTSTART;TZID=UTC:20221215T180000
DTEND;TZID=UTC:20221215T210000
DTSTAMP:20260424T151243
CREATED:20221005T143756Z
LAST-MODIFIED:20221005T151726Z
UID:10001073-1671127200-1671138000@leatherbackbrewing.com
SUMMARY:St. Thomas- Open Mic Night
DESCRIPTION:In collaboration with Event Presenter/Producer Street Level VI (SLVI)\, we now have a weekly Open Mic Music Night every Thursday from 6-9 pm at Leatherback St. Thomas location in the Havensight Plaza (next to Chicken N’ Bowling). It has become THE PLACE to go every THURSDAY NIGHT on St. Thomas.\nJoin us every week as a popular island performing artist is a Guest Emcee for the night\, accompanied by the talented back-line of Ned Lutz on bass guitar and Terris Bynum aka ‘Tee’ on drums\, ready to support your on-stage presence. Bring your voice and your instruments!\nGuest Emcee Schedule:\nOct. 6 & 13 Shane Prather\nOct. 20 & 27 Adam Parr\nNov. 3 & 10 Drew Rock (yes he’s back!)\nNov. 17 & 24 Jared Courter\nWe welcome cameo performers for stand-up-comedy and poetry readings as well!\nEach week\, get there early to sign up with the Emcee for your cameo performance!\nExtended Happy Hour until 7pm = $2 off drafts and cocktails.\nOpen 12pm -10pm Thursday.
URL:https://leatherbackbrewing.com/event/stt-open-mic-night/2022-12-15/
LOCATION:Leatherback Brewing Company- St. Thomas
CATEGORIES:Live Music
ATTACH;FMTTYPE=image/jpeg:https://leatherbackbrewing.com/wp-content/uploads/2022/10/Open-Mic-scaled.jpg
END:VEVENT
BEGIN:VEVENT
DTSTART;TZID=UTC:20221212T113000
DTEND;TZID=UTC:20221212T200000
DTSTAMP:20260424T151243
CREATED:20210920T214536Z
LAST-MODIFIED:20221005T161137Z
UID:10002310-1670844600-1670875200@leatherbackbrewing.com
SUMMARY:St. Croix- LOVE Mondays!
DESCRIPTION:THREE Reasons to LOVE Mondays!\n\n1. A chance to set hte tone for the coming week.\n2. Another beautiful day of island life!\n3. A free pint of beer with the purchase of a large pizza at Leatherback Brewing Company! (Dine in only)
URL:https://leatherbackbrewing.com/event/lovemondays/2022-12-12/
LOCATION:Leatherback Brewing Company- St. Croix
CATEGORIES:Specials
ATTACH;FMTTYPE=image/jpeg:https://leatherbackbrewing.com/wp-content/uploads/2021/09/LBB_Mondays_Flyer-scaled.jpg
END:VEVENT
BEGIN:VEVENT
DTSTART;TZID=UTC:20221211T130000
DTEND;TZID=UTC:20221211T190000
DTSTAMP:20260424T151243
CREATED:20210920T220132Z
LAST-MODIFIED:20221005T151135Z
UID:10002237-1670763600-1670785200@leatherbackbrewing.com
SUMMARY:St. Croix- Sunday Football
DESCRIPTION:It’s Football Season! Come out each week to see how your NFL picks stack up! \nSt. Croix- We’ll be playing almost all of the Sunday afternoon games plus Redzone! Come cheer for your favorite team while drinking your favorite local brews! \n 
URL:https://leatherbackbrewing.com/event/sunday-football/2022-12-11/
LOCATION:Leatherback Brewing Company- St. Croix
ATTACH;FMTTYPE=image/jpeg:https://leatherbackbrewing.com/wp-content/uploads/2021/09/football-1-scaled.jpg
END:VEVENT
BEGIN:VEVENT
DTSTART;TZID=UTC:20221209T170000
DTEND;TZID=UTC:20221209T200000
DTSTAMP:20260424T151243
CREATED:20221005T160714Z
LAST-MODIFIED:20221005T164126Z
UID:10002834-1670605200-1670616000@leatherbackbrewing.com
SUMMARY:St. Croix Live Music
DESCRIPTION:Check our Facebook page to see who is playing!
URL:https://leatherbackbrewing.com/event/st-croix-live-music/2022-12-09/
LOCATION:Leatherback Brewing Company- St. Croix
CATEGORIES:Live Music
ATTACH;FMTTYPE=application/pdf:https://leatherbackbrewing.com/wp-content/uploads/2022/10/LBB_LiveMusic_St.-Croix.pdf
END:VEVENT
BEGIN:VEVENT
DTSTART;TZID=UTC:20221208T180000
DTEND;TZID=UTC:20221208T210000
DTSTAMP:20260424T151243
CREATED:20221005T143756Z
LAST-MODIFIED:20221005T151726Z
UID:10001072-1670522400-1670533200@leatherbackbrewing.com
SUMMARY:St. Thomas- Open Mic Night
DESCRIPTION:In collaboration with Event Presenter/Producer Street Level VI (SLVI)\, we now have a weekly Open Mic Music Night every Thursday from 6-9 pm at Leatherback St. Thomas location in the Havensight Plaza (next to Chicken N’ Bowling). It has become THE PLACE to go every THURSDAY NIGHT on St. Thomas.\nJoin us every week as a popular island performing artist is a Guest Emcee for the night\, accompanied by the talented back-line of Ned Lutz on bass guitar and Terris Bynum aka ‘Tee’ on drums\, ready to support your on-stage presence. Bring your voice and your instruments!\nGuest Emcee Schedule:\nOct. 6 & 13 Shane Prather\nOct. 20 & 27 Adam Parr\nNov. 3 & 10 Drew Rock (yes he’s back!)\nNov. 17 & 24 Jared Courter\nWe welcome cameo performers for stand-up-comedy and poetry readings as well!\nEach week\, get there early to sign up with the Emcee for your cameo performance!\nExtended Happy Hour until 7pm = $2 off drafts and cocktails.\nOpen 12pm -10pm Thursday.
URL:https://leatherbackbrewing.com/event/stt-open-mic-night/2022-12-08/
LOCATION:Leatherback Brewing Company- St. Thomas
CATEGORIES:Live Music
ATTACH;FMTTYPE=image/jpeg:https://leatherbackbrewing.com/wp-content/uploads/2022/10/Open-Mic-scaled.jpg
END:VEVENT
BEGIN:VEVENT
DTSTART;TZID=UTC:20221205T113000
DTEND;TZID=UTC:20221205T200000
DTSTAMP:20260424T151243
CREATED:20210920T214536Z
LAST-MODIFIED:20221005T161137Z
UID:10002309-1670239800-1670270400@leatherbackbrewing.com
SUMMARY:St. Croix- LOVE Mondays!
DESCRIPTION:THREE Reasons to LOVE Mondays!\n\n1. A chance to set hte tone for the coming week.\n2. Another beautiful day of island life!\n3. A free pint of beer with the purchase of a large pizza at Leatherback Brewing Company! (Dine in only)
URL:https://leatherbackbrewing.com/event/lovemondays/2022-12-05/
LOCATION:Leatherback Brewing Company- St. Croix
CATEGORIES:Specials
ATTACH;FMTTYPE=image/jpeg:https://leatherbackbrewing.com/wp-content/uploads/2021/09/LBB_Mondays_Flyer-scaled.jpg
END:VEVENT
BEGIN:VEVENT
DTSTART;TZID=UTC:20221204T190000
DTEND;TZID=UTC:20221204T210000
DTSTAMP:20260424T151243
CREATED:20221005T155657Z
LAST-MODIFIED:20221005T155731Z
UID:10002812-1670180400-1670187600@leatherbackbrewing.com
SUMMARY:St. Croix- Movie Night
DESCRIPTION:Join us for a family friendly movie on the first Saturday of every month! Bring your chairs and blankets and enjoy a movie outdoors\, under the stars! Check our Facebook page for the current month’s movie!
URL:https://leatherbackbrewing.com/event/st-croix-movie-night/2022-12-04/
LOCATION:Leatherback Brewing Company- St. Croix
ATTACH;FMTTYPE=image/jpeg:https://leatherbackbrewing.com/wp-content/uploads/2022/10/movie.jpg
END:VEVENT
BEGIN:VEVENT
DTSTART;TZID=UTC:20221204T130000
DTEND;TZID=UTC:20221204T190000
DTSTAMP:20260424T151243
CREATED:20210920T220132Z
LAST-MODIFIED:20221005T151135Z
UID:10002236-1670158800-1670180400@leatherbackbrewing.com
SUMMARY:St. Croix- Sunday Football
DESCRIPTION:It’s Football Season! Come out each week to see how your NFL picks stack up! \nSt. Croix- We’ll be playing almost all of the Sunday afternoon games plus Redzone! Come cheer for your favorite team while drinking your favorite local brews! \n 
URL:https://leatherbackbrewing.com/event/sunday-football/2022-12-04/
LOCATION:Leatherback Brewing Company- St. Croix
ATTACH;FMTTYPE=image/jpeg:https://leatherbackbrewing.com/wp-content/uploads/2021/09/football-1-scaled.jpg
END:VEVENT
BEGIN:VEVENT
DTSTART;TZID=UTC:20221202T170000
DTEND;TZID=UTC:20221202T200000
DTSTAMP:20260424T151243
CREATED:20221005T160714Z
LAST-MODIFIED:20221005T164126Z
UID:10002833-1670000400-1670011200@leatherbackbrewing.com
SUMMARY:St. Croix Live Music
DESCRIPTION:Check our Facebook page to see who is playing!
URL:https://leatherbackbrewing.com/event/st-croix-live-music/2022-12-02/
LOCATION:Leatherback Brewing Company- St. Croix
CATEGORIES:Live Music
ATTACH;FMTTYPE=application/pdf:https://leatherbackbrewing.com/wp-content/uploads/2022/10/LBB_LiveMusic_St.-Croix.pdf
END:VEVENT
BEGIN:VEVENT
DTSTART;TZID=UTC:20221201T180000
DTEND;TZID=UTC:20221201T210000
DTSTAMP:20260424T151243
CREATED:20221005T143756Z
LAST-MODIFIED:20221005T151726Z
UID:10001071-1669917600-1669928400@leatherbackbrewing.com
SUMMARY:St. Thomas- Open Mic Night
DESCRIPTION:In collaboration with Event Presenter/Producer Street Level VI (SLVI)\, we now have a weekly Open Mic Music Night every Thursday from 6-9 pm at Leatherback St. Thomas location in the Havensight Plaza (next to Chicken N’ Bowling). It has become THE PLACE to go every THURSDAY NIGHT on St. Thomas.\nJoin us every week as a popular island performing artist is a Guest Emcee for the night\, accompanied by the talented back-line of Ned Lutz on bass guitar and Terris Bynum aka ‘Tee’ on drums\, ready to support your on-stage presence. Bring your voice and your instruments!\nGuest Emcee Schedule:\nOct. 6 & 13 Shane Prather\nOct. 20 & 27 Adam Parr\nNov. 3 & 10 Drew Rock (yes he’s back!)\nNov. 17 & 24 Jared Courter\nWe welcome cameo performers for stand-up-comedy and poetry readings as well!\nEach week\, get there early to sign up with the Emcee for your cameo performance!\nExtended Happy Hour until 7pm = $2 off drafts and cocktails.\nOpen 12pm -10pm Thursday.
URL:https://leatherbackbrewing.com/event/stt-open-mic-night/2022-12-01/
LOCATION:Leatherback Brewing Company- St. Thomas
CATEGORIES:Live Music
ATTACH;FMTTYPE=image/jpeg:https://leatherbackbrewing.com/wp-content/uploads/2022/10/Open-Mic-scaled.jpg
END:VEVENT
BEGIN:VEVENT
DTSTART;TZID=UTC:20221128T113000
DTEND;TZID=UTC:20221128T200000
DTSTAMP:20260424T151243
CREATED:20210920T214536Z
LAST-MODIFIED:20221005T161137Z
UID:10002308-1669635000-1669665600@leatherbackbrewing.com
SUMMARY:St. Croix- LOVE Mondays!
DESCRIPTION:THREE Reasons to LOVE Mondays!\n\n1. A chance to set hte tone for the coming week.\n2. Another beautiful day of island life!\n3. A free pint of beer with the purchase of a large pizza at Leatherback Brewing Company! (Dine in only)
URL:https://leatherbackbrewing.com/event/lovemondays/2022-11-28/
LOCATION:Leatherback Brewing Company- St. Croix
CATEGORIES:Specials
ATTACH;FMTTYPE=image/jpeg:https://leatherbackbrewing.com/wp-content/uploads/2021/09/LBB_Mondays_Flyer-scaled.jpg
END:VEVENT
BEGIN:VEVENT
DTSTART;TZID=UTC:20221127T130000
DTEND;TZID=UTC:20221127T190000
DTSTAMP:20260424T151243
CREATED:20210920T220132Z
LAST-MODIFIED:20221005T151135Z
UID:10002235-1669554000-1669575600@leatherbackbrewing.com
SUMMARY:St. Croix- Sunday Football
DESCRIPTION:It’s Football Season! Come out each week to see how your NFL picks stack up! \nSt. Croix- We’ll be playing almost all of the Sunday afternoon games plus Redzone! Come cheer for your favorite team while drinking your favorite local brews! \n 
URL:https://leatherbackbrewing.com/event/sunday-football/2022-11-27/
LOCATION:Leatherback Brewing Company- St. Croix
ATTACH;FMTTYPE=image/jpeg:https://leatherbackbrewing.com/wp-content/uploads/2021/09/football-1-scaled.jpg
END:VEVENT
BEGIN:VEVENT
DTSTART;TZID=UTC:20221125T170000
DTEND;TZID=UTC:20221125T200000
DTSTAMP:20260424T151243
CREATED:20221005T160714Z
LAST-MODIFIED:20221005T164126Z
UID:10002832-1669395600-1669406400@leatherbackbrewing.com
SUMMARY:St. Croix Live Music
DESCRIPTION:Check our Facebook page to see who is playing!
URL:https://leatherbackbrewing.com/event/st-croix-live-music/2022-11-25/
LOCATION:Leatherback Brewing Company- St. Croix
CATEGORIES:Live Music
ATTACH;FMTTYPE=application/pdf:https://leatherbackbrewing.com/wp-content/uploads/2022/10/LBB_LiveMusic_St.-Croix.pdf
END:VEVENT
BEGIN:VEVENT
DTSTART;TZID=UTC:20221124T180000
DTEND;TZID=UTC:20221124T210000
DTSTAMP:20260424T151243
CREATED:20221005T143756Z
LAST-MODIFIED:20221005T151726Z
UID:10001070-1669312800-1669323600@leatherbackbrewing.com
SUMMARY:St. Thomas- Open Mic Night
DESCRIPTION:In collaboration with Event Presenter/Producer Street Level VI (SLVI)\, we now have a weekly Open Mic Music Night every Thursday from 6-9 pm at Leatherback St. Thomas location in the Havensight Plaza (next to Chicken N’ Bowling). It has become THE PLACE to go every THURSDAY NIGHT on St. Thomas.\nJoin us every week as a popular island performing artist is a Guest Emcee for the night\, accompanied by the talented back-line of Ned Lutz on bass guitar and Terris Bynum aka ‘Tee’ on drums\, ready to support your on-stage presence. Bring your voice and your instruments!\nGuest Emcee Schedule:\nOct. 6 & 13 Shane Prather\nOct. 20 & 27 Adam Parr\nNov. 3 & 10 Drew Rock (yes he’s back!)\nNov. 17 & 24 Jared Courter\nWe welcome cameo performers for stand-up-comedy and poetry readings as well!\nEach week\, get there early to sign up with the Emcee for your cameo performance!\nExtended Happy Hour until 7pm = $2 off drafts and cocktails.\nOpen 12pm -10pm Thursday.
URL:https://leatherbackbrewing.com/event/stt-open-mic-night/2022-11-24/
LOCATION:Leatherback Brewing Company- St. Thomas
CATEGORIES:Live Music
ATTACH;FMTTYPE=image/jpeg:https://leatherbackbrewing.com/wp-content/uploads/2022/10/Open-Mic-scaled.jpg
END:VEVENT
BEGIN:VEVENT
DTSTART;TZID=UTC:20221121T113000
DTEND;TZID=UTC:20221121T200000
DTSTAMP:20260424T151243
CREATED:20210920T214536Z
LAST-MODIFIED:20221005T161137Z
UID:10002307-1669030200-1669060800@leatherbackbrewing.com
SUMMARY:St. Croix- LOVE Mondays!
DESCRIPTION:THREE Reasons to LOVE Mondays!\n\n1. A chance to set hte tone for the coming week.\n2. Another beautiful day of island life!\n3. A free pint of beer with the purchase of a large pizza at Leatherback Brewing Company! (Dine in only)
URL:https://leatherbackbrewing.com/event/lovemondays/2022-11-21/
LOCATION:Leatherback Brewing Company- St. Croix
CATEGORIES:Specials
ATTACH;FMTTYPE=image/jpeg:https://leatherbackbrewing.com/wp-content/uploads/2021/09/LBB_Mondays_Flyer-scaled.jpg
END:VEVENT
BEGIN:VEVENT
DTSTART;TZID=UTC:20221120T130000
DTEND;TZID=UTC:20221120T190000
DTSTAMP:20260424T151243
CREATED:20210920T220132Z
LAST-MODIFIED:20221005T151135Z
UID:10002234-1668949200-1668970800@leatherbackbrewing.com
SUMMARY:St. Croix- Sunday Football
DESCRIPTION:It’s Football Season! Come out each week to see how your NFL picks stack up! \nSt. Croix- We’ll be playing almost all of the Sunday afternoon games plus Redzone! Come cheer for your favorite team while drinking your favorite local brews! \n 
URL:https://leatherbackbrewing.com/event/sunday-football/2022-11-20/
LOCATION:Leatherback Brewing Company- St. Croix
ATTACH;FMTTYPE=image/jpeg:https://leatherbackbrewing.com/wp-content/uploads/2021/09/football-1-scaled.jpg
END:VEVENT
BEGIN:VEVENT
DTSTART;TZID=UTC:20221118T170000
DTEND;TZID=UTC:20221118T200000
DTSTAMP:20260424T151243
CREATED:20221005T160714Z
LAST-MODIFIED:20221005T164126Z
UID:10002831-1668790800-1668801600@leatherbackbrewing.com
SUMMARY:St. Croix Live Music
DESCRIPTION:Check our Facebook page to see who is playing!
URL:https://leatherbackbrewing.com/event/st-croix-live-music/2022-11-18/
LOCATION:Leatherback Brewing Company- St. Croix
CATEGORIES:Live Music
ATTACH;FMTTYPE=application/pdf:https://leatherbackbrewing.com/wp-content/uploads/2022/10/LBB_LiveMusic_St.-Croix.pdf
END:VEVENT
BEGIN:VEVENT
DTSTART;TZID=UTC:20221117T180000
DTEND;TZID=UTC:20221117T210000
DTSTAMP:20260424T151243
CREATED:20221005T143756Z
LAST-MODIFIED:20221005T151726Z
UID:10001069-1668708000-1668718800@leatherbackbrewing.com
SUMMARY:St. Thomas- Open Mic Night
DESCRIPTION:In collaboration with Event Presenter/Producer Street Level VI (SLVI)\, we now have a weekly Open Mic Music Night every Thursday from 6-9 pm at Leatherback St. Thomas location in the Havensight Plaza (next to Chicken N’ Bowling). It has become THE PLACE to go every THURSDAY NIGHT on St. Thomas.\nJoin us every week as a popular island performing artist is a Guest Emcee for the night\, accompanied by the talented back-line of Ned Lutz on bass guitar and Terris Bynum aka ‘Tee’ on drums\, ready to support your on-stage presence. Bring your voice and your instruments!\nGuest Emcee Schedule:\nOct. 6 & 13 Shane Prather\nOct. 20 & 27 Adam Parr\nNov. 3 & 10 Drew Rock (yes he’s back!)\nNov. 17 & 24 Jared Courter\nWe welcome cameo performers for stand-up-comedy and poetry readings as well!\nEach week\, get there early to sign up with the Emcee for your cameo performance!\nExtended Happy Hour until 7pm = $2 off drafts and cocktails.\nOpen 12pm -10pm Thursday.
URL:https://leatherbackbrewing.com/event/stt-open-mic-night/2022-11-17/
LOCATION:Leatherback Brewing Company- St. Thomas
CATEGORIES:Live Music
ATTACH;FMTTYPE=image/jpeg:https://leatherbackbrewing.com/wp-content/uploads/2022/10/Open-Mic-scaled.jpg
END:VEVENT
BEGIN:VEVENT
DTSTART;TZID=UTC:20221114T113000
DTEND;TZID=UTC:20221114T200000
DTSTAMP:20260424T151243
CREATED:20210920T214536Z
LAST-MODIFIED:20221005T161137Z
UID:10002306-1668425400-1668456000@leatherbackbrewing.com
SUMMARY:St. Croix- LOVE Mondays!
DESCRIPTION:THREE Reasons to LOVE Mondays!\n\n1. A chance to set hte tone for the coming week.\n2. Another beautiful day of island life!\n3. A free pint of beer with the purchase of a large pizza at Leatherback Brewing Company! (Dine in only)
URL:https://leatherbackbrewing.com/event/lovemondays/2022-11-14/
LOCATION:Leatherback Brewing Company- St. Croix
CATEGORIES:Specials
ATTACH;FMTTYPE=image/jpeg:https://leatherbackbrewing.com/wp-content/uploads/2021/09/LBB_Mondays_Flyer-scaled.jpg
END:VEVENT
BEGIN:VEVENT
DTSTART;TZID=UTC:20221113T130000
DTEND;TZID=UTC:20221113T190000
DTSTAMP:20260424T151243
CREATED:20210920T220132Z
LAST-MODIFIED:20221005T151135Z
UID:10002233-1668344400-1668366000@leatherbackbrewing.com
SUMMARY:St. Croix- Sunday Football
DESCRIPTION:It’s Football Season! Come out each week to see how your NFL picks stack up! \nSt. Croix- We’ll be playing almost all of the Sunday afternoon games plus Redzone! Come cheer for your favorite team while drinking your favorite local brews! \n 
URL:https://leatherbackbrewing.com/event/sunday-football/2022-11-13/
LOCATION:Leatherback Brewing Company- St. Croix
ATTACH;FMTTYPE=image/jpeg:https://leatherbackbrewing.com/wp-content/uploads/2021/09/football-1-scaled.jpg
END:VEVENT
BEGIN:VEVENT
DTSTART;TZID=UTC:20221112T120000
DTEND;TZID=UTC:20221112T160000
DTSTAMP:20260424T151243
CREATED:20221005T161038Z
LAST-MODIFIED:20221005T161038Z
UID:10002890-1668254400-1668268800@leatherbackbrewing.com
SUMMARY:St. Croix- Fitter Futures FAMILY FUN-RAISER & Food Truck Festival
DESCRIPTION:The FAMILY FUN-RAISER & Food Truck Festival is a Fundraiser for Fitter Futures by Beeston Hill\, hosted by Leatherback Brewing Company!\nJoin us Saturday\, November 12th from NOON to 4 PM for an Afternoon of Games of Skill & Dexterity for All Ages!\n**Plus: wheelchair clinic and obstacle course demo with Veteran & wheelchair athlete Don Peters!\n*Food Trucks!\n*Sweet Treats!\n*Music and entertainment by DJ Swain\n*Races\, Contests and Prizes!\n~Funds raised for Fitter Futures by Beeston Hill a 501(c)(3) Domestic Nonprofit Corporation\, will go not only towards free classes for Seniors 65 & over\, but also towards new hand weights and body bars\, new exercise mats and yoga balls\, and larger projects including a wheelchair lift\, wheelchair ramp\, additional handicapped bathrooms\, and improved access to the pool to better serve seniors and other members with mobility challenges!\nSign Up as a Team or Individual and Show Your Stuff for a Great Cause!\nEmail gym@beestonhealth.com or info@fitterfutures.org to sign up\, donate\, volunteer\, or for more information!
URL:https://leatherbackbrewing.com/event/st-croix-fitter-futures-family-fun-raiser-food-truck-festival/
LOCATION:Leatherback Brewing Company- St. Croix
CATEGORIES:Family Fun
ATTACH;FMTTYPE=image/jpeg:https://leatherbackbrewing.com/wp-content/uploads/2022/10/fun-r.jpg
END:VEVENT
BEGIN:VEVENT
DTSTART;TZID=UTC:20221111T170000
DTEND;TZID=UTC:20221111T200000
DTSTAMP:20260424T151243
CREATED:20221005T160714Z
LAST-MODIFIED:20221005T164126Z
UID:10002830-1668186000-1668196800@leatherbackbrewing.com
SUMMARY:St. Croix Live Music
DESCRIPTION:Check our Facebook page to see who is playing!
URL:https://leatherbackbrewing.com/event/st-croix-live-music/2022-11-11/
LOCATION:Leatherback Brewing Company- St. Croix
CATEGORIES:Live Music
ATTACH;FMTTYPE=application/pdf:https://leatherbackbrewing.com/wp-content/uploads/2022/10/LBB_LiveMusic_St.-Croix.pdf
END:VEVENT
BEGIN:VEVENT
DTSTART;TZID=UTC:20221110T180000
DTEND;TZID=UTC:20221110T210000
DTSTAMP:20260424T151243
CREATED:20221005T143756Z
LAST-MODIFIED:20221005T151726Z
UID:10001068-1668103200-1668114000@leatherbackbrewing.com
SUMMARY:St. Thomas- Open Mic Night
DESCRIPTION:In collaboration with Event Presenter/Producer Street Level VI (SLVI)\, we now have a weekly Open Mic Music Night every Thursday from 6-9 pm at Leatherback St. Thomas location in the Havensight Plaza (next to Chicken N’ Bowling). It has become THE PLACE to go every THURSDAY NIGHT on St. Thomas.\nJoin us every week as a popular island performing artist is a Guest Emcee for the night\, accompanied by the talented back-line of Ned Lutz on bass guitar and Terris Bynum aka ‘Tee’ on drums\, ready to support your on-stage presence. Bring your voice and your instruments!\nGuest Emcee Schedule:\nOct. 6 & 13 Shane Prather\nOct. 20 & 27 Adam Parr\nNov. 3 & 10 Drew Rock (yes he’s back!)\nNov. 17 & 24 Jared Courter\nWe welcome cameo performers for stand-up-comedy and poetry readings as well!\nEach week\, get there early to sign up with the Emcee for your cameo performance!\nExtended Happy Hour until 7pm = $2 off drafts and cocktails.\nOpen 12pm -10pm Thursday.
URL:https://leatherbackbrewing.com/event/stt-open-mic-night/2022-11-10/
LOCATION:Leatherback Brewing Company- St. Thomas
CATEGORIES:Live Music
ATTACH;FMTTYPE=image/jpeg:https://leatherbackbrewing.com/wp-content/uploads/2022/10/Open-Mic-scaled.jpg
END:VEVENT
BEGIN:VEVENT
DTSTART;TZID=UTC:20221107T113000
DTEND;TZID=UTC:20221107T200000
DTSTAMP:20260424T151243
CREATED:20210920T214536Z
LAST-MODIFIED:20221005T161137Z
UID:10002305-1667820600-1667851200@leatherbackbrewing.com
SUMMARY:St. Croix- LOVE Mondays!
DESCRIPTION:THREE Reasons to LOVE Mondays!\n\n1. A chance to set hte tone for the coming week.\n2. Another beautiful day of island life!\n3. A free pint of beer with the purchase of a large pizza at Leatherback Brewing Company! (Dine in only)
URL:https://leatherbackbrewing.com/event/lovemondays/2022-11-07/
LOCATION:Leatherback Brewing Company- St. Croix
CATEGORIES:Specials
ATTACH;FMTTYPE=image/jpeg:https://leatherbackbrewing.com/wp-content/uploads/2021/09/LBB_Mondays_Flyer-scaled.jpg
END:VEVENT
BEGIN:VEVENT
DTSTART;TZID=UTC:20221106T190000
DTEND;TZID=UTC:20221106T210000
DTSTAMP:20260424T151243
CREATED:20221005T155657Z
LAST-MODIFIED:20221005T155731Z
UID:10002811-1667761200-1667768400@leatherbackbrewing.com
SUMMARY:St. Croix- Movie Night
DESCRIPTION:Join us for a family friendly movie on the first Saturday of every month! Bring your chairs and blankets and enjoy a movie outdoors\, under the stars! Check our Facebook page for the current month’s movie!
URL:https://leatherbackbrewing.com/event/st-croix-movie-night/2022-11-06/
LOCATION:Leatherback Brewing Company- St. Croix
ATTACH;FMTTYPE=image/jpeg:https://leatherbackbrewing.com/wp-content/uploads/2022/10/movie.jpg
END:VEVENT
BEGIN:VEVENT
DTSTART;TZID=UTC:20221106T130000
DTEND;TZID=UTC:20221106T190000
DTSTAMP:20260424T151243
CREATED:20210920T220132Z
LAST-MODIFIED:20221005T151135Z
UID:10002232-1667739600-1667761200@leatherbackbrewing.com
SUMMARY:St. Croix- Sunday Football
DESCRIPTION:It’s Football Season! Come out each week to see how your NFL picks stack up! \nSt. Croix- We’ll be playing almost all of the Sunday afternoon games plus Redzone! Come cheer for your favorite team while drinking your favorite local brews! \n 
URL:https://leatherbackbrewing.com/event/sunday-football/2022-11-06/
LOCATION:Leatherback Brewing Company- St. Croix
ATTACH;FMTTYPE=image/jpeg:https://leatherbackbrewing.com/wp-content/uploads/2021/09/football-1-scaled.jpg
END:VEVENT
BEGIN:VEVENT
DTSTART;TZID=UTC:20221104T170000
DTEND;TZID=UTC:20221104T200000
DTSTAMP:20260424T151243
CREATED:20221005T160714Z
LAST-MODIFIED:20221005T164126Z
UID:10002829-1667581200-1667592000@leatherbackbrewing.com
SUMMARY:St. Croix Live Music
DESCRIPTION:Check our Facebook page to see who is playing!
URL:https://leatherbackbrewing.com/event/st-croix-live-music/2022-11-04/
LOCATION:Leatherback Brewing Company- St. Croix
CATEGORIES:Live Music
ATTACH;FMTTYPE=application/pdf:https://leatherbackbrewing.com/wp-content/uploads/2022/10/LBB_LiveMusic_St.-Croix.pdf
END:VEVENT
BEGIN:VEVENT
DTSTART;TZID=UTC:20221103T180000
DTEND;TZID=UTC:20221103T210000
DTSTAMP:20260424T151243
CREATED:20221005T143756Z
LAST-MODIFIED:20221005T151726Z
UID:10001067-1667498400-1667509200@leatherbackbrewing.com
SUMMARY:St. Thomas- Open Mic Night
DESCRIPTION:In collaboration with Event Presenter/Producer Street Level VI (SLVI)\, we now have a weekly Open Mic Music Night every Thursday from 6-9 pm at Leatherback St. Thomas location in the Havensight Plaza (next to Chicken N’ Bowling). It has become THE PLACE to go every THURSDAY NIGHT on St. Thomas.\nJoin us every week as a popular island performing artist is a Guest Emcee for the night\, accompanied by the talented back-line of Ned Lutz on bass guitar and Terris Bynum aka ‘Tee’ on drums\, ready to support your on-stage presence. Bring your voice and your instruments!\nGuest Emcee Schedule:\nOct. 6 & 13 Shane Prather\nOct. 20 & 27 Adam Parr\nNov. 3 & 10 Drew Rock (yes he’s back!)\nNov. 17 & 24 Jared Courter\nWe welcome cameo performers for stand-up-comedy and poetry readings as well!\nEach week\, get there early to sign up with the Emcee for your cameo performance!\nExtended Happy Hour until 7pm = $2 off drafts and cocktails.\nOpen 12pm -10pm Thursday.
URL:https://leatherbackbrewing.com/event/stt-open-mic-night/2022-11-03/
LOCATION:Leatherback Brewing Company- St. Thomas
CATEGORIES:Live Music
ATTACH;FMTTYPE=image/jpeg:https://leatherbackbrewing.com/wp-content/uploads/2022/10/Open-Mic-scaled.jpg
END:VEVENT
END:VCALENDAR