BEGIN:VCALENDAR
VERSION:2.0
PRODID:-//Leatherback Brewing - ECPv6.15.20//NONSGML v1.0//EN
CALSCALE:GREGORIAN
METHOD:PUBLISH
X-WR-CALNAME:Leatherback Brewing
X-ORIGINAL-URL:https://leatherbackbrewing.com
X-WR-CALDESC:Events for Leatherback Brewing
REFRESH-INTERVAL;VALUE=DURATION:PT1H
X-Robots-Tag:noindex
X-PUBLISHED-TTL:PT1H
BEGIN:VTIMEZONE
TZID:UTC
BEGIN:STANDARD
TZOFFSETFROM:+0000
TZOFFSETTO:+0000
TZNAME:UTC
DTSTART:20210101T000000
END:STANDARD
END:VTIMEZONE
BEGIN:VEVENT
DTSTART;TZID=UTC:20221007T170000
DTEND;TZID=UTC:20221007T200000
DTSTAMP:20260424T230323
CREATED:20221005T160714Z
LAST-MODIFIED:20221005T164126Z
UID:10002826-1665162000-1665172800@leatherbackbrewing.com
SUMMARY:St. Croix Live Music
DESCRIPTION:Check our Facebook page to see who is playing!
URL:https://leatherbackbrewing.com/event/st-croix-live-music/2022-10-07/
LOCATION:Leatherback Brewing Company- St. Croix
CATEGORIES:Live Music
ATTACH;FMTTYPE=application/pdf:https://leatherbackbrewing.com/wp-content/uploads/2022/10/LBB_LiveMusic_St.-Croix.pdf
END:VEVENT
BEGIN:VEVENT
DTSTART;TZID=UTC:20221006T180000
DTEND;TZID=UTC:20221006T210000
DTSTAMP:20260424T230323
CREATED:20221005T143756Z
LAST-MODIFIED:20221005T151726Z
UID:10001063-1665079200-1665090000@leatherbackbrewing.com
SUMMARY:St. Thomas- Open Mic Night
DESCRIPTION:In collaboration with Event Presenter/Producer Street Level VI (SLVI)\, we now have a weekly Open Mic Music Night every Thursday from 6-9 pm at Leatherback St. Thomas location in the Havensight Plaza (next to Chicken N’ Bowling). It has become THE PLACE to go every THURSDAY NIGHT on St. Thomas.\nJoin us every week as a popular island performing artist is a Guest Emcee for the night\, accompanied by the talented back-line of Ned Lutz on bass guitar and Terris Bynum aka ‘Tee’ on drums\, ready to support your on-stage presence. Bring your voice and your instruments!\nGuest Emcee Schedule:\nOct. 6 & 13 Shane Prather\nOct. 20 & 27 Adam Parr\nNov. 3 & 10 Drew Rock (yes he’s back!)\nNov. 17 & 24 Jared Courter\nWe welcome cameo performers for stand-up-comedy and poetry readings as well!\nEach week\, get there early to sign up with the Emcee for your cameo performance!\nExtended Happy Hour until 7pm = $2 off drafts and cocktails.\nOpen 12pm -10pm Thursday.
URL:https://leatherbackbrewing.com/event/stt-open-mic-night/2022-10-06/
LOCATION:Leatherback Brewing Company- St. Thomas
CATEGORIES:Live Music
ATTACH;FMTTYPE=image/jpeg:https://leatherbackbrewing.com/wp-content/uploads/2022/10/Open-Mic-scaled.jpg
END:VEVENT
BEGIN:VEVENT
DTSTART;TZID=UTC:20221003T113000
DTEND;TZID=UTC:20221003T200000
DTSTAMP:20260424T230323
CREATED:20210920T214536Z
LAST-MODIFIED:20221005T161137Z
UID:10002300-1664796600-1664827200@leatherbackbrewing.com
SUMMARY:St. Croix- LOVE Mondays!
DESCRIPTION:THREE Reasons to LOVE Mondays!\n\n1. A chance to set hte tone for the coming week.\n2. Another beautiful day of island life!\n3. A free pint of beer with the purchase of a large pizza at Leatherback Brewing Company! (Dine in only)
URL:https://leatherbackbrewing.com/event/lovemondays/2022-10-03/
LOCATION:Leatherback Brewing Company- St. Croix
CATEGORIES:Specials
ATTACH;FMTTYPE=image/jpeg:https://leatherbackbrewing.com/wp-content/uploads/2021/09/LBB_Mondays_Flyer-scaled.jpg
END:VEVENT
BEGIN:VEVENT
DTSTART;TZID=UTC:20221002T190000
DTEND;TZID=UTC:20221002T210000
DTSTAMP:20260424T230323
CREATED:20221005T155657Z
LAST-MODIFIED:20221005T155731Z
UID:10002810-1664737200-1664744400@leatherbackbrewing.com
SUMMARY:St. Croix- Movie Night
DESCRIPTION:Join us for a family friendly movie on the first Saturday of every month! Bring your chairs and blankets and enjoy a movie outdoors\, under the stars! Check our Facebook page for the current month’s movie!
URL:https://leatherbackbrewing.com/event/st-croix-movie-night/2022-10-02/
LOCATION:Leatherback Brewing Company- St. Croix
ATTACH;FMTTYPE=image/jpeg:https://leatherbackbrewing.com/wp-content/uploads/2022/10/movie.jpg
END:VEVENT
BEGIN:VEVENT
DTSTART;TZID=UTC:20221002T130000
DTEND;TZID=UTC:20221002T190000
DTSTAMP:20260424T230323
CREATED:20210920T220132Z
LAST-MODIFIED:20221005T151135Z
UID:10002227-1664715600-1664737200@leatherbackbrewing.com
SUMMARY:St. Croix- Sunday Football
DESCRIPTION:It’s Football Season! Come out each week to see how your NFL picks stack up! \nSt. Croix- We’ll be playing almost all of the Sunday afternoon games plus Redzone! Come cheer for your favorite team while drinking your favorite local brews! \n 
URL:https://leatherbackbrewing.com/event/sunday-football/2022-10-02/
LOCATION:Leatherback Brewing Company- St. Croix
ATTACH;FMTTYPE=image/jpeg:https://leatherbackbrewing.com/wp-content/uploads/2021/09/football-1-scaled.jpg
END:VEVENT
BEGIN:VEVENT
DTSTART;TZID=UTC:20221001T190000
DTEND;TZID=UTC:20221001T210000
DTSTAMP:20260424T230323
CREATED:20221005T155657Z
LAST-MODIFIED:20221005T155731Z
UID:10002809-1664650800-1664658000@leatherbackbrewing.com
SUMMARY:St. Croix- Movie Night
DESCRIPTION:Join us for a family friendly movie on the first Saturday of every month! Bring your chairs and blankets and enjoy a movie outdoors\, under the stars! Check our Facebook page for the current month’s movie!
URL:https://leatherbackbrewing.com/event/st-croix-movie-night/2022-10-01/
LOCATION:Leatherback Brewing Company- St. Croix
ATTACH;FMTTYPE=image/jpeg:https://leatherbackbrewing.com/wp-content/uploads/2022/10/movie.jpg
END:VEVENT
BEGIN:VEVENT
DTSTART;TZID=UTC:20220926T113000
DTEND;TZID=UTC:20220926T200000
DTSTAMP:20260424T230323
CREATED:20210920T214536Z
LAST-MODIFIED:20221005T161137Z
UID:10002299-1664191800-1664222400@leatherbackbrewing.com
SUMMARY:St. Croix- LOVE Mondays!
DESCRIPTION:THREE Reasons to LOVE Mondays!\n\n1. A chance to set hte tone for the coming week.\n2. Another beautiful day of island life!\n3. A free pint of beer with the purchase of a large pizza at Leatherback Brewing Company! (Dine in only)
URL:https://leatherbackbrewing.com/event/lovemondays/2022-09-26/
LOCATION:Leatherback Brewing Company- St. Croix
CATEGORIES:Specials
ATTACH;FMTTYPE=image/jpeg:https://leatherbackbrewing.com/wp-content/uploads/2021/09/LBB_Mondays_Flyer-scaled.jpg
END:VEVENT
BEGIN:VEVENT
DTSTART;TZID=UTC:20220925T130000
DTEND;TZID=UTC:20220925T190000
DTSTAMP:20260424T230323
CREATED:20210920T220132Z
LAST-MODIFIED:20221005T151135Z
UID:10002226-1664110800-1664132400@leatherbackbrewing.com
SUMMARY:St. Croix- Sunday Football
DESCRIPTION:It’s Football Season! Come out each week to see how your NFL picks stack up! \nSt. Croix- We’ll be playing almost all of the Sunday afternoon games plus Redzone! Come cheer for your favorite team while drinking your favorite local brews! \n 
URL:https://leatherbackbrewing.com/event/sunday-football/2022-09-25/
LOCATION:Leatherback Brewing Company- St. Croix
ATTACH;FMTTYPE=image/jpeg:https://leatherbackbrewing.com/wp-content/uploads/2021/09/football-1-scaled.jpg
END:VEVENT
BEGIN:VEVENT
DTSTART;TZID=UTC:20220919T113000
DTEND;TZID=UTC:20220919T200000
DTSTAMP:20260424T230323
CREATED:20210920T214536Z
LAST-MODIFIED:20221005T161137Z
UID:10002298-1663587000-1663617600@leatherbackbrewing.com
SUMMARY:St. Croix- LOVE Mondays!
DESCRIPTION:THREE Reasons to LOVE Mondays!\n\n1. A chance to set hte tone for the coming week.\n2. Another beautiful day of island life!\n3. A free pint of beer with the purchase of a large pizza at Leatherback Brewing Company! (Dine in only)
URL:https://leatherbackbrewing.com/event/lovemondays/2022-09-19/
LOCATION:Leatherback Brewing Company- St. Croix
CATEGORIES:Specials
ATTACH;FMTTYPE=image/jpeg:https://leatherbackbrewing.com/wp-content/uploads/2021/09/LBB_Mondays_Flyer-scaled.jpg
END:VEVENT
BEGIN:VEVENT
DTSTART;TZID=UTC:20220918T130000
DTEND;TZID=UTC:20220918T190000
DTSTAMP:20260424T230323
CREATED:20210920T220132Z
LAST-MODIFIED:20221005T151135Z
UID:10002225-1663506000-1663527600@leatherbackbrewing.com
SUMMARY:St. Croix- Sunday Football
DESCRIPTION:It’s Football Season! Come out each week to see how your NFL picks stack up! \nSt. Croix- We’ll be playing almost all of the Sunday afternoon games plus Redzone! Come cheer for your favorite team while drinking your favorite local brews! \n 
URL:https://leatherbackbrewing.com/event/sunday-football/2022-09-18/
LOCATION:Leatherback Brewing Company- St. Croix
ATTACH;FMTTYPE=image/jpeg:https://leatherbackbrewing.com/wp-content/uploads/2021/09/football-1-scaled.jpg
END:VEVENT
BEGIN:VEVENT
DTSTART;TZID=UTC:20220912T113000
DTEND;TZID=UTC:20220912T200000
DTSTAMP:20260424T230323
CREATED:20210920T214536Z
LAST-MODIFIED:20221005T161137Z
UID:10002297-1662982200-1663012800@leatherbackbrewing.com
SUMMARY:St. Croix- LOVE Mondays!
DESCRIPTION:THREE Reasons to LOVE Mondays!\n\n1. A chance to set hte tone for the coming week.\n2. Another beautiful day of island life!\n3. A free pint of beer with the purchase of a large pizza at Leatherback Brewing Company! (Dine in only)
URL:https://leatherbackbrewing.com/event/lovemondays/2022-09-12/
LOCATION:Leatherback Brewing Company- St. Croix
CATEGORIES:Specials
ATTACH;FMTTYPE=image/jpeg:https://leatherbackbrewing.com/wp-content/uploads/2021/09/LBB_Mondays_Flyer-scaled.jpg
END:VEVENT
BEGIN:VEVENT
DTSTART;TZID=UTC:20220905T113000
DTEND;TZID=UTC:20220905T200000
DTSTAMP:20260424T230323
CREATED:20210920T214536Z
LAST-MODIFIED:20221005T161137Z
UID:10002296-1662377400-1662408000@leatherbackbrewing.com
SUMMARY:St. Croix- LOVE Mondays!
DESCRIPTION:THREE Reasons to LOVE Mondays!\n\n1. A chance to set hte tone for the coming week.\n2. Another beautiful day of island life!\n3. A free pint of beer with the purchase of a large pizza at Leatherback Brewing Company! (Dine in only)
URL:https://leatherbackbrewing.com/event/lovemondays/2022-09-05/
LOCATION:Leatherback Brewing Company- St. Croix
CATEGORIES:Specials
ATTACH;FMTTYPE=image/jpeg:https://leatherbackbrewing.com/wp-content/uploads/2021/09/LBB_Mondays_Flyer-scaled.jpg
END:VEVENT
BEGIN:VEVENT
DTSTART;TZID=UTC:20220829T113000
DTEND;TZID=UTC:20220829T200000
DTSTAMP:20260424T230323
CREATED:20210920T214536Z
LAST-MODIFIED:20221005T161137Z
UID:10002295-1661772600-1661803200@leatherbackbrewing.com
SUMMARY:St. Croix- LOVE Mondays!
DESCRIPTION:THREE Reasons to LOVE Mondays!\n\n1. A chance to set hte tone for the coming week.\n2. Another beautiful day of island life!\n3. A free pint of beer with the purchase of a large pizza at Leatherback Brewing Company! (Dine in only)
URL:https://leatherbackbrewing.com/event/lovemondays/2022-08-29/
LOCATION:Leatherback Brewing Company- St. Croix
CATEGORIES:Specials
ATTACH;FMTTYPE=image/jpeg:https://leatherbackbrewing.com/wp-content/uploads/2021/09/LBB_Mondays_Flyer-scaled.jpg
END:VEVENT
BEGIN:VEVENT
DTSTART;TZID=UTC:20220822T113000
DTEND;TZID=UTC:20220822T200000
DTSTAMP:20260424T230323
CREATED:20210920T214536Z
LAST-MODIFIED:20221005T161137Z
UID:10002294-1661167800-1661198400@leatherbackbrewing.com
SUMMARY:St. Croix- LOVE Mondays!
DESCRIPTION:THREE Reasons to LOVE Mondays!\n\n1. A chance to set hte tone for the coming week.\n2. Another beautiful day of island life!\n3. A free pint of beer with the purchase of a large pizza at Leatherback Brewing Company! (Dine in only)
URL:https://leatherbackbrewing.com/event/lovemondays/2022-08-22/
LOCATION:Leatherback Brewing Company- St. Croix
CATEGORIES:Specials
ATTACH;FMTTYPE=image/jpeg:https://leatherbackbrewing.com/wp-content/uploads/2021/09/LBB_Mondays_Flyer-scaled.jpg
END:VEVENT
BEGIN:VEVENT
DTSTART;TZID=UTC:20220815T113000
DTEND;TZID=UTC:20220815T200000
DTSTAMP:20260424T230323
CREATED:20210920T214536Z
LAST-MODIFIED:20221005T161137Z
UID:10002293-1660563000-1660593600@leatherbackbrewing.com
SUMMARY:St. Croix- LOVE Mondays!
DESCRIPTION:THREE Reasons to LOVE Mondays!\n\n1. A chance to set hte tone for the coming week.\n2. Another beautiful day of island life!\n3. A free pint of beer with the purchase of a large pizza at Leatherback Brewing Company! (Dine in only)
URL:https://leatherbackbrewing.com/event/lovemondays/2022-08-15/
LOCATION:Leatherback Brewing Company- St. Croix
CATEGORIES:Specials
ATTACH;FMTTYPE=image/jpeg:https://leatherbackbrewing.com/wp-content/uploads/2021/09/LBB_Mondays_Flyer-scaled.jpg
END:VEVENT
BEGIN:VEVENT
DTSTART;TZID=UTC:20220808T113000
DTEND;TZID=UTC:20220808T200000
DTSTAMP:20260424T230323
CREATED:20210920T214536Z
LAST-MODIFIED:20221005T161137Z
UID:10002292-1659958200-1659988800@leatherbackbrewing.com
SUMMARY:St. Croix- LOVE Mondays!
DESCRIPTION:THREE Reasons to LOVE Mondays!\n\n1. A chance to set hte tone for the coming week.\n2. Another beautiful day of island life!\n3. A free pint of beer with the purchase of a large pizza at Leatherback Brewing Company! (Dine in only)
URL:https://leatherbackbrewing.com/event/lovemondays/2022-08-08/
LOCATION:Leatherback Brewing Company- St. Croix
CATEGORIES:Specials
ATTACH;FMTTYPE=image/jpeg:https://leatherbackbrewing.com/wp-content/uploads/2021/09/LBB_Mondays_Flyer-scaled.jpg
END:VEVENT
BEGIN:VEVENT
DTSTART;TZID=UTC:20220801T113000
DTEND;TZID=UTC:20220801T200000
DTSTAMP:20260424T230323
CREATED:20210920T214536Z
LAST-MODIFIED:20221005T161137Z
UID:10002291-1659353400-1659384000@leatherbackbrewing.com
SUMMARY:St. Croix- LOVE Mondays!
DESCRIPTION:THREE Reasons to LOVE Mondays!\n\n1. A chance to set hte tone for the coming week.\n2. Another beautiful day of island life!\n3. A free pint of beer with the purchase of a large pizza at Leatherback Brewing Company! (Dine in only)
URL:https://leatherbackbrewing.com/event/lovemondays/2022-08-01/
LOCATION:Leatherback Brewing Company- St. Croix
CATEGORIES:Specials
ATTACH;FMTTYPE=image/jpeg:https://leatherbackbrewing.com/wp-content/uploads/2021/09/LBB_Mondays_Flyer-scaled.jpg
END:VEVENT
BEGIN:VEVENT
DTSTART;TZID=UTC:20220725T113000
DTEND;TZID=UTC:20220725T200000
DTSTAMP:20260424T230323
CREATED:20210920T214536Z
LAST-MODIFIED:20221005T161137Z
UID:10002290-1658748600-1658779200@leatherbackbrewing.com
SUMMARY:St. Croix- LOVE Mondays!
DESCRIPTION:THREE Reasons to LOVE Mondays!\n\n1. A chance to set hte tone for the coming week.\n2. Another beautiful day of island life!\n3. A free pint of beer with the purchase of a large pizza at Leatherback Brewing Company! (Dine in only)
URL:https://leatherbackbrewing.com/event/lovemondays/2022-07-25/
LOCATION:Leatherback Brewing Company- St. Croix
CATEGORIES:Specials
ATTACH;FMTTYPE=image/jpeg:https://leatherbackbrewing.com/wp-content/uploads/2021/09/LBB_Mondays_Flyer-scaled.jpg
END:VEVENT
BEGIN:VEVENT
DTSTART;TZID=UTC:20220718T113000
DTEND;TZID=UTC:20220718T200000
DTSTAMP:20260424T230323
CREATED:20210920T214536Z
LAST-MODIFIED:20221005T161137Z
UID:10002289-1658143800-1658174400@leatherbackbrewing.com
SUMMARY:St. Croix- LOVE Mondays!
DESCRIPTION:THREE Reasons to LOVE Mondays!\n\n1. A chance to set hte tone for the coming week.\n2. Another beautiful day of island life!\n3. A free pint of beer with the purchase of a large pizza at Leatherback Brewing Company! (Dine in only)
URL:https://leatherbackbrewing.com/event/lovemondays/2022-07-18/
LOCATION:Leatherback Brewing Company- St. Croix
CATEGORIES:Specials
ATTACH;FMTTYPE=image/jpeg:https://leatherbackbrewing.com/wp-content/uploads/2021/09/LBB_Mondays_Flyer-scaled.jpg
END:VEVENT
BEGIN:VEVENT
DTSTART;TZID=UTC:20220711T113000
DTEND;TZID=UTC:20220711T200000
DTSTAMP:20260424T230323
CREATED:20210920T214536Z
LAST-MODIFIED:20221005T161137Z
UID:10002288-1657539000-1657569600@leatherbackbrewing.com
SUMMARY:St. Croix- LOVE Mondays!
DESCRIPTION:THREE Reasons to LOVE Mondays!\n\n1. A chance to set hte tone for the coming week.\n2. Another beautiful day of island life!\n3. A free pint of beer with the purchase of a large pizza at Leatherback Brewing Company! (Dine in only)
URL:https://leatherbackbrewing.com/event/lovemondays/2022-07-11/
LOCATION:Leatherback Brewing Company- St. Croix
CATEGORIES:Specials
ATTACH;FMTTYPE=image/jpeg:https://leatherbackbrewing.com/wp-content/uploads/2021/09/LBB_Mondays_Flyer-scaled.jpg
END:VEVENT
BEGIN:VEVENT
DTSTART;TZID=UTC:20220704T113000
DTEND;TZID=UTC:20220704T200000
DTSTAMP:20260424T230323
CREATED:20210920T214536Z
LAST-MODIFIED:20221005T161137Z
UID:10002287-1656934200-1656964800@leatherbackbrewing.com
SUMMARY:St. Croix- LOVE Mondays!
DESCRIPTION:THREE Reasons to LOVE Mondays!\n\n1. A chance to set hte tone for the coming week.\n2. Another beautiful day of island life!\n3. A free pint of beer with the purchase of a large pizza at Leatherback Brewing Company! (Dine in only)
URL:https://leatherbackbrewing.com/event/lovemondays/2022-07-04/
LOCATION:Leatherback Brewing Company- St. Croix
CATEGORIES:Specials
ATTACH;FMTTYPE=image/jpeg:https://leatherbackbrewing.com/wp-content/uploads/2021/09/LBB_Mondays_Flyer-scaled.jpg
END:VEVENT
BEGIN:VEVENT
DTSTART;TZID=UTC:20220627T113000
DTEND;TZID=UTC:20220627T200000
DTSTAMP:20260424T230323
CREATED:20210920T214536Z
LAST-MODIFIED:20221005T161137Z
UID:10002286-1656329400-1656360000@leatherbackbrewing.com
SUMMARY:St. Croix- LOVE Mondays!
DESCRIPTION:THREE Reasons to LOVE Mondays!\n\n1. A chance to set hte tone for the coming week.\n2. Another beautiful day of island life!\n3. A free pint of beer with the purchase of a large pizza at Leatherback Brewing Company! (Dine in only)
URL:https://leatherbackbrewing.com/event/lovemondays/2022-06-27/
LOCATION:Leatherback Brewing Company- St. Croix
CATEGORIES:Specials
ATTACH;FMTTYPE=image/jpeg:https://leatherbackbrewing.com/wp-content/uploads/2021/09/LBB_Mondays_Flyer-scaled.jpg
END:VEVENT
BEGIN:VEVENT
DTSTART;TZID=UTC:20220620T113000
DTEND;TZID=UTC:20220620T200000
DTSTAMP:20260424T230323
CREATED:20210920T214536Z
LAST-MODIFIED:20221005T161137Z
UID:10002285-1655724600-1655755200@leatherbackbrewing.com
SUMMARY:St. Croix- LOVE Mondays!
DESCRIPTION:THREE Reasons to LOVE Mondays!\n\n1. A chance to set hte tone for the coming week.\n2. Another beautiful day of island life!\n3. A free pint of beer with the purchase of a large pizza at Leatherback Brewing Company! (Dine in only)
URL:https://leatherbackbrewing.com/event/lovemondays/2022-06-20/
LOCATION:Leatherback Brewing Company- St. Croix
CATEGORIES:Specials
ATTACH;FMTTYPE=image/jpeg:https://leatherbackbrewing.com/wp-content/uploads/2021/09/LBB_Mondays_Flyer-scaled.jpg
END:VEVENT
BEGIN:VEVENT
DTSTART;TZID=UTC:20220613T113000
DTEND;TZID=UTC:20220613T200000
DTSTAMP:20260424T230323
CREATED:20210920T214536Z
LAST-MODIFIED:20221005T161137Z
UID:10002284-1655119800-1655150400@leatherbackbrewing.com
SUMMARY:St. Croix- LOVE Mondays!
DESCRIPTION:THREE Reasons to LOVE Mondays!\n\n1. A chance to set hte tone for the coming week.\n2. Another beautiful day of island life!\n3. A free pint of beer with the purchase of a large pizza at Leatherback Brewing Company! (Dine in only)
URL:https://leatherbackbrewing.com/event/lovemondays/2022-06-13/
LOCATION:Leatherback Brewing Company- St. Croix
CATEGORIES:Specials
ATTACH;FMTTYPE=image/jpeg:https://leatherbackbrewing.com/wp-content/uploads/2021/09/LBB_Mondays_Flyer-scaled.jpg
END:VEVENT
BEGIN:VEVENT
DTSTART;TZID=UTC:20220606T113000
DTEND;TZID=UTC:20220606T200000
DTSTAMP:20260424T230323
CREATED:20210920T214536Z
LAST-MODIFIED:20221005T161137Z
UID:10002283-1654515000-1654545600@leatherbackbrewing.com
SUMMARY:St. Croix- LOVE Mondays!
DESCRIPTION:THREE Reasons to LOVE Mondays!\n\n1. A chance to set hte tone for the coming week.\n2. Another beautiful day of island life!\n3. A free pint of beer with the purchase of a large pizza at Leatherback Brewing Company! (Dine in only)
URL:https://leatherbackbrewing.com/event/lovemondays/2022-06-06/
LOCATION:Leatherback Brewing Company- St. Croix
CATEGORIES:Specials
ATTACH;FMTTYPE=image/jpeg:https://leatherbackbrewing.com/wp-content/uploads/2021/09/LBB_Mondays_Flyer-scaled.jpg
END:VEVENT
BEGIN:VEVENT
DTSTART;TZID=UTC:20220530T113000
DTEND;TZID=UTC:20220530T200000
DTSTAMP:20260424T230323
CREATED:20210920T214536Z
LAST-MODIFIED:20221005T161137Z
UID:10002282-1653910200-1653940800@leatherbackbrewing.com
SUMMARY:St. Croix- LOVE Mondays!
DESCRIPTION:THREE Reasons to LOVE Mondays!\n\n1. A chance to set hte tone for the coming week.\n2. Another beautiful day of island life!\n3. A free pint of beer with the purchase of a large pizza at Leatherback Brewing Company! (Dine in only)
URL:https://leatherbackbrewing.com/event/lovemondays/2022-05-30/
LOCATION:Leatherback Brewing Company- St. Croix
CATEGORIES:Specials
ATTACH;FMTTYPE=image/jpeg:https://leatherbackbrewing.com/wp-content/uploads/2021/09/LBB_Mondays_Flyer-scaled.jpg
END:VEVENT
BEGIN:VEVENT
DTSTART;TZID=UTC:20220523T113000
DTEND;TZID=UTC:20220523T200000
DTSTAMP:20260424T230323
CREATED:20210920T214536Z
LAST-MODIFIED:20221005T161137Z
UID:10002281-1653305400-1653336000@leatherbackbrewing.com
SUMMARY:St. Croix- LOVE Mondays!
DESCRIPTION:THREE Reasons to LOVE Mondays!\n\n1. A chance to set hte tone for the coming week.\n2. Another beautiful day of island life!\n3. A free pint of beer with the purchase of a large pizza at Leatherback Brewing Company! (Dine in only)
URL:https://leatherbackbrewing.com/event/lovemondays/2022-05-23/
LOCATION:Leatherback Brewing Company- St. Croix
CATEGORIES:Specials
ATTACH;FMTTYPE=image/jpeg:https://leatherbackbrewing.com/wp-content/uploads/2021/09/LBB_Mondays_Flyer-scaled.jpg
END:VEVENT
BEGIN:VEVENT
DTSTART;TZID=UTC:20220516T113000
DTEND;TZID=UTC:20220516T200000
DTSTAMP:20260424T230323
CREATED:20210920T214536Z
LAST-MODIFIED:20221005T161137Z
UID:10002280-1652700600-1652731200@leatherbackbrewing.com
SUMMARY:St. Croix- LOVE Mondays!
DESCRIPTION:THREE Reasons to LOVE Mondays!\n\n1. A chance to set hte tone for the coming week.\n2. Another beautiful day of island life!\n3. A free pint of beer with the purchase of a large pizza at Leatherback Brewing Company! (Dine in only)
URL:https://leatherbackbrewing.com/event/lovemondays/2022-05-16/
LOCATION:Leatherback Brewing Company- St. Croix
CATEGORIES:Specials
ATTACH;FMTTYPE=image/jpeg:https://leatherbackbrewing.com/wp-content/uploads/2021/09/LBB_Mondays_Flyer-scaled.jpg
END:VEVENT
BEGIN:VEVENT
DTSTART;TZID=UTC:20220509T113000
DTEND;TZID=UTC:20220509T200000
DTSTAMP:20260424T230323
CREATED:20210920T214536Z
LAST-MODIFIED:20221005T161137Z
UID:10002279-1652095800-1652126400@leatherbackbrewing.com
SUMMARY:St. Croix- LOVE Mondays!
DESCRIPTION:THREE Reasons to LOVE Mondays!\n\n1. A chance to set hte tone for the coming week.\n2. Another beautiful day of island life!\n3. A free pint of beer with the purchase of a large pizza at Leatherback Brewing Company! (Dine in only)
URL:https://leatherbackbrewing.com/event/lovemondays/2022-05-09/
LOCATION:Leatherback Brewing Company- St. Croix
CATEGORIES:Specials
ATTACH;FMTTYPE=image/jpeg:https://leatherbackbrewing.com/wp-content/uploads/2021/09/LBB_Mondays_Flyer-scaled.jpg
END:VEVENT
BEGIN:VEVENT
DTSTART;TZID=UTC:20220502T113000
DTEND;TZID=UTC:20220502T200000
DTSTAMP:20260424T230323
CREATED:20210920T214536Z
LAST-MODIFIED:20221005T161137Z
UID:10002278-1651491000-1651521600@leatherbackbrewing.com
SUMMARY:St. Croix- LOVE Mondays!
DESCRIPTION:THREE Reasons to LOVE Mondays!\n\n1. A chance to set hte tone for the coming week.\n2. Another beautiful day of island life!\n3. A free pint of beer with the purchase of a large pizza at Leatherback Brewing Company! (Dine in only)
URL:https://leatherbackbrewing.com/event/lovemondays/2022-05-02/
LOCATION:Leatherback Brewing Company- St. Croix
CATEGORIES:Specials
ATTACH;FMTTYPE=image/jpeg:https://leatherbackbrewing.com/wp-content/uploads/2021/09/LBB_Mondays_Flyer-scaled.jpg
END:VEVENT
END:VCALENDAR