BEGIN:VCALENDAR
VERSION:2.0
PRODID:-//Leatherback Brewing - ECPv6.15.20//NONSGML v1.0//EN
CALSCALE:GREGORIAN
METHOD:PUBLISH
X-ORIGINAL-URL:https://leatherbackbrewing.com
X-WR-CALDESC:Events for Leatherback Brewing
REFRESH-INTERVAL;VALUE=DURATION:PT1H
X-Robots-Tag:noindex
X-PUBLISHED-TTL:PT1H
BEGIN:VTIMEZONE
TZID:UTC
BEGIN:STANDARD
TZOFFSETFROM:+0000
TZOFFSETTO:+0000
TZNAME:UTC
DTSTART:20240101T000000
END:STANDARD
END:VTIMEZONE
BEGIN:VEVENT
DTSTART;TZID=UTC:20250805T180000
DTEND;TZID=UTC:20250805T200000
DTSTAMP:20260423T020539
CREATED:20250512T170133Z
LAST-MODIFIED:20250512T170133Z
UID:10004112-1754416800-1754424000@leatherbackbrewing.com
SUMMARY:Tuesday Night Trivia
DESCRIPTION:Think you’ve got what it takes to be trivia champs?\nTrivia Tuesday kicks off at 6:00 PM—grab your team and get ready to compete!\n• Teams can have up to 6 players\n• Prizes awarded after every round\n• Teams face off for 1st and 2nd place glory\n\n\nBring your A-game\, some good vibes\, and a whole lot of brainpower.\nLet’s make it a night to remember!\n\n\n\n\n\n\n\n\nCall 340-772-2337 and we will reserve a table for your team of 6 people or less or come early and find a spot and enjoy Happy Hour (starting at 4:00pm)
URL:https://leatherbackbrewing.com/event/tuesday-night-trivia/2025-08-05/
ATTACH;FMTTYPE=image/jpeg:https://leatherbackbrewing.com/wp-content/uploads/2025/05/Trivia-Night.jpg
END:VEVENT
BEGIN:VEVENT
DTSTART;TZID=UTC:20250806T160000
DTEND;TZID=UTC:20250806T180000
DTSTAMP:20260423T020539
CREATED:20240923T195910Z
LAST-MODIFIED:20240923T195910Z
UID:10003384-1754496000-1754503200@leatherbackbrewing.com
SUMMARY:St. Croix Happy Hour
DESCRIPTION:Join us for Happy Hour 4:00pm – 6:00pm with $5 Flagship Beers and $10 Wings!
URL:https://leatherbackbrewing.com/event/st-croix-happy-hour-2/2025-08-06/
CATEGORIES:Specials
ATTACH;FMTTYPE=image/jpeg:https://leatherbackbrewing.com/wp-content/uploads/2024/09/Happy-Hour.jpg
END:VEVENT
BEGIN:VEVENT
DTSTART;TZID=UTC:20250808T173000
DTEND;TZID=UTC:20250808T193000
DTSTAMP:20260423T020539
CREATED:20250512T171126Z
LAST-MODIFIED:20250604T172325Z
UID:10002963-1754674200-1754681400@leatherbackbrewing.com
SUMMARY:St. Croix- Crab Races
DESCRIPTION:Join us for Crab Races with Tito & Sue! \nCheer on your crab while enjoying your favorite Leatherback brew or a cocktail! Bring the while family for some pizza and fun! \nCrabs available starting at 5:30. Arrive early to get a good seat!
URL:https://leatherbackbrewing.com/event/tito-sue-crab-races-2/2025-08-08/
LOCATION:Leatherback Brewing Company- St. Croix
CATEGORIES:Family Fun
ATTACH;FMTTYPE=image/png:https://leatherbackbrewing.com/wp-content/uploads/2024/03/Carb-Races.png
END:VEVENT
BEGIN:VEVENT
DTSTART;TZID=UTC:20250811T160000
DTEND;TZID=UTC:20250811T180000
DTSTAMP:20260423T020539
CREATED:20240923T195910Z
LAST-MODIFIED:20240923T195910Z
UID:10003385-1754928000-1754935200@leatherbackbrewing.com
SUMMARY:St. Croix Happy Hour
DESCRIPTION:Join us for Happy Hour 4:00pm – 6:00pm with $5 Flagship Beers and $10 Wings!
URL:https://leatherbackbrewing.com/event/st-croix-happy-hour-2/2025-08-11/
CATEGORIES:Specials
ATTACH;FMTTYPE=image/jpeg:https://leatherbackbrewing.com/wp-content/uploads/2024/09/Happy-Hour.jpg
END:VEVENT
BEGIN:VEVENT
DTSTART;TZID=UTC:20250812T160000
DTEND;TZID=UTC:20250812T180000
DTSTAMP:20260423T020539
CREATED:20240923T195910Z
LAST-MODIFIED:20240923T195910Z
UID:10003386-1755014400-1755021600@leatherbackbrewing.com
SUMMARY:St. Croix Happy Hour
DESCRIPTION:Join us for Happy Hour 4:00pm – 6:00pm with $5 Flagship Beers and $10 Wings!
URL:https://leatherbackbrewing.com/event/st-croix-happy-hour-2/2025-08-12/
CATEGORIES:Specials
ATTACH;FMTTYPE=image/jpeg:https://leatherbackbrewing.com/wp-content/uploads/2024/09/Happy-Hour.jpg
END:VEVENT
BEGIN:VEVENT
DTSTART;TZID=UTC:20250812T180000
DTEND;TZID=UTC:20250812T200000
DTSTAMP:20260423T020539
CREATED:20250512T170133Z
LAST-MODIFIED:20250512T170133Z
UID:10004113-1755021600-1755028800@leatherbackbrewing.com
SUMMARY:Tuesday Night Trivia
DESCRIPTION:Think you’ve got what it takes to be trivia champs?\nTrivia Tuesday kicks off at 6:00 PM—grab your team and get ready to compete!\n• Teams can have up to 6 players\n• Prizes awarded after every round\n• Teams face off for 1st and 2nd place glory\n\n\nBring your A-game\, some good vibes\, and a whole lot of brainpower.\nLet’s make it a night to remember!\n\n\n\n\n\n\n\n\nCall 340-772-2337 and we will reserve a table for your team of 6 people or less or come early and find a spot and enjoy Happy Hour (starting at 4:00pm)
URL:https://leatherbackbrewing.com/event/tuesday-night-trivia/2025-08-12/
ATTACH;FMTTYPE=image/jpeg:https://leatherbackbrewing.com/wp-content/uploads/2025/05/Trivia-Night.jpg
END:VEVENT
BEGIN:VEVENT
DTSTART;TZID=UTC:20250813T160000
DTEND;TZID=UTC:20250813T180000
DTSTAMP:20260423T020539
CREATED:20240923T195910Z
LAST-MODIFIED:20240923T195910Z
UID:10003387-1755100800-1755108000@leatherbackbrewing.com
SUMMARY:St. Croix Happy Hour
DESCRIPTION:Join us for Happy Hour 4:00pm – 6:00pm with $5 Flagship Beers and $10 Wings!
URL:https://leatherbackbrewing.com/event/st-croix-happy-hour-2/2025-08-13/
CATEGORIES:Specials
ATTACH;FMTTYPE=image/jpeg:https://leatherbackbrewing.com/wp-content/uploads/2024/09/Happy-Hour.jpg
END:VEVENT
BEGIN:VEVENT
DTSTART;TZID=UTC:20250815T173000
DTEND;TZID=UTC:20250815T193000
DTSTAMP:20260423T020539
CREATED:20250512T171126Z
LAST-MODIFIED:20250604T172325Z
UID:10002964-1755279000-1755286200@leatherbackbrewing.com
SUMMARY:St. Croix- Crab Races
DESCRIPTION:Join us for Crab Races with Tito & Sue! \nCheer on your crab while enjoying your favorite Leatherback brew or a cocktail! Bring the while family for some pizza and fun! \nCrabs available starting at 5:30. Arrive early to get a good seat!
URL:https://leatherbackbrewing.com/event/tito-sue-crab-races-2/2025-08-15/
LOCATION:Leatherback Brewing Company- St. Croix
CATEGORIES:Family Fun
ATTACH;FMTTYPE=image/png:https://leatherbackbrewing.com/wp-content/uploads/2024/03/Carb-Races.png
END:VEVENT
BEGIN:VEVENT
DTSTART;TZID=UTC:20250818T160000
DTEND;TZID=UTC:20250818T180000
DTSTAMP:20260423T020539
CREATED:20240923T195910Z
LAST-MODIFIED:20240923T195910Z
UID:10003388-1755532800-1755540000@leatherbackbrewing.com
SUMMARY:St. Croix Happy Hour
DESCRIPTION:Join us for Happy Hour 4:00pm – 6:00pm with $5 Flagship Beers and $10 Wings!
URL:https://leatherbackbrewing.com/event/st-croix-happy-hour-2/2025-08-18/
CATEGORIES:Specials
ATTACH;FMTTYPE=image/jpeg:https://leatherbackbrewing.com/wp-content/uploads/2024/09/Happy-Hour.jpg
END:VEVENT
BEGIN:VEVENT
DTSTART;TZID=UTC:20250819T160000
DTEND;TZID=UTC:20250819T180000
DTSTAMP:20260423T020539
CREATED:20240923T195910Z
LAST-MODIFIED:20240923T195910Z
UID:10003389-1755619200-1755626400@leatherbackbrewing.com
SUMMARY:St. Croix Happy Hour
DESCRIPTION:Join us for Happy Hour 4:00pm – 6:00pm with $5 Flagship Beers and $10 Wings!
URL:https://leatherbackbrewing.com/event/st-croix-happy-hour-2/2025-08-19/
CATEGORIES:Specials
ATTACH;FMTTYPE=image/jpeg:https://leatherbackbrewing.com/wp-content/uploads/2024/09/Happy-Hour.jpg
END:VEVENT
BEGIN:VEVENT
DTSTART;TZID=UTC:20250819T180000
DTEND;TZID=UTC:20250819T200000
DTSTAMP:20260423T020539
CREATED:20250512T170133Z
LAST-MODIFIED:20250512T170133Z
UID:10004114-1755626400-1755633600@leatherbackbrewing.com
SUMMARY:Tuesday Night Trivia
DESCRIPTION:Think you’ve got what it takes to be trivia champs?\nTrivia Tuesday kicks off at 6:00 PM—grab your team and get ready to compete!\n• Teams can have up to 6 players\n• Prizes awarded after every round\n• Teams face off for 1st and 2nd place glory\n\n\nBring your A-game\, some good vibes\, and a whole lot of brainpower.\nLet’s make it a night to remember!\n\n\n\n\n\n\n\n\nCall 340-772-2337 and we will reserve a table for your team of 6 people or less or come early and find a spot and enjoy Happy Hour (starting at 4:00pm)
URL:https://leatherbackbrewing.com/event/tuesday-night-trivia/2025-08-19/
ATTACH;FMTTYPE=image/jpeg:https://leatherbackbrewing.com/wp-content/uploads/2025/05/Trivia-Night.jpg
END:VEVENT
BEGIN:VEVENT
DTSTART;TZID=UTC:20250820T160000
DTEND;TZID=UTC:20250820T180000
DTSTAMP:20260423T020539
CREATED:20240923T195910Z
LAST-MODIFIED:20240923T195910Z
UID:10003390-1755705600-1755712800@leatherbackbrewing.com
SUMMARY:St. Croix Happy Hour
DESCRIPTION:Join us for Happy Hour 4:00pm – 6:00pm with $5 Flagship Beers and $10 Wings!
URL:https://leatherbackbrewing.com/event/st-croix-happy-hour-2/2025-08-20/
CATEGORIES:Specials
ATTACH;FMTTYPE=image/jpeg:https://leatherbackbrewing.com/wp-content/uploads/2024/09/Happy-Hour.jpg
END:VEVENT
BEGIN:VEVENT
DTSTART;TZID=UTC:20250822T173000
DTEND;TZID=UTC:20250822T193000
DTSTAMP:20260423T020539
CREATED:20250512T171126Z
LAST-MODIFIED:20250604T172325Z
UID:10002965-1755883800-1755891000@leatherbackbrewing.com
SUMMARY:St. Croix- Crab Races
DESCRIPTION:Join us for Crab Races with Tito & Sue! \nCheer on your crab while enjoying your favorite Leatherback brew or a cocktail! Bring the while family for some pizza and fun! \nCrabs available starting at 5:30. Arrive early to get a good seat!
URL:https://leatherbackbrewing.com/event/tito-sue-crab-races-2/2025-08-22/
LOCATION:Leatherback Brewing Company- St. Croix
CATEGORIES:Family Fun
ATTACH;FMTTYPE=image/png:https://leatherbackbrewing.com/wp-content/uploads/2024/03/Carb-Races.png
END:VEVENT
BEGIN:VEVENT
DTSTART;TZID=UTC:20250825T160000
DTEND;TZID=UTC:20250825T180000
DTSTAMP:20260423T020539
CREATED:20240923T195910Z
LAST-MODIFIED:20240923T195910Z
UID:10003391-1756137600-1756144800@leatherbackbrewing.com
SUMMARY:St. Croix Happy Hour
DESCRIPTION:Join us for Happy Hour 4:00pm – 6:00pm with $5 Flagship Beers and $10 Wings!
URL:https://leatherbackbrewing.com/event/st-croix-happy-hour-2/2025-08-25/
CATEGORIES:Specials
ATTACH;FMTTYPE=image/jpeg:https://leatherbackbrewing.com/wp-content/uploads/2024/09/Happy-Hour.jpg
END:VEVENT
BEGIN:VEVENT
DTSTART;TZID=UTC:20250826T160000
DTEND;TZID=UTC:20250826T180000
DTSTAMP:20260423T020539
CREATED:20240923T195910Z
LAST-MODIFIED:20240923T195910Z
UID:10003392-1756224000-1756231200@leatherbackbrewing.com
SUMMARY:St. Croix Happy Hour
DESCRIPTION:Join us for Happy Hour 4:00pm – 6:00pm with $5 Flagship Beers and $10 Wings!
URL:https://leatherbackbrewing.com/event/st-croix-happy-hour-2/2025-08-26/
CATEGORIES:Specials
ATTACH;FMTTYPE=image/jpeg:https://leatherbackbrewing.com/wp-content/uploads/2024/09/Happy-Hour.jpg
END:VEVENT
BEGIN:VEVENT
DTSTART;TZID=UTC:20250826T180000
DTEND;TZID=UTC:20250826T200000
DTSTAMP:20260423T020539
CREATED:20250512T170133Z
LAST-MODIFIED:20250512T170133Z
UID:10004115-1756231200-1756238400@leatherbackbrewing.com
SUMMARY:Tuesday Night Trivia
DESCRIPTION:Think you’ve got what it takes to be trivia champs?\nTrivia Tuesday kicks off at 6:00 PM—grab your team and get ready to compete!\n• Teams can have up to 6 players\n• Prizes awarded after every round\n• Teams face off for 1st and 2nd place glory\n\n\nBring your A-game\, some good vibes\, and a whole lot of brainpower.\nLet’s make it a night to remember!\n\n\n\n\n\n\n\n\nCall 340-772-2337 and we will reserve a table for your team of 6 people or less or come early and find a spot and enjoy Happy Hour (starting at 4:00pm)
URL:https://leatherbackbrewing.com/event/tuesday-night-trivia/2025-08-26/
ATTACH;FMTTYPE=image/jpeg:https://leatherbackbrewing.com/wp-content/uploads/2025/05/Trivia-Night.jpg
END:VEVENT
BEGIN:VEVENT
DTSTART;TZID=UTC:20250827T160000
DTEND;TZID=UTC:20250827T180000
DTSTAMP:20260423T020539
CREATED:20240923T195910Z
LAST-MODIFIED:20240923T195910Z
UID:10003393-1756310400-1756317600@leatherbackbrewing.com
SUMMARY:St. Croix Happy Hour
DESCRIPTION:Join us for Happy Hour 4:00pm – 6:00pm with $5 Flagship Beers and $10 Wings!
URL:https://leatherbackbrewing.com/event/st-croix-happy-hour-2/2025-08-27/
CATEGORIES:Specials
ATTACH;FMTTYPE=image/jpeg:https://leatherbackbrewing.com/wp-content/uploads/2024/09/Happy-Hour.jpg
END:VEVENT
BEGIN:VEVENT
DTSTART;TZID=UTC:20250829T173000
DTEND;TZID=UTC:20250829T193000
DTSTAMP:20260423T020539
CREATED:20250512T171126Z
LAST-MODIFIED:20250604T172325Z
UID:10002966-1756488600-1756495800@leatherbackbrewing.com
SUMMARY:St. Croix- Crab Races
DESCRIPTION:Join us for Crab Races with Tito & Sue! \nCheer on your crab while enjoying your favorite Leatherback brew or a cocktail! Bring the while family for some pizza and fun! \nCrabs available starting at 5:30. Arrive early to get a good seat!
URL:https://leatherbackbrewing.com/event/tito-sue-crab-races-2/2025-08-29/
LOCATION:Leatherback Brewing Company- St. Croix
CATEGORIES:Family Fun
ATTACH;FMTTYPE=image/png:https://leatherbackbrewing.com/wp-content/uploads/2024/03/Carb-Races.png
END:VEVENT
BEGIN:VEVENT
DTSTART;TZID=UTC:20250901T160000
DTEND;TZID=UTC:20250901T180000
DTSTAMP:20260423T020539
CREATED:20240923T195910Z
LAST-MODIFIED:20240923T195910Z
UID:10003394-1756742400-1756749600@leatherbackbrewing.com
SUMMARY:St. Croix Happy Hour
DESCRIPTION:Join us for Happy Hour 4:00pm – 6:00pm with $5 Flagship Beers and $10 Wings!
URL:https://leatherbackbrewing.com/event/st-croix-happy-hour-2/2025-09-01/
CATEGORIES:Specials
ATTACH;FMTTYPE=image/jpeg:https://leatherbackbrewing.com/wp-content/uploads/2024/09/Happy-Hour.jpg
END:VEVENT
BEGIN:VEVENT
DTSTART;TZID=UTC:20250902T160000
DTEND;TZID=UTC:20250902T180000
DTSTAMP:20260423T020539
CREATED:20240923T195910Z
LAST-MODIFIED:20240923T195910Z
UID:10003395-1756828800-1756836000@leatherbackbrewing.com
SUMMARY:St. Croix Happy Hour
DESCRIPTION:Join us for Happy Hour 4:00pm – 6:00pm with $5 Flagship Beers and $10 Wings!
URL:https://leatherbackbrewing.com/event/st-croix-happy-hour-2/2025-09-02/
CATEGORIES:Specials
ATTACH;FMTTYPE=image/jpeg:https://leatherbackbrewing.com/wp-content/uploads/2024/09/Happy-Hour.jpg
END:VEVENT
BEGIN:VEVENT
DTSTART;TZID=UTC:20250902T180000
DTEND;TZID=UTC:20250902T200000
DTSTAMP:20260423T020539
CREATED:20250512T170133Z
LAST-MODIFIED:20250512T170133Z
UID:10004116-1756836000-1756843200@leatherbackbrewing.com
SUMMARY:Tuesday Night Trivia
DESCRIPTION:Think you’ve got what it takes to be trivia champs?\nTrivia Tuesday kicks off at 6:00 PM—grab your team and get ready to compete!\n• Teams can have up to 6 players\n• Prizes awarded after every round\n• Teams face off for 1st and 2nd place glory\n\n\nBring your A-game\, some good vibes\, and a whole lot of brainpower.\nLet’s make it a night to remember!\n\n\n\n\n\n\n\n\nCall 340-772-2337 and we will reserve a table for your team of 6 people or less or come early and find a spot and enjoy Happy Hour (starting at 4:00pm)
URL:https://leatherbackbrewing.com/event/tuesday-night-trivia/2025-09-02/
ATTACH;FMTTYPE=image/jpeg:https://leatherbackbrewing.com/wp-content/uploads/2025/05/Trivia-Night.jpg
END:VEVENT
BEGIN:VEVENT
DTSTART;TZID=UTC:20250903T160000
DTEND;TZID=UTC:20250903T180000
DTSTAMP:20260423T020539
CREATED:20240923T195910Z
LAST-MODIFIED:20240923T195910Z
UID:10003396-1756915200-1756922400@leatherbackbrewing.com
SUMMARY:St. Croix Happy Hour
DESCRIPTION:Join us for Happy Hour 4:00pm – 6:00pm with $5 Flagship Beers and $10 Wings!
URL:https://leatherbackbrewing.com/event/st-croix-happy-hour-2/2025-09-03/
CATEGORIES:Specials
ATTACH;FMTTYPE=image/jpeg:https://leatherbackbrewing.com/wp-content/uploads/2024/09/Happy-Hour.jpg
END:VEVENT
BEGIN:VEVENT
DTSTART;TZID=UTC:20250905T173000
DTEND;TZID=UTC:20250905T193000
DTSTAMP:20260423T020539
CREATED:20250512T171126Z
LAST-MODIFIED:20250604T172325Z
UID:10002967-1757093400-1757100600@leatherbackbrewing.com
SUMMARY:St. Croix- Crab Races
DESCRIPTION:Join us for Crab Races with Tito & Sue! \nCheer on your crab while enjoying your favorite Leatherback brew or a cocktail! Bring the while family for some pizza and fun! \nCrabs available starting at 5:30. Arrive early to get a good seat!
URL:https://leatherbackbrewing.com/event/tito-sue-crab-races-2/2025-09-05/
LOCATION:Leatherback Brewing Company- St. Croix
CATEGORIES:Family Fun
ATTACH;FMTTYPE=image/png:https://leatherbackbrewing.com/wp-content/uploads/2024/03/Carb-Races.png
END:VEVENT
BEGIN:VEVENT
DTSTART;TZID=UTC:20250906T184500
DTEND;TZID=UTC:20250906T203000
DTSTAMP:20260423T020539
CREATED:20240322T204739Z
LAST-MODIFIED:20240529T203805Z
UID:10003196-1757184300-1757190600@leatherbackbrewing.com
SUMMARY:St. Croix- Movie Night
DESCRIPTION:Bring the whole family to Leatherback to watch a movie under the stars! \nWe’ll be serving craft beer and cocktails along with our regular menu! \nCome early to get a table outside or bring your own chairs or blankets. \nCheck our Facebook page to find this month’s movie!
URL:https://leatherbackbrewing.com/event/st-croix-movie-night-2/2025-09-06/
LOCATION:Leatherback Brewing Company- St. Croix
CATEGORIES:Family Fun,movie
ATTACH;FMTTYPE=image/png:https://leatherbackbrewing.com/wp-content/uploads/2024/03/Movie-Night.png
END:VEVENT
BEGIN:VEVENT
DTSTART;TZID=UTC:20250908T160000
DTEND;TZID=UTC:20250908T180000
DTSTAMP:20260423T020539
CREATED:20240923T195910Z
LAST-MODIFIED:20240923T195910Z
UID:10003397-1757347200-1757354400@leatherbackbrewing.com
SUMMARY:St. Croix Happy Hour
DESCRIPTION:Join us for Happy Hour 4:00pm – 6:00pm with $5 Flagship Beers and $10 Wings!
URL:https://leatherbackbrewing.com/event/st-croix-happy-hour-2/2025-09-08/
CATEGORIES:Specials
ATTACH;FMTTYPE=image/jpeg:https://leatherbackbrewing.com/wp-content/uploads/2024/09/Happy-Hour.jpg
END:VEVENT
BEGIN:VEVENT
DTSTART;TZID=UTC:20250909T160000
DTEND;TZID=UTC:20250909T180000
DTSTAMP:20260423T020539
CREATED:20240923T195910Z
LAST-MODIFIED:20240923T195910Z
UID:10003398-1757433600-1757440800@leatherbackbrewing.com
SUMMARY:St. Croix Happy Hour
DESCRIPTION:Join us for Happy Hour 4:00pm – 6:00pm with $5 Flagship Beers and $10 Wings!
URL:https://leatherbackbrewing.com/event/st-croix-happy-hour-2/2025-09-09/
CATEGORIES:Specials
ATTACH;FMTTYPE=image/jpeg:https://leatherbackbrewing.com/wp-content/uploads/2024/09/Happy-Hour.jpg
END:VEVENT
BEGIN:VEVENT
DTSTART;TZID=UTC:20250909T180000
DTEND;TZID=UTC:20250909T200000
DTSTAMP:20260423T020539
CREATED:20250512T170133Z
LAST-MODIFIED:20250512T170133Z
UID:10004117-1757440800-1757448000@leatherbackbrewing.com
SUMMARY:Tuesday Night Trivia
DESCRIPTION:Think you’ve got what it takes to be trivia champs?\nTrivia Tuesday kicks off at 6:00 PM—grab your team and get ready to compete!\n• Teams can have up to 6 players\n• Prizes awarded after every round\n• Teams face off for 1st and 2nd place glory\n\n\nBring your A-game\, some good vibes\, and a whole lot of brainpower.\nLet’s make it a night to remember!\n\n\n\n\n\n\n\n\nCall 340-772-2337 and we will reserve a table for your team of 6 people or less or come early and find a spot and enjoy Happy Hour (starting at 4:00pm)
URL:https://leatherbackbrewing.com/event/tuesday-night-trivia/2025-09-09/
ATTACH;FMTTYPE=image/jpeg:https://leatherbackbrewing.com/wp-content/uploads/2025/05/Trivia-Night.jpg
END:VEVENT
BEGIN:VEVENT
DTSTART;TZID=UTC:20250910T160000
DTEND;TZID=UTC:20250910T180000
DTSTAMP:20260423T020539
CREATED:20240923T195910Z
LAST-MODIFIED:20240923T195910Z
UID:10003399-1757520000-1757527200@leatherbackbrewing.com
SUMMARY:St. Croix Happy Hour
DESCRIPTION:Join us for Happy Hour 4:00pm – 6:00pm with $5 Flagship Beers and $10 Wings!
URL:https://leatherbackbrewing.com/event/st-croix-happy-hour-2/2025-09-10/
CATEGORIES:Specials
ATTACH;FMTTYPE=image/jpeg:https://leatherbackbrewing.com/wp-content/uploads/2024/09/Happy-Hour.jpg
END:VEVENT
BEGIN:VEVENT
DTSTART;TZID=UTC:20250912T173000
DTEND;TZID=UTC:20250912T193000
DTSTAMP:20260423T020539
CREATED:20250512T171126Z
LAST-MODIFIED:20250604T172325Z
UID:10002968-1757698200-1757705400@leatherbackbrewing.com
SUMMARY:St. Croix- Crab Races
DESCRIPTION:Join us for Crab Races with Tito & Sue! \nCheer on your crab while enjoying your favorite Leatherback brew or a cocktail! Bring the while family for some pizza and fun! \nCrabs available starting at 5:30. Arrive early to get a good seat!
URL:https://leatherbackbrewing.com/event/tito-sue-crab-races-2/2025-09-12/
LOCATION:Leatherback Brewing Company- St. Croix
CATEGORIES:Family Fun
ATTACH;FMTTYPE=image/png:https://leatherbackbrewing.com/wp-content/uploads/2024/03/Carb-Races.png
END:VEVENT
BEGIN:VEVENT
DTSTART;TZID=UTC:20250915T160000
DTEND;TZID=UTC:20250915T180000
DTSTAMP:20260423T020539
CREATED:20240923T195910Z
LAST-MODIFIED:20240923T195910Z
UID:10003400-1757952000-1757959200@leatherbackbrewing.com
SUMMARY:St. Croix Happy Hour
DESCRIPTION:Join us for Happy Hour 4:00pm – 6:00pm with $5 Flagship Beers and $10 Wings!
URL:https://leatherbackbrewing.com/event/st-croix-happy-hour-2/2025-09-15/
CATEGORIES:Specials
ATTACH;FMTTYPE=image/jpeg:https://leatherbackbrewing.com/wp-content/uploads/2024/09/Happy-Hour.jpg
END:VEVENT
END:VCALENDAR