BEGIN:VCALENDAR
VERSION:2.0
PRODID:-//Leatherback Brewing - ECPv6.15.20//NONSGML v1.0//EN
CALSCALE:GREGORIAN
METHOD:PUBLISH
X-ORIGINAL-URL:https://leatherbackbrewing.com
X-WR-CALDESC:Events for Leatherback Brewing
REFRESH-INTERVAL;VALUE=DURATION:PT1H
X-Robots-Tag:noindex
X-PUBLISHED-TTL:PT1H
BEGIN:VTIMEZONE
TZID:UTC
BEGIN:STANDARD
TZOFFSETFROM:+0000
TZOFFSETTO:+0000
TZNAME:UTC
DTSTART:20250101T000000
END:STANDARD
END:VTIMEZONE
BEGIN:VEVENT
DTSTART;TZID=UTC:20260508T173000
DTEND;TZID=UTC:20260508T193000
DTSTAMP:20260422T220000
CREATED:20250512T171126Z
LAST-MODIFIED:20250604T172325Z
UID:10003002-1778261400-1778268600@leatherbackbrewing.com
SUMMARY:St. Croix- Crab Races
DESCRIPTION:Join us for Crab Races with Tito & Sue! \nCheer on your crab while enjoying your favorite Leatherback brew or a cocktail! Bring the while family for some pizza and fun! \nCrabs available starting at 5:30. Arrive early to get a good seat!
URL:https://leatherbackbrewing.com/event/tito-sue-crab-races-2/2026-05-08/
LOCATION:Leatherback Brewing Company- St. Croix
CATEGORIES:Family Fun
ATTACH;FMTTYPE=image/png:https://leatherbackbrewing.com/wp-content/uploads/2024/03/Carb-Races.png
END:VEVENT
BEGIN:VEVENT
DTSTART;TZID=UTC:20260511T160000
DTEND;TZID=UTC:20260511T180000
DTSTAMP:20260422T220000
CREATED:20240923T195910Z
LAST-MODIFIED:20240923T195910Z
UID:10003502-1778515200-1778522400@leatherbackbrewing.com
SUMMARY:St. Croix Happy Hour
DESCRIPTION:Join us for Happy Hour 4:00pm – 6:00pm with $5 Flagship Beers and $10 Wings!
URL:https://leatherbackbrewing.com/event/st-croix-happy-hour-2/2026-05-11/
CATEGORIES:Specials
ATTACH;FMTTYPE=image/jpeg:https://leatherbackbrewing.com/wp-content/uploads/2024/09/Happy-Hour.jpg
END:VEVENT
BEGIN:VEVENT
DTSTART;TZID=UTC:20260512T160000
DTEND;TZID=UTC:20260512T180000
DTSTAMP:20260422T220000
CREATED:20240923T195910Z
LAST-MODIFIED:20240923T195910Z
UID:10003503-1778601600-1778608800@leatherbackbrewing.com
SUMMARY:St. Croix Happy Hour
DESCRIPTION:Join us for Happy Hour 4:00pm – 6:00pm with $5 Flagship Beers and $10 Wings!
URL:https://leatherbackbrewing.com/event/st-croix-happy-hour-2/2026-05-12/
CATEGORIES:Specials
ATTACH;FMTTYPE=image/jpeg:https://leatherbackbrewing.com/wp-content/uploads/2024/09/Happy-Hour.jpg
END:VEVENT
BEGIN:VEVENT
DTSTART;TZID=UTC:20260512T180000
DTEND;TZID=UTC:20260512T200000
DTSTAMP:20260422T220000
CREATED:20250512T170133Z
LAST-MODIFIED:20250512T170133Z
UID:10004152-1778608800-1778616000@leatherbackbrewing.com
SUMMARY:Tuesday Night Trivia
DESCRIPTION:Think you’ve got what it takes to be trivia champs?\nTrivia Tuesday kicks off at 6:00 PM—grab your team and get ready to compete!\n• Teams can have up to 6 players\n• Prizes awarded after every round\n• Teams face off for 1st and 2nd place glory\n\n\nBring your A-game\, some good vibes\, and a whole lot of brainpower.\nLet’s make it a night to remember!\n\n\n\n\n\n\n\n\nCall 340-772-2337 and we will reserve a table for your team of 6 people or less or come early and find a spot and enjoy Happy Hour (starting at 4:00pm)
URL:https://leatherbackbrewing.com/event/tuesday-night-trivia/2026-05-12/
ATTACH;FMTTYPE=image/jpeg:https://leatherbackbrewing.com/wp-content/uploads/2025/05/Trivia-Night.jpg
END:VEVENT
BEGIN:VEVENT
DTSTART;TZID=UTC:20260513T160000
DTEND;TZID=UTC:20260513T180000
DTSTAMP:20260422T220000
CREATED:20240923T195910Z
LAST-MODIFIED:20240923T195910Z
UID:10003504-1778688000-1778695200@leatherbackbrewing.com
SUMMARY:St. Croix Happy Hour
DESCRIPTION:Join us for Happy Hour 4:00pm – 6:00pm with $5 Flagship Beers and $10 Wings!
URL:https://leatherbackbrewing.com/event/st-croix-happy-hour-2/2026-05-13/
CATEGORIES:Specials
ATTACH;FMTTYPE=image/jpeg:https://leatherbackbrewing.com/wp-content/uploads/2024/09/Happy-Hour.jpg
END:VEVENT
BEGIN:VEVENT
DTSTART;TZID=UTC:20260515T173000
DTEND;TZID=UTC:20260515T193000
DTSTAMP:20260422T220000
CREATED:20250512T171126Z
LAST-MODIFIED:20250604T172325Z
UID:10003003-1778866200-1778873400@leatherbackbrewing.com
SUMMARY:St. Croix- Crab Races
DESCRIPTION:Join us for Crab Races with Tito & Sue! \nCheer on your crab while enjoying your favorite Leatherback brew or a cocktail! Bring the while family for some pizza and fun! \nCrabs available starting at 5:30. Arrive early to get a good seat!
URL:https://leatherbackbrewing.com/event/tito-sue-crab-races-2/2026-05-15/
LOCATION:Leatherback Brewing Company- St. Croix
CATEGORIES:Family Fun
ATTACH;FMTTYPE=image/png:https://leatherbackbrewing.com/wp-content/uploads/2024/03/Carb-Races.png
END:VEVENT
BEGIN:VEVENT
DTSTART;TZID=UTC:20260518T160000
DTEND;TZID=UTC:20260518T180000
DTSTAMP:20260422T220000
CREATED:20240923T195910Z
LAST-MODIFIED:20240923T195910Z
UID:10003505-1779120000-1779127200@leatherbackbrewing.com
SUMMARY:St. Croix Happy Hour
DESCRIPTION:Join us for Happy Hour 4:00pm – 6:00pm with $5 Flagship Beers and $10 Wings!
URL:https://leatherbackbrewing.com/event/st-croix-happy-hour-2/2026-05-18/
CATEGORIES:Specials
ATTACH;FMTTYPE=image/jpeg:https://leatherbackbrewing.com/wp-content/uploads/2024/09/Happy-Hour.jpg
END:VEVENT
BEGIN:VEVENT
DTSTART;TZID=UTC:20260519T160000
DTEND;TZID=UTC:20260519T180000
DTSTAMP:20260422T220000
CREATED:20240923T195910Z
LAST-MODIFIED:20240923T195910Z
UID:10003506-1779206400-1779213600@leatherbackbrewing.com
SUMMARY:St. Croix Happy Hour
DESCRIPTION:Join us for Happy Hour 4:00pm – 6:00pm with $5 Flagship Beers and $10 Wings!
URL:https://leatherbackbrewing.com/event/st-croix-happy-hour-2/2026-05-19/
CATEGORIES:Specials
ATTACH;FMTTYPE=image/jpeg:https://leatherbackbrewing.com/wp-content/uploads/2024/09/Happy-Hour.jpg
END:VEVENT
BEGIN:VEVENT
DTSTART;TZID=UTC:20260519T180000
DTEND;TZID=UTC:20260519T200000
DTSTAMP:20260422T220000
CREATED:20250512T170133Z
LAST-MODIFIED:20250512T170133Z
UID:10004153-1779213600-1779220800@leatherbackbrewing.com
SUMMARY:Tuesday Night Trivia
DESCRIPTION:Think you’ve got what it takes to be trivia champs?\nTrivia Tuesday kicks off at 6:00 PM—grab your team and get ready to compete!\n• Teams can have up to 6 players\n• Prizes awarded after every round\n• Teams face off for 1st and 2nd place glory\n\n\nBring your A-game\, some good vibes\, and a whole lot of brainpower.\nLet’s make it a night to remember!\n\n\n\n\n\n\n\n\nCall 340-772-2337 and we will reserve a table for your team of 6 people or less or come early and find a spot and enjoy Happy Hour (starting at 4:00pm)
URL:https://leatherbackbrewing.com/event/tuesday-night-trivia/2026-05-19/
ATTACH;FMTTYPE=image/jpeg:https://leatherbackbrewing.com/wp-content/uploads/2025/05/Trivia-Night.jpg
END:VEVENT
BEGIN:VEVENT
DTSTART;TZID=UTC:20260520T160000
DTEND;TZID=UTC:20260520T180000
DTSTAMP:20260422T220000
CREATED:20240923T195910Z
LAST-MODIFIED:20240923T195910Z
UID:10003507-1779292800-1779300000@leatherbackbrewing.com
SUMMARY:St. Croix Happy Hour
DESCRIPTION:Join us for Happy Hour 4:00pm – 6:00pm with $5 Flagship Beers and $10 Wings!
URL:https://leatherbackbrewing.com/event/st-croix-happy-hour-2/2026-05-20/
CATEGORIES:Specials
ATTACH;FMTTYPE=image/jpeg:https://leatherbackbrewing.com/wp-content/uploads/2024/09/Happy-Hour.jpg
END:VEVENT
BEGIN:VEVENT
DTSTART;TZID=UTC:20260522T173000
DTEND;TZID=UTC:20260522T193000
DTSTAMP:20260422T220000
CREATED:20250512T171126Z
LAST-MODIFIED:20250604T172325Z
UID:10003004-1779471000-1779478200@leatherbackbrewing.com
SUMMARY:St. Croix- Crab Races
DESCRIPTION:Join us for Crab Races with Tito & Sue! \nCheer on your crab while enjoying your favorite Leatherback brew or a cocktail! Bring the while family for some pizza and fun! \nCrabs available starting at 5:30. Arrive early to get a good seat!
URL:https://leatherbackbrewing.com/event/tito-sue-crab-races-2/2026-05-22/
LOCATION:Leatherback Brewing Company- St. Croix
CATEGORIES:Family Fun
ATTACH;FMTTYPE=image/png:https://leatherbackbrewing.com/wp-content/uploads/2024/03/Carb-Races.png
END:VEVENT
BEGIN:VEVENT
DTSTART;TZID=UTC:20260525T160000
DTEND;TZID=UTC:20260525T180000
DTSTAMP:20260422T220000
CREATED:20240923T195910Z
LAST-MODIFIED:20240923T195910Z
UID:10003508-1779724800-1779732000@leatherbackbrewing.com
SUMMARY:St. Croix Happy Hour
DESCRIPTION:Join us for Happy Hour 4:00pm – 6:00pm with $5 Flagship Beers and $10 Wings!
URL:https://leatherbackbrewing.com/event/st-croix-happy-hour-2/2026-05-25/
CATEGORIES:Specials
ATTACH;FMTTYPE=image/jpeg:https://leatherbackbrewing.com/wp-content/uploads/2024/09/Happy-Hour.jpg
END:VEVENT
BEGIN:VEVENT
DTSTART;TZID=UTC:20260526T160000
DTEND;TZID=UTC:20260526T180000
DTSTAMP:20260422T220000
CREATED:20240923T195910Z
LAST-MODIFIED:20240923T195910Z
UID:10003509-1779811200-1779818400@leatherbackbrewing.com
SUMMARY:St. Croix Happy Hour
DESCRIPTION:Join us for Happy Hour 4:00pm – 6:00pm with $5 Flagship Beers and $10 Wings!
URL:https://leatherbackbrewing.com/event/st-croix-happy-hour-2/2026-05-26/
CATEGORIES:Specials
ATTACH;FMTTYPE=image/jpeg:https://leatherbackbrewing.com/wp-content/uploads/2024/09/Happy-Hour.jpg
END:VEVENT
BEGIN:VEVENT
DTSTART;TZID=UTC:20260526T180000
DTEND;TZID=UTC:20260526T200000
DTSTAMP:20260422T220000
CREATED:20250512T170133Z
LAST-MODIFIED:20250512T170133Z
UID:10004154-1779818400-1779825600@leatherbackbrewing.com
SUMMARY:Tuesday Night Trivia
DESCRIPTION:Think you’ve got what it takes to be trivia champs?\nTrivia Tuesday kicks off at 6:00 PM—grab your team and get ready to compete!\n• Teams can have up to 6 players\n• Prizes awarded after every round\n• Teams face off for 1st and 2nd place glory\n\n\nBring your A-game\, some good vibes\, and a whole lot of brainpower.\nLet’s make it a night to remember!\n\n\n\n\n\n\n\n\nCall 340-772-2337 and we will reserve a table for your team of 6 people or less or come early and find a spot and enjoy Happy Hour (starting at 4:00pm)
URL:https://leatherbackbrewing.com/event/tuesday-night-trivia/2026-05-26/
ATTACH;FMTTYPE=image/jpeg:https://leatherbackbrewing.com/wp-content/uploads/2025/05/Trivia-Night.jpg
END:VEVENT
BEGIN:VEVENT
DTSTART;TZID=UTC:20260527T160000
DTEND;TZID=UTC:20260527T180000
DTSTAMP:20260422T220000
CREATED:20240923T195910Z
LAST-MODIFIED:20240923T195910Z
UID:10003510-1779897600-1779904800@leatherbackbrewing.com
SUMMARY:St. Croix Happy Hour
DESCRIPTION:Join us for Happy Hour 4:00pm – 6:00pm with $5 Flagship Beers and $10 Wings!
URL:https://leatherbackbrewing.com/event/st-croix-happy-hour-2/2026-05-27/
CATEGORIES:Specials
ATTACH;FMTTYPE=image/jpeg:https://leatherbackbrewing.com/wp-content/uploads/2024/09/Happy-Hour.jpg
END:VEVENT
BEGIN:VEVENT
DTSTART;TZID=UTC:20260529T173000
DTEND;TZID=UTC:20260529T193000
DTSTAMP:20260422T220000
CREATED:20250512T171126Z
LAST-MODIFIED:20250604T172325Z
UID:10003005-1780075800-1780083000@leatherbackbrewing.com
SUMMARY:St. Croix- Crab Races
DESCRIPTION:Join us for Crab Races with Tito & Sue! \nCheer on your crab while enjoying your favorite Leatherback brew or a cocktail! Bring the while family for some pizza and fun! \nCrabs available starting at 5:30. Arrive early to get a good seat!
URL:https://leatherbackbrewing.com/event/tito-sue-crab-races-2/2026-05-29/
LOCATION:Leatherback Brewing Company- St. Croix
CATEGORIES:Family Fun
ATTACH;FMTTYPE=image/png:https://leatherbackbrewing.com/wp-content/uploads/2024/03/Carb-Races.png
END:VEVENT
BEGIN:VEVENT
DTSTART;TZID=UTC:20260601T160000
DTEND;TZID=UTC:20260601T180000
DTSTAMP:20260422T220000
CREATED:20240923T195910Z
LAST-MODIFIED:20240923T195910Z
UID:10003511-1780329600-1780336800@leatherbackbrewing.com
SUMMARY:St. Croix Happy Hour
DESCRIPTION:Join us for Happy Hour 4:00pm – 6:00pm with $5 Flagship Beers and $10 Wings!
URL:https://leatherbackbrewing.com/event/st-croix-happy-hour-2/2026-06-01/
CATEGORIES:Specials
ATTACH;FMTTYPE=image/jpeg:https://leatherbackbrewing.com/wp-content/uploads/2024/09/Happy-Hour.jpg
END:VEVENT
BEGIN:VEVENT
DTSTART;TZID=UTC:20260602T160000
DTEND;TZID=UTC:20260602T180000
DTSTAMP:20260422T220000
CREATED:20240923T195910Z
LAST-MODIFIED:20240923T195910Z
UID:10003512-1780416000-1780423200@leatherbackbrewing.com
SUMMARY:St. Croix Happy Hour
DESCRIPTION:Join us for Happy Hour 4:00pm – 6:00pm with $5 Flagship Beers and $10 Wings!
URL:https://leatherbackbrewing.com/event/st-croix-happy-hour-2/2026-06-02/
CATEGORIES:Specials
ATTACH;FMTTYPE=image/jpeg:https://leatherbackbrewing.com/wp-content/uploads/2024/09/Happy-Hour.jpg
END:VEVENT
BEGIN:VEVENT
DTSTART;TZID=UTC:20260602T180000
DTEND;TZID=UTC:20260602T200000
DTSTAMP:20260422T220000
CREATED:20250512T170133Z
LAST-MODIFIED:20250512T170133Z
UID:10004155-1780423200-1780430400@leatherbackbrewing.com
SUMMARY:Tuesday Night Trivia
DESCRIPTION:Think you’ve got what it takes to be trivia champs?\nTrivia Tuesday kicks off at 6:00 PM—grab your team and get ready to compete!\n• Teams can have up to 6 players\n• Prizes awarded after every round\n• Teams face off for 1st and 2nd place glory\n\n\nBring your A-game\, some good vibes\, and a whole lot of brainpower.\nLet’s make it a night to remember!\n\n\n\n\n\n\n\n\nCall 340-772-2337 and we will reserve a table for your team of 6 people or less or come early and find a spot and enjoy Happy Hour (starting at 4:00pm)
URL:https://leatherbackbrewing.com/event/tuesday-night-trivia/2026-06-02/
ATTACH;FMTTYPE=image/jpeg:https://leatherbackbrewing.com/wp-content/uploads/2025/05/Trivia-Night.jpg
END:VEVENT
BEGIN:VEVENT
DTSTART;TZID=UTC:20260603T160000
DTEND;TZID=UTC:20260603T180000
DTSTAMP:20260422T220000
CREATED:20240923T195910Z
LAST-MODIFIED:20240923T195910Z
UID:10003513-1780502400-1780509600@leatherbackbrewing.com
SUMMARY:St. Croix Happy Hour
DESCRIPTION:Join us for Happy Hour 4:00pm – 6:00pm with $5 Flagship Beers and $10 Wings!
URL:https://leatherbackbrewing.com/event/st-croix-happy-hour-2/2026-06-03/
CATEGORIES:Specials
ATTACH;FMTTYPE=image/jpeg:https://leatherbackbrewing.com/wp-content/uploads/2024/09/Happy-Hour.jpg
END:VEVENT
BEGIN:VEVENT
DTSTART;TZID=UTC:20260605T173000
DTEND;TZID=UTC:20260605T193000
DTSTAMP:20260422T220000
CREATED:20250512T171126Z
LAST-MODIFIED:20250604T172325Z
UID:10003006-1780680600-1780687800@leatherbackbrewing.com
SUMMARY:St. Croix- Crab Races
DESCRIPTION:Join us for Crab Races with Tito & Sue! \nCheer on your crab while enjoying your favorite Leatherback brew or a cocktail! Bring the while family for some pizza and fun! \nCrabs available starting at 5:30. Arrive early to get a good seat!
URL:https://leatherbackbrewing.com/event/tito-sue-crab-races-2/2026-06-05/
LOCATION:Leatherback Brewing Company- St. Croix
CATEGORIES:Family Fun
ATTACH;FMTTYPE=image/png:https://leatherbackbrewing.com/wp-content/uploads/2024/03/Carb-Races.png
END:VEVENT
BEGIN:VEVENT
DTSTART;TZID=UTC:20260606T184500
DTEND;TZID=UTC:20260606T203000
DTSTAMP:20260422T220000
CREATED:20240322T204739Z
LAST-MODIFIED:20240529T203805Z
UID:10003205-1780771500-1780777800@leatherbackbrewing.com
SUMMARY:St. Croix- Movie Night
DESCRIPTION:Bring the whole family to Leatherback to watch a movie under the stars! \nWe’ll be serving craft beer and cocktails along with our regular menu! \nCome early to get a table outside or bring your own chairs or blankets. \nCheck our Facebook page to find this month’s movie!
URL:https://leatherbackbrewing.com/event/st-croix-movie-night-2/2026-06-06/
LOCATION:Leatherback Brewing Company- St. Croix
CATEGORIES:Family Fun,movie
ATTACH;FMTTYPE=image/png:https://leatherbackbrewing.com/wp-content/uploads/2024/03/Movie-Night.png
END:VEVENT
BEGIN:VEVENT
DTSTART;TZID=UTC:20260608T160000
DTEND;TZID=UTC:20260608T180000
DTSTAMP:20260422T220000
CREATED:20240923T195910Z
LAST-MODIFIED:20240923T195910Z
UID:10003514-1780934400-1780941600@leatherbackbrewing.com
SUMMARY:St. Croix Happy Hour
DESCRIPTION:Join us for Happy Hour 4:00pm – 6:00pm with $5 Flagship Beers and $10 Wings!
URL:https://leatherbackbrewing.com/event/st-croix-happy-hour-2/2026-06-08/
CATEGORIES:Specials
ATTACH;FMTTYPE=image/jpeg:https://leatherbackbrewing.com/wp-content/uploads/2024/09/Happy-Hour.jpg
END:VEVENT
BEGIN:VEVENT
DTSTART;TZID=UTC:20260609T160000
DTEND;TZID=UTC:20260609T180000
DTSTAMP:20260422T220000
CREATED:20240923T195910Z
LAST-MODIFIED:20240923T195910Z
UID:10003515-1781020800-1781028000@leatherbackbrewing.com
SUMMARY:St. Croix Happy Hour
DESCRIPTION:Join us for Happy Hour 4:00pm – 6:00pm with $5 Flagship Beers and $10 Wings!
URL:https://leatherbackbrewing.com/event/st-croix-happy-hour-2/2026-06-09/
CATEGORIES:Specials
ATTACH;FMTTYPE=image/jpeg:https://leatherbackbrewing.com/wp-content/uploads/2024/09/Happy-Hour.jpg
END:VEVENT
BEGIN:VEVENT
DTSTART;TZID=UTC:20260609T180000
DTEND;TZID=UTC:20260609T200000
DTSTAMP:20260422T220000
CREATED:20250512T170133Z
LAST-MODIFIED:20250512T170133Z
UID:10004156-1781028000-1781035200@leatherbackbrewing.com
SUMMARY:Tuesday Night Trivia
DESCRIPTION:Think you’ve got what it takes to be trivia champs?\nTrivia Tuesday kicks off at 6:00 PM—grab your team and get ready to compete!\n• Teams can have up to 6 players\n• Prizes awarded after every round\n• Teams face off for 1st and 2nd place glory\n\n\nBring your A-game\, some good vibes\, and a whole lot of brainpower.\nLet’s make it a night to remember!\n\n\n\n\n\n\n\n\nCall 340-772-2337 and we will reserve a table for your team of 6 people or less or come early and find a spot and enjoy Happy Hour (starting at 4:00pm)
URL:https://leatherbackbrewing.com/event/tuesday-night-trivia/2026-06-09/
ATTACH;FMTTYPE=image/jpeg:https://leatherbackbrewing.com/wp-content/uploads/2025/05/Trivia-Night.jpg
END:VEVENT
BEGIN:VEVENT
DTSTART;TZID=UTC:20260610T160000
DTEND;TZID=UTC:20260610T180000
DTSTAMP:20260422T220000
CREATED:20240923T195910Z
LAST-MODIFIED:20240923T195910Z
UID:10003516-1781107200-1781114400@leatherbackbrewing.com
SUMMARY:St. Croix Happy Hour
DESCRIPTION:Join us for Happy Hour 4:00pm – 6:00pm with $5 Flagship Beers and $10 Wings!
URL:https://leatherbackbrewing.com/event/st-croix-happy-hour-2/2026-06-10/
CATEGORIES:Specials
ATTACH;FMTTYPE=image/jpeg:https://leatherbackbrewing.com/wp-content/uploads/2024/09/Happy-Hour.jpg
END:VEVENT
BEGIN:VEVENT
DTSTART;TZID=UTC:20260612T173000
DTEND;TZID=UTC:20260612T193000
DTSTAMP:20260422T220000
CREATED:20250512T171126Z
LAST-MODIFIED:20250604T172325Z
UID:10003007-1781285400-1781292600@leatherbackbrewing.com
SUMMARY:St. Croix- Crab Races
DESCRIPTION:Join us for Crab Races with Tito & Sue! \nCheer on your crab while enjoying your favorite Leatherback brew or a cocktail! Bring the while family for some pizza and fun! \nCrabs available starting at 5:30. Arrive early to get a good seat!
URL:https://leatherbackbrewing.com/event/tito-sue-crab-races-2/2026-06-12/
LOCATION:Leatherback Brewing Company- St. Croix
CATEGORIES:Family Fun
ATTACH;FMTTYPE=image/png:https://leatherbackbrewing.com/wp-content/uploads/2024/03/Carb-Races.png
END:VEVENT
BEGIN:VEVENT
DTSTART;TZID=UTC:20260615T160000
DTEND;TZID=UTC:20260615T180000
DTSTAMP:20260422T220000
CREATED:20240923T195910Z
LAST-MODIFIED:20240923T195910Z
UID:10003517-1781539200-1781546400@leatherbackbrewing.com
SUMMARY:St. Croix Happy Hour
DESCRIPTION:Join us for Happy Hour 4:00pm – 6:00pm with $5 Flagship Beers and $10 Wings!
URL:https://leatherbackbrewing.com/event/st-croix-happy-hour-2/2026-06-15/
CATEGORIES:Specials
ATTACH;FMTTYPE=image/jpeg:https://leatherbackbrewing.com/wp-content/uploads/2024/09/Happy-Hour.jpg
END:VEVENT
BEGIN:VEVENT
DTSTART;TZID=UTC:20260616T160000
DTEND;TZID=UTC:20260616T180000
DTSTAMP:20260422T220000
CREATED:20240923T195910Z
LAST-MODIFIED:20240923T195910Z
UID:10003518-1781625600-1781632800@leatherbackbrewing.com
SUMMARY:St. Croix Happy Hour
DESCRIPTION:Join us for Happy Hour 4:00pm – 6:00pm with $5 Flagship Beers and $10 Wings!
URL:https://leatherbackbrewing.com/event/st-croix-happy-hour-2/2026-06-16/
CATEGORIES:Specials
ATTACH;FMTTYPE=image/jpeg:https://leatherbackbrewing.com/wp-content/uploads/2024/09/Happy-Hour.jpg
END:VEVENT
BEGIN:VEVENT
DTSTART;TZID=UTC:20260616T180000
DTEND;TZID=UTC:20260616T200000
DTSTAMP:20260422T220000
CREATED:20250512T170133Z
LAST-MODIFIED:20250512T170133Z
UID:10004157-1781632800-1781640000@leatherbackbrewing.com
SUMMARY:Tuesday Night Trivia
DESCRIPTION:Think you’ve got what it takes to be trivia champs?\nTrivia Tuesday kicks off at 6:00 PM—grab your team and get ready to compete!\n• Teams can have up to 6 players\n• Prizes awarded after every round\n• Teams face off for 1st and 2nd place glory\n\n\nBring your A-game\, some good vibes\, and a whole lot of brainpower.\nLet’s make it a night to remember!\n\n\n\n\n\n\n\n\nCall 340-772-2337 and we will reserve a table for your team of 6 people or less or come early and find a spot and enjoy Happy Hour (starting at 4:00pm)
URL:https://leatherbackbrewing.com/event/tuesday-night-trivia/2026-06-16/
ATTACH;FMTTYPE=image/jpeg:https://leatherbackbrewing.com/wp-content/uploads/2025/05/Trivia-Night.jpg
END:VEVENT
END:VCALENDAR