BEGIN:VCALENDAR
VERSION:2.0
PRODID:-//Leatherback Brewing - ECPv6.15.20//NONSGML v1.0//EN
CALSCALE:GREGORIAN
METHOD:PUBLISH
X-WR-CALNAME:Leatherback Brewing
X-ORIGINAL-URL:https://leatherbackbrewing.com
X-WR-CALDESC:Events for Leatherback Brewing
REFRESH-INTERVAL;VALUE=DURATION:PT1H
X-Robots-Tag:noindex
X-PUBLISHED-TTL:PT1H
BEGIN:VTIMEZONE
TZID:UTC
BEGIN:STANDARD
TZOFFSETFROM:+0000
TZOFFSETTO:+0000
TZNAME:UTC
DTSTART:20210101T000000
END:STANDARD
END:VTIMEZONE
BEGIN:VEVENT
DTSTART;TZID=UTC:20220606T113000
DTEND;TZID=UTC:20220606T200000
DTSTAMP:20260425T031014
CREATED:20210920T214536Z
LAST-MODIFIED:20221005T161137Z
UID:10002283-1654515000-1654545600@leatherbackbrewing.com
SUMMARY:St. Croix- LOVE Mondays!
DESCRIPTION:THREE Reasons to LOVE Mondays!\n\n1. A chance to set hte tone for the coming week.\n2. Another beautiful day of island life!\n3. A free pint of beer with the purchase of a large pizza at Leatherback Brewing Company! (Dine in only)
URL:https://leatherbackbrewing.com/event/lovemondays/2022-06-06/
LOCATION:Leatherback Brewing Company- St. Croix
CATEGORIES:Specials
ATTACH;FMTTYPE=image/jpeg:https://leatherbackbrewing.com/wp-content/uploads/2021/09/LBB_Mondays_Flyer-scaled.jpg
END:VEVENT
BEGIN:VEVENT
DTSTART;TZID=UTC:20220530T113000
DTEND;TZID=UTC:20220530T200000
DTSTAMP:20260425T031014
CREATED:20210920T214536Z
LAST-MODIFIED:20221005T161137Z
UID:10002282-1653910200-1653940800@leatherbackbrewing.com
SUMMARY:St. Croix- LOVE Mondays!
DESCRIPTION:THREE Reasons to LOVE Mondays!\n\n1. A chance to set hte tone for the coming week.\n2. Another beautiful day of island life!\n3. A free pint of beer with the purchase of a large pizza at Leatherback Brewing Company! (Dine in only)
URL:https://leatherbackbrewing.com/event/lovemondays/2022-05-30/
LOCATION:Leatherback Brewing Company- St. Croix
CATEGORIES:Specials
ATTACH;FMTTYPE=image/jpeg:https://leatherbackbrewing.com/wp-content/uploads/2021/09/LBB_Mondays_Flyer-scaled.jpg
END:VEVENT
BEGIN:VEVENT
DTSTART;TZID=UTC:20220523T113000
DTEND;TZID=UTC:20220523T200000
DTSTAMP:20260425T031014
CREATED:20210920T214536Z
LAST-MODIFIED:20221005T161137Z
UID:10002281-1653305400-1653336000@leatherbackbrewing.com
SUMMARY:St. Croix- LOVE Mondays!
DESCRIPTION:THREE Reasons to LOVE Mondays!\n\n1. A chance to set hte tone for the coming week.\n2. Another beautiful day of island life!\n3. A free pint of beer with the purchase of a large pizza at Leatherback Brewing Company! (Dine in only)
URL:https://leatherbackbrewing.com/event/lovemondays/2022-05-23/
LOCATION:Leatherback Brewing Company- St. Croix
CATEGORIES:Specials
ATTACH;FMTTYPE=image/jpeg:https://leatherbackbrewing.com/wp-content/uploads/2021/09/LBB_Mondays_Flyer-scaled.jpg
END:VEVENT
BEGIN:VEVENT
DTSTART;TZID=UTC:20220516T113000
DTEND;TZID=UTC:20220516T200000
DTSTAMP:20260425T031014
CREATED:20210920T214536Z
LAST-MODIFIED:20221005T161137Z
UID:10002280-1652700600-1652731200@leatherbackbrewing.com
SUMMARY:St. Croix- LOVE Mondays!
DESCRIPTION:THREE Reasons to LOVE Mondays!\n\n1. A chance to set hte tone for the coming week.\n2. Another beautiful day of island life!\n3. A free pint of beer with the purchase of a large pizza at Leatherback Brewing Company! (Dine in only)
URL:https://leatherbackbrewing.com/event/lovemondays/2022-05-16/
LOCATION:Leatherback Brewing Company- St. Croix
CATEGORIES:Specials
ATTACH;FMTTYPE=image/jpeg:https://leatherbackbrewing.com/wp-content/uploads/2021/09/LBB_Mondays_Flyer-scaled.jpg
END:VEVENT
BEGIN:VEVENT
DTSTART;TZID=UTC:20220509T113000
DTEND;TZID=UTC:20220509T200000
DTSTAMP:20260425T031014
CREATED:20210920T214536Z
LAST-MODIFIED:20221005T161137Z
UID:10002279-1652095800-1652126400@leatherbackbrewing.com
SUMMARY:St. Croix- LOVE Mondays!
DESCRIPTION:THREE Reasons to LOVE Mondays!\n\n1. A chance to set hte tone for the coming week.\n2. Another beautiful day of island life!\n3. A free pint of beer with the purchase of a large pizza at Leatherback Brewing Company! (Dine in only)
URL:https://leatherbackbrewing.com/event/lovemondays/2022-05-09/
LOCATION:Leatherback Brewing Company- St. Croix
CATEGORIES:Specials
ATTACH;FMTTYPE=image/jpeg:https://leatherbackbrewing.com/wp-content/uploads/2021/09/LBB_Mondays_Flyer-scaled.jpg
END:VEVENT
BEGIN:VEVENT
DTSTART;TZID=UTC:20220502T113000
DTEND;TZID=UTC:20220502T200000
DTSTAMP:20260425T031014
CREATED:20210920T214536Z
LAST-MODIFIED:20221005T161137Z
UID:10002278-1651491000-1651521600@leatherbackbrewing.com
SUMMARY:St. Croix- LOVE Mondays!
DESCRIPTION:THREE Reasons to LOVE Mondays!\n\n1. A chance to set hte tone for the coming week.\n2. Another beautiful day of island life!\n3. A free pint of beer with the purchase of a large pizza at Leatherback Brewing Company! (Dine in only)
URL:https://leatherbackbrewing.com/event/lovemondays/2022-05-02/
LOCATION:Leatherback Brewing Company- St. Croix
CATEGORIES:Specials
ATTACH;FMTTYPE=image/jpeg:https://leatherbackbrewing.com/wp-content/uploads/2021/09/LBB_Mondays_Flyer-scaled.jpg
END:VEVENT
BEGIN:VEVENT
DTSTART;TZID=UTC:20220425T113000
DTEND;TZID=UTC:20220425T200000
DTSTAMP:20260425T031014
CREATED:20210920T214536Z
LAST-MODIFIED:20221005T161137Z
UID:10002277-1650886200-1650916800@leatherbackbrewing.com
SUMMARY:St. Croix- LOVE Mondays!
DESCRIPTION:THREE Reasons to LOVE Mondays!\n\n1. A chance to set hte tone for the coming week.\n2. Another beautiful day of island life!\n3. A free pint of beer with the purchase of a large pizza at Leatherback Brewing Company! (Dine in only)
URL:https://leatherbackbrewing.com/event/lovemondays/2022-04-25/
LOCATION:Leatherback Brewing Company- St. Croix
CATEGORIES:Specials
ATTACH;FMTTYPE=image/jpeg:https://leatherbackbrewing.com/wp-content/uploads/2021/09/LBB_Mondays_Flyer-scaled.jpg
END:VEVENT
BEGIN:VEVENT
DTSTART;TZID=UTC:20220422T170000
DTEND;TZID=UTC:20220422T200000
DTSTAMP:20260425T031014
CREATED:20220415T210156Z
LAST-MODIFIED:20220415T210156Z
UID:10001062-1650646800-1650657600@leatherbackbrewing.com
SUMMARY:St. Croix Live Music- Lady Friend
DESCRIPTION:End your week with live music and your favorite local brews! \nSt. Croix-based band Lady Friend is the brainchild of Heather Maynard and Jerrad Kozloff. Performing a blend of folk\, jazz\, country and blues\, they bring an honest and unique sound to the island music scene. Living a life of travel\, they first began playing together three years ago on the decks of sailboats. After being invited to perform live\, Lady Friend was officially formed. They play because they have a genuine love and passion for music\, which shines through when they are performing.
URL:https://leatherbackbrewing.com/event/st-croix-live-music-lady-friend-3/
LOCATION:Leatherback Brewing Company- St. Croix
CATEGORIES:Live Music
END:VEVENT
BEGIN:VEVENT
DTSTART;TZID=UTC:20220418T113000
DTEND;TZID=UTC:20220418T200000
DTSTAMP:20260425T031014
CREATED:20210920T214536Z
LAST-MODIFIED:20221005T161137Z
UID:10002276-1650281400-1650312000@leatherbackbrewing.com
SUMMARY:St. Croix- LOVE Mondays!
DESCRIPTION:THREE Reasons to LOVE Mondays!\n\n1. A chance to set hte tone for the coming week.\n2. Another beautiful day of island life!\n3. A free pint of beer with the purchase of a large pizza at Leatherback Brewing Company! (Dine in only)
URL:https://leatherbackbrewing.com/event/lovemondays/2022-04-18/
LOCATION:Leatherback Brewing Company- St. Croix
CATEGORIES:Specials
ATTACH;FMTTYPE=image/jpeg:https://leatherbackbrewing.com/wp-content/uploads/2021/09/LBB_Mondays_Flyer-scaled.jpg
END:VEVENT
BEGIN:VEVENT
DTSTART;TZID=UTC:20220411T113000
DTEND;TZID=UTC:20220411T200000
DTSTAMP:20260425T031014
CREATED:20210920T214536Z
LAST-MODIFIED:20221005T161137Z
UID:10002275-1649676600-1649707200@leatherbackbrewing.com
SUMMARY:St. Croix- LOVE Mondays!
DESCRIPTION:THREE Reasons to LOVE Mondays!\n\n1. A chance to set hte tone for the coming week.\n2. Another beautiful day of island life!\n3. A free pint of beer with the purchase of a large pizza at Leatherback Brewing Company! (Dine in only)
URL:https://leatherbackbrewing.com/event/lovemondays/2022-04-11/
LOCATION:Leatherback Brewing Company- St. Croix
CATEGORIES:Specials
ATTACH;FMTTYPE=image/jpeg:https://leatherbackbrewing.com/wp-content/uploads/2021/09/LBB_Mondays_Flyer-scaled.jpg
END:VEVENT
BEGIN:VEVENT
DTSTART;TZID=UTC:20220404T113000
DTEND;TZID=UTC:20220404T200000
DTSTAMP:20260425T031014
CREATED:20210920T214536Z
LAST-MODIFIED:20221005T161137Z
UID:10002274-1649071800-1649102400@leatherbackbrewing.com
SUMMARY:St. Croix- LOVE Mondays!
DESCRIPTION:THREE Reasons to LOVE Mondays!\n\n1. A chance to set hte tone for the coming week.\n2. Another beautiful day of island life!\n3. A free pint of beer with the purchase of a large pizza at Leatherback Brewing Company! (Dine in only)
URL:https://leatherbackbrewing.com/event/lovemondays/2022-04-04/
LOCATION:Leatherback Brewing Company- St. Croix
CATEGORIES:Specials
ATTACH;FMTTYPE=image/jpeg:https://leatherbackbrewing.com/wp-content/uploads/2021/09/LBB_Mondays_Flyer-scaled.jpg
END:VEVENT
BEGIN:VEVENT
DTSTART;TZID=UTC:20220328T113000
DTEND;TZID=UTC:20220328T200000
DTSTAMP:20260425T031014
CREATED:20210920T214536Z
LAST-MODIFIED:20221005T161137Z
UID:10002273-1648467000-1648497600@leatherbackbrewing.com
SUMMARY:St. Croix- LOVE Mondays!
DESCRIPTION:THREE Reasons to LOVE Mondays!\n\n1. A chance to set hte tone for the coming week.\n2. Another beautiful day of island life!\n3. A free pint of beer with the purchase of a large pizza at Leatherback Brewing Company! (Dine in only)
URL:https://leatherbackbrewing.com/event/lovemondays/2022-03-28/
LOCATION:Leatherback Brewing Company- St. Croix
CATEGORIES:Specials
ATTACH;FMTTYPE=image/jpeg:https://leatherbackbrewing.com/wp-content/uploads/2021/09/LBB_Mondays_Flyer-scaled.jpg
END:VEVENT
BEGIN:VEVENT
DTSTART;TZID=UTC:20220321T113000
DTEND;TZID=UTC:20220321T200000
DTSTAMP:20260425T031014
CREATED:20210920T214536Z
LAST-MODIFIED:20221005T161137Z
UID:10002272-1647862200-1647892800@leatherbackbrewing.com
SUMMARY:St. Croix- LOVE Mondays!
DESCRIPTION:THREE Reasons to LOVE Mondays!\n\n1. A chance to set hte tone for the coming week.\n2. Another beautiful day of island life!\n3. A free pint of beer with the purchase of a large pizza at Leatherback Brewing Company! (Dine in only)
URL:https://leatherbackbrewing.com/event/lovemondays/2022-03-21/
LOCATION:Leatherback Brewing Company- St. Croix
CATEGORIES:Specials
ATTACH;FMTTYPE=image/jpeg:https://leatherbackbrewing.com/wp-content/uploads/2021/09/LBB_Mondays_Flyer-scaled.jpg
END:VEVENT
BEGIN:VEVENT
DTSTART;TZID=UTC:20220314T113000
DTEND;TZID=UTC:20220314T200000
DTSTAMP:20260425T031014
CREATED:20210920T214536Z
LAST-MODIFIED:20221005T161137Z
UID:10002271-1647257400-1647288000@leatherbackbrewing.com
SUMMARY:St. Croix- LOVE Mondays!
DESCRIPTION:THREE Reasons to LOVE Mondays!\n\n1. A chance to set hte tone for the coming week.\n2. Another beautiful day of island life!\n3. A free pint of beer with the purchase of a large pizza at Leatherback Brewing Company! (Dine in only)
URL:https://leatherbackbrewing.com/event/lovemondays/2022-03-14/
LOCATION:Leatherback Brewing Company- St. Croix
CATEGORIES:Specials
ATTACH;FMTTYPE=image/jpeg:https://leatherbackbrewing.com/wp-content/uploads/2021/09/LBB_Mondays_Flyer-scaled.jpg
END:VEVENT
BEGIN:VEVENT
DTSTART;TZID=UTC:20220311T170000
DTEND;TZID=UTC:20220311T200000
DTSTAMP:20260425T031014
CREATED:20220310T175114Z
LAST-MODIFIED:20220310T175114Z
UID:10001061-1647018000-1647028800@leatherbackbrewing.com
SUMMARY:St. Croix- Food Truck Friday w/ Live Music by Steve Katz
DESCRIPTION:We’re trying something new! Join us for Food Truck Friday! We’ll have live music by Steve Katz paired with your favorite craft brews (and pizza!) AND We’ll have Sunny Shore Up serving up some delicious food outside in the field!
URL:https://leatherbackbrewing.com/event/st-croix-food-truck-friday-w-live-music-by-steve-katz/
CATEGORIES:Live Music
ATTACH;FMTTYPE=image/jpeg:https://leatherbackbrewing.com/wp-content/uploads/2022/03/Steve-Katz.jpg
END:VEVENT
BEGIN:VEVENT
DTSTART;TZID=UTC:20220307T113000
DTEND;TZID=UTC:20220307T200000
DTSTAMP:20260425T031014
CREATED:20210920T214536Z
LAST-MODIFIED:20221005T161137Z
UID:10002270-1646652600-1646683200@leatherbackbrewing.com
SUMMARY:St. Croix- LOVE Mondays!
DESCRIPTION:THREE Reasons to LOVE Mondays!\n\n1. A chance to set hte tone for the coming week.\n2. Another beautiful day of island life!\n3. A free pint of beer with the purchase of a large pizza at Leatherback Brewing Company! (Dine in only)
URL:https://leatherbackbrewing.com/event/lovemondays/2022-03-07/
LOCATION:Leatherback Brewing Company- St. Croix
CATEGORIES:Specials
ATTACH;FMTTYPE=image/jpeg:https://leatherbackbrewing.com/wp-content/uploads/2021/09/LBB_Mondays_Flyer-scaled.jpg
END:VEVENT
BEGIN:VEVENT
DTSTART;TZID=UTC:20220306T150000
DTEND;TZID=UTC:20220306T180000
DTSTAMP:20260425T031014
CREATED:20220222T213029Z
LAST-MODIFIED:20220224T161641Z
UID:10001057-1646578800-1646589600@leatherbackbrewing.com
SUMMARY:St. Croix Live Music- Mama's Black Sheep
DESCRIPTION:***STX2022 TOUR*** Join us back at Leatherback Brewing Co.!!! Leatherback is a great brewery and restaurant with a casual menu and atmosphere. Come for the music\, stay for the beer! Show is from 3-6pm\, we’ll see y’all there! ***HELP US KEEP IT SAFE! Please observe social distancing and all current COVID-19 restrictions. Face covering required if not seated.***\n\nMama’s Black Sheep is the musical collaboration of singer-songwriters Ashland Miller (guitar/vocals) and Laura Cerulli (drums/vocals). Touring together since 2008 and both veterans of the singer-songwriter circuit\, Miller & Cerulli will make you feel like you’ve been listening to their music for years. Driven by Miller’s versatile guitar grooves\, Cerulli’s innovative percussion\, and two voices that blend like honey and whiskey\, Mama’s Black Sheep create acoustic rock\, blues\, and Americana with a style that is distinctly their own. Learn more: http://www.mamasblacksheep.com/
URL:https://leatherbackbrewing.com/event/stx-live-music-mamas-black-sheep/
LOCATION:Leatherback Brewing Company- St. Croix
CATEGORIES:Live Music
ATTACH;FMTTYPE=image/jpeg:https://leatherbackbrewing.com/wp-content/uploads/2022/02/Mamas-Black-Sheep-2.jpg
END:VEVENT
BEGIN:VEVENT
DTSTART;TZID=UTC:20220304T170000
DTEND;TZID=UTC:20220304T200000
DTSTAMP:20260425T031014
CREATED:20220222T214508Z
LAST-MODIFIED:20220224T161603Z
UID:10001058-1646413200-1646424000@leatherbackbrewing.com
SUMMARY:St. Croix Live Music- Adrian
DESCRIPTION:Join us for live music\, pizza and craft beer! \nAdrian Rogers performs folktronica: high-energy folk rock on guitar and vocals.
URL:https://leatherbackbrewing.com/event/stx-live-music-adrian/
LOCATION:Leatherback Brewing Company- St. Croix
CATEGORIES:Live Music
ATTACH;FMTTYPE=image/jpeg:https://leatherbackbrewing.com/wp-content/uploads/2022/02/Adrian-22.jpg
END:VEVENT
BEGIN:VEVENT
DTSTART;TZID=UTC:20220228T113000
DTEND;TZID=UTC:20220228T200000
DTSTAMP:20260425T031014
CREATED:20210920T214536Z
LAST-MODIFIED:20221005T161137Z
UID:10002269-1646047800-1646078400@leatherbackbrewing.com
SUMMARY:St. Croix- LOVE Mondays!
DESCRIPTION:THREE Reasons to LOVE Mondays!\n\n1. A chance to set hte tone for the coming week.\n2. Another beautiful day of island life!\n3. A free pint of beer with the purchase of a large pizza at Leatherback Brewing Company! (Dine in only)
URL:https://leatherbackbrewing.com/event/lovemondays/2022-02-28/
LOCATION:Leatherback Brewing Company- St. Croix
CATEGORIES:Specials
ATTACH;FMTTYPE=image/jpeg:https://leatherbackbrewing.com/wp-content/uploads/2021/09/LBB_Mondays_Flyer-scaled.jpg
END:VEVENT
BEGIN:VEVENT
DTSTART;TZID=UTC:20220227T150000
DTEND;TZID=UTC:20220227T180000
DTSTAMP:20260425T031014
CREATED:20220222T212439Z
LAST-MODIFIED:20220224T161747Z
UID:10001056-1645974000-1645984800@leatherbackbrewing.com
SUMMARY:St. Croix Sunday Funday with Sparky Mark and the Funky Bunch
DESCRIPTION:Come by Leatherback after the beach for live music\, craft beer and fun cocktails!
URL:https://leatherbackbrewing.com/event/stx-sunday-funday-with-sparky-mark-and-the-funky-bunch/
LOCATION:Leatherback Brewing Company- St. Croix
CATEGORIES:Live Music
ATTACH;FMTTYPE=image/jpeg:https://leatherbackbrewing.com/wp-content/uploads/2022/02/Sparky-Mark-and-The-Funky-Bunch.jpg
END:VEVENT
BEGIN:VEVENT
DTSTART;TZID=UTC:20220226T190000
DTEND;TZID=UTC:20220226T210000
DTSTAMP:20260425T031014
CREATED:20220222T215143Z
LAST-MODIFIED:20220222T215222Z
UID:10001059-1645902000-1645909200@leatherbackbrewing.com
SUMMARY:St. Croix Movie Night- Ghostbusters: Afterlife
DESCRIPTION:Bring the whole family to Leatherback to watch a movie under the stars!\n\nWe’ll be serving craft beer and cocktails along with our regular menu and some fun specials. Come early to get a table outside or bring your own chairs and blankets.\n\nMovie: Ghostbusters: Afterlife
URL:https://leatherbackbrewing.com/event/stx-movie-night-ghostbusters-afterlife/
LOCATION:Leatherback Brewing Company- St. Croix
ATTACH;FMTTYPE=image/jpeg:https://leatherbackbrewing.com/wp-content/uploads/2022/02/Movie-Night-scaled.jpg
END:VEVENT
BEGIN:VEVENT
DTSTART;TZID=UTC:20220225T170000
DTEND;TZID=UTC:20220225T200000
DTSTAMP:20260425T031014
CREATED:20220222T212208Z
LAST-MODIFIED:20220224T161939Z
UID:10001055-1645808400-1645819200@leatherbackbrewing.com
SUMMARY:St. Croix Live Music- Lady Friend
DESCRIPTION:Join us for live music\, pizza and of course craft beer!\n\nSt. Croix-based band Lady Friend is the brainchild of Heather Maynard and Jerrad Kozloff. Performing a blend of folk\, jazz\, country and blues\, they bring an honest and unique sound to the island music scene. Living a life of travel\, they first began playing together three years ago on the decks of sailboats. After being invited to perform live\, Lady Friend was officially formed. They play because they have a genuine love and passion for music\, which shines through when they are performing.
URL:https://leatherbackbrewing.com/event/stx-live-music-lady-friend/
LOCATION:Leatherback Brewing Company- St. Croix
CATEGORIES:Live Music
ATTACH;FMTTYPE=image/jpeg:https://leatherbackbrewing.com/wp-content/uploads/2022/02/Lady-Friend.jpg
END:VEVENT
BEGIN:VEVENT
DTSTART;TZID=UTC:20220221T113000
DTEND;TZID=UTC:20220221T200000
DTSTAMP:20260425T031014
CREATED:20210920T214536Z
LAST-MODIFIED:20221005T161137Z
UID:10002268-1645443000-1645473600@leatherbackbrewing.com
SUMMARY:St. Croix- LOVE Mondays!
DESCRIPTION:THREE Reasons to LOVE Mondays!\n\n1. A chance to set hte tone for the coming week.\n2. Another beautiful day of island life!\n3. A free pint of beer with the purchase of a large pizza at Leatherback Brewing Company! (Dine in only)
URL:https://leatherbackbrewing.com/event/lovemondays/2022-02-21/
LOCATION:Leatherback Brewing Company- St. Croix
CATEGORIES:Specials
ATTACH;FMTTYPE=image/jpeg:https://leatherbackbrewing.com/wp-content/uploads/2021/09/LBB_Mondays_Flyer-scaled.jpg
END:VEVENT
BEGIN:VEVENT
DTSTART;TZID=UTC:20220218T170000
DTEND;TZID=UTC:20220218T200000
DTSTAMP:20260425T031014
CREATED:20220119T191201Z
LAST-MODIFIED:20220119T191201Z
UID:10002806-1645203600-1645214400@leatherbackbrewing.com
SUMMARY:St. Croix Live Music- Mercy Child
DESCRIPTION:End you week with live music and craft beer! \nMercy Child combines soulful vocals and finger-on-the-pulse guitar playing to his powerful live performances. Influenced by classic rock\, blues\, jazz and folk from the 60’s to present – he performs over 350 song titles\, including 6 original CDs. His string bending capabilities provide depth and originality to familiar covers\, leaving the audience wanting more.
URL:https://leatherbackbrewing.com/event/st-croix-live-music-mercy-child/
LOCATION:Leatherback Brewing Company- St. Croix
CATEGORIES:Live Music
ATTACH;FMTTYPE=image/jpeg:https://leatherbackbrewing.com/wp-content/uploads/2022/01/Mercy-Child-3.jpg
END:VEVENT
BEGIN:VEVENT
DTSTART;TZID=UTC:20220214T113000
DTEND;TZID=UTC:20220214T200000
DTSTAMP:20260425T031014
CREATED:20210920T214536Z
LAST-MODIFIED:20221005T161137Z
UID:10002267-1644838200-1644868800@leatherbackbrewing.com
SUMMARY:St. Croix- LOVE Mondays!
DESCRIPTION:THREE Reasons to LOVE Mondays!\n\n1. A chance to set hte tone for the coming week.\n2. Another beautiful day of island life!\n3. A free pint of beer with the purchase of a large pizza at Leatherback Brewing Company! (Dine in only)
URL:https://leatherbackbrewing.com/event/lovemondays/2022-02-14/
LOCATION:Leatherback Brewing Company- St. Croix
CATEGORIES:Specials
ATTACH;FMTTYPE=image/jpeg:https://leatherbackbrewing.com/wp-content/uploads/2021/09/LBB_Mondays_Flyer-scaled.jpg
END:VEVENT
BEGIN:VEVENT
DTSTART;TZID=UTC:20220211T170000
DTEND;TZID=UTC:20220211T200000
DTSTAMP:20260425T031014
CREATED:20220119T173821Z
LAST-MODIFIED:20220119T173821Z
UID:10002785-1644598800-1644609600@leatherbackbrewing.com
SUMMARY:St. Croix Live Music- Tim Bartzen
DESCRIPTION:Join us to end your week with live music and delicious local brews!
URL:https://leatherbackbrewing.com/event/st-croix-live-music-tim-bartzen-2/
LOCATION:Leatherback Brewing Company- St. Croix
CATEGORIES:Live Music
ATTACH;FMTTYPE=image/jpeg:https://leatherbackbrewing.com/wp-content/uploads/2021/12/Tim-Bartzen-e1640805380598.jpg
END:VEVENT
BEGIN:VEVENT
DTSTART;TZID=UTC:20220207T113000
DTEND;TZID=UTC:20220207T200000
DTSTAMP:20260425T031014
CREATED:20210920T214536Z
LAST-MODIFIED:20221005T161137Z
UID:10002266-1644233400-1644264000@leatherbackbrewing.com
SUMMARY:St. Croix- LOVE Mondays!
DESCRIPTION:THREE Reasons to LOVE Mondays!\n\n1. A chance to set hte tone for the coming week.\n2. Another beautiful day of island life!\n3. A free pint of beer with the purchase of a large pizza at Leatherback Brewing Company! (Dine in only)
URL:https://leatherbackbrewing.com/event/lovemondays/2022-02-07/
LOCATION:Leatherback Brewing Company- St. Croix
CATEGORIES:Specials
ATTACH;FMTTYPE=image/jpeg:https://leatherbackbrewing.com/wp-content/uploads/2021/09/LBB_Mondays_Flyer-scaled.jpg
END:VEVENT
BEGIN:VEVENT
DTSTART;TZID=UTC:20220204T170000
DTEND;TZID=UTC:20220204T200000
DTSTAMP:20260425T031014
CREATED:20211229T152920Z
LAST-MODIFIED:20220119T171906Z
UID:10002784-1643994000-1644004800@leatherbackbrewing.com
SUMMARY:St. Croix Live Music- Adrian
DESCRIPTION:Join us to end your week with live music and your favorite craft beer and cocktails. \nAdrian Rogers performs folktronica: high-energy folk rock on guitar and vocals.
URL:https://leatherbackbrewing.com/event/st-croix-live-music-adrian-2/
LOCATION:Leatherback Brewing Company- St. Croix
CATEGORIES:Live Music
ATTACH;FMTTYPE=image/jpeg:https://leatherbackbrewing.com/wp-content/uploads/2021/12/Adrian-22-e1640805146563.jpg
END:VEVENT
BEGIN:VEVENT
DTSTART;TZID=UTC:20220131T113000
DTEND;TZID=UTC:20220131T200000
DTSTAMP:20260425T031014
CREATED:20210920T214536Z
LAST-MODIFIED:20221005T161137Z
UID:10002265-1643628600-1643659200@leatherbackbrewing.com
SUMMARY:St. Croix- LOVE Mondays!
DESCRIPTION:THREE Reasons to LOVE Mondays!\n\n1. A chance to set hte tone for the coming week.\n2. Another beautiful day of island life!\n3. A free pint of beer with the purchase of a large pizza at Leatherback Brewing Company! (Dine in only)
URL:https://leatherbackbrewing.com/event/lovemondays/2022-01-31/
LOCATION:Leatherback Brewing Company- St. Croix
CATEGORIES:Specials
ATTACH;FMTTYPE=image/jpeg:https://leatherbackbrewing.com/wp-content/uploads/2021/09/LBB_Mondays_Flyer-scaled.jpg
END:VEVENT
BEGIN:VEVENT
DTSTART;TZID=UTC:20220129T160000
DTEND;TZID=UTC:20220129T190000
DTSTAMP:20260425T031014
CREATED:20211230T202001Z
LAST-MODIFIED:20211230T202011Z
UID:10002786-1643472000-1643482800@leatherbackbrewing.com
SUMMARY:St. Croix Live Music- Mama's Black Sheep
DESCRIPTION:Come enjoy live music and your favorite craft beer and cocktails! \nMama’s Black Sheep is the soulful collaboration of singer-songwriters Ashland Miller (guitar/vocals) and Laura Cerulli (drums/vocals). Together\, this duo creates a blend of hit worthy originals and covers with a unique spin.  Each song allows you to travel with time\, whether you’re swinging to Country\, Rocking to Pop\, Grooving to Soul\, or swaying to the Blues; there’s always something to move your body and stir your soul!
URL:https://leatherbackbrewing.com/event/st-croix-live-music-mamas-black-sheep/
LOCATION:Leatherback Brewing Company- St. Croix
CATEGORIES:Live Music
ATTACH;FMTTYPE=image/jpeg:https://leatherbackbrewing.com/wp-content/uploads/2021/12/Mamas-Black-Sheep.jpg
END:VEVENT
END:VCALENDAR