BEGIN:VCALENDAR
VERSION:2.0
PRODID:-//Leatherback Brewing - ECPv6.15.20//NONSGML v1.0//EN
CALSCALE:GREGORIAN
METHOD:PUBLISH
X-ORIGINAL-URL:https://leatherbackbrewing.com
X-WR-CALDESC:Events for Leatherback Brewing
REFRESH-INTERVAL;VALUE=DURATION:PT1H
X-Robots-Tag:noindex
X-PUBLISHED-TTL:PT1H
BEGIN:VTIMEZONE
TZID:UTC
BEGIN:STANDARD
TZOFFSETFROM:+0000
TZOFFSETTO:+0000
TZNAME:UTC
DTSTART:20240101T000000
END:STANDARD
END:VTIMEZONE
BEGIN:VEVENT
DTSTART;TZID=UTC:20251008T160000
DTEND;TZID=UTC:20251008T180000
DTSTAMP:20260423T094010
CREATED:20240923T195910Z
LAST-MODIFIED:20240923T195910Z
UID:10003411-1759939200-1759946400@leatherbackbrewing.com
SUMMARY:St. Croix Happy Hour
DESCRIPTION:Join us for Happy Hour 4:00pm – 6:00pm with $5 Flagship Beers and $10 Wings!
URL:https://leatherbackbrewing.com/event/st-croix-happy-hour-2/2025-10-08/
CATEGORIES:Specials
ATTACH;FMTTYPE=image/jpeg:https://leatherbackbrewing.com/wp-content/uploads/2024/09/Happy-Hour.jpg
END:VEVENT
BEGIN:VEVENT
DTSTART;TZID=UTC:20251010T173000
DTEND;TZID=UTC:20251010T193000
DTSTAMP:20260423T094010
CREATED:20250512T171126Z
LAST-MODIFIED:20250604T172325Z
UID:10002972-1760117400-1760124600@leatherbackbrewing.com
SUMMARY:St. Croix- Crab Races
DESCRIPTION:Join us for Crab Races with Tito & Sue! \nCheer on your crab while enjoying your favorite Leatherback brew or a cocktail! Bring the while family for some pizza and fun! \nCrabs available starting at 5:30. Arrive early to get a good seat!
URL:https://leatherbackbrewing.com/event/tito-sue-crab-races-2/2025-10-10/
LOCATION:Leatherback Brewing Company- St. Croix
CATEGORIES:Family Fun
ATTACH;FMTTYPE=image/png:https://leatherbackbrewing.com/wp-content/uploads/2024/03/Carb-Races.png
END:VEVENT
BEGIN:VEVENT
DTSTART;TZID=UTC:20251013T160000
DTEND;TZID=UTC:20251013T180000
DTSTAMP:20260423T094010
CREATED:20240923T195910Z
LAST-MODIFIED:20240923T195910Z
UID:10003412-1760371200-1760378400@leatherbackbrewing.com
SUMMARY:St. Croix Happy Hour
DESCRIPTION:Join us for Happy Hour 4:00pm – 6:00pm with $5 Flagship Beers and $10 Wings!
URL:https://leatherbackbrewing.com/event/st-croix-happy-hour-2/2025-10-13/
CATEGORIES:Specials
ATTACH;FMTTYPE=image/jpeg:https://leatherbackbrewing.com/wp-content/uploads/2024/09/Happy-Hour.jpg
END:VEVENT
BEGIN:VEVENT
DTSTART;TZID=UTC:20251014T160000
DTEND;TZID=UTC:20251014T180000
DTSTAMP:20260423T094010
CREATED:20240923T195910Z
LAST-MODIFIED:20240923T195910Z
UID:10003413-1760457600-1760464800@leatherbackbrewing.com
SUMMARY:St. Croix Happy Hour
DESCRIPTION:Join us for Happy Hour 4:00pm – 6:00pm with $5 Flagship Beers and $10 Wings!
URL:https://leatherbackbrewing.com/event/st-croix-happy-hour-2/2025-10-14/
CATEGORIES:Specials
ATTACH;FMTTYPE=image/jpeg:https://leatherbackbrewing.com/wp-content/uploads/2024/09/Happy-Hour.jpg
END:VEVENT
BEGIN:VEVENT
DTSTART;TZID=UTC:20251014T180000
DTEND;TZID=UTC:20251014T200000
DTSTAMP:20260423T094010
CREATED:20250512T170133Z
LAST-MODIFIED:20250512T170133Z
UID:10004122-1760464800-1760472000@leatherbackbrewing.com
SUMMARY:Tuesday Night Trivia
DESCRIPTION:Think you’ve got what it takes to be trivia champs?\nTrivia Tuesday kicks off at 6:00 PM—grab your team and get ready to compete!\n• Teams can have up to 6 players\n• Prizes awarded after every round\n• Teams face off for 1st and 2nd place glory\n\n\nBring your A-game\, some good vibes\, and a whole lot of brainpower.\nLet’s make it a night to remember!\n\n\n\n\n\n\n\n\nCall 340-772-2337 and we will reserve a table for your team of 6 people or less or come early and find a spot and enjoy Happy Hour (starting at 4:00pm)
URL:https://leatherbackbrewing.com/event/tuesday-night-trivia/2025-10-14/
ATTACH;FMTTYPE=image/jpeg:https://leatherbackbrewing.com/wp-content/uploads/2025/05/Trivia-Night.jpg
END:VEVENT
BEGIN:VEVENT
DTSTART;TZID=UTC:20251015T160000
DTEND;TZID=UTC:20251015T180000
DTSTAMP:20260423T094010
CREATED:20240923T195910Z
LAST-MODIFIED:20240923T195910Z
UID:10003414-1760544000-1760551200@leatherbackbrewing.com
SUMMARY:St. Croix Happy Hour
DESCRIPTION:Join us for Happy Hour 4:00pm – 6:00pm with $5 Flagship Beers and $10 Wings!
URL:https://leatherbackbrewing.com/event/st-croix-happy-hour-2/2025-10-15/
CATEGORIES:Specials
ATTACH;FMTTYPE=image/jpeg:https://leatherbackbrewing.com/wp-content/uploads/2024/09/Happy-Hour.jpg
END:VEVENT
BEGIN:VEVENT
DTSTART;TZID=UTC:20251017T173000
DTEND;TZID=UTC:20251017T193000
DTSTAMP:20260423T094010
CREATED:20250512T171126Z
LAST-MODIFIED:20250604T172325Z
UID:10002973-1760722200-1760729400@leatherbackbrewing.com
SUMMARY:St. Croix- Crab Races
DESCRIPTION:Join us for Crab Races with Tito & Sue! \nCheer on your crab while enjoying your favorite Leatherback brew or a cocktail! Bring the while family for some pizza and fun! \nCrabs available starting at 5:30. Arrive early to get a good seat!
URL:https://leatherbackbrewing.com/event/tito-sue-crab-races-2/2025-10-17/
LOCATION:Leatherback Brewing Company- St. Croix
CATEGORIES:Family Fun
ATTACH;FMTTYPE=image/png:https://leatherbackbrewing.com/wp-content/uploads/2024/03/Carb-Races.png
END:VEVENT
BEGIN:VEVENT
DTSTART;TZID=UTC:20251020T160000
DTEND;TZID=UTC:20251020T180000
DTSTAMP:20260423T094010
CREATED:20240923T195910Z
LAST-MODIFIED:20240923T195910Z
UID:10003415-1760976000-1760983200@leatherbackbrewing.com
SUMMARY:St. Croix Happy Hour
DESCRIPTION:Join us for Happy Hour 4:00pm – 6:00pm with $5 Flagship Beers and $10 Wings!
URL:https://leatherbackbrewing.com/event/st-croix-happy-hour-2/2025-10-20/
CATEGORIES:Specials
ATTACH;FMTTYPE=image/jpeg:https://leatherbackbrewing.com/wp-content/uploads/2024/09/Happy-Hour.jpg
END:VEVENT
BEGIN:VEVENT
DTSTART;TZID=UTC:20251021T160000
DTEND;TZID=UTC:20251021T180000
DTSTAMP:20260423T094010
CREATED:20240923T195910Z
LAST-MODIFIED:20240923T195910Z
UID:10003416-1761062400-1761069600@leatherbackbrewing.com
SUMMARY:St. Croix Happy Hour
DESCRIPTION:Join us for Happy Hour 4:00pm – 6:00pm with $5 Flagship Beers and $10 Wings!
URL:https://leatherbackbrewing.com/event/st-croix-happy-hour-2/2025-10-21/
CATEGORIES:Specials
ATTACH;FMTTYPE=image/jpeg:https://leatherbackbrewing.com/wp-content/uploads/2024/09/Happy-Hour.jpg
END:VEVENT
BEGIN:VEVENT
DTSTART;TZID=UTC:20251021T180000
DTEND;TZID=UTC:20251021T200000
DTSTAMP:20260423T094010
CREATED:20250512T170133Z
LAST-MODIFIED:20250512T170133Z
UID:10004123-1761069600-1761076800@leatherbackbrewing.com
SUMMARY:Tuesday Night Trivia
DESCRIPTION:Think you’ve got what it takes to be trivia champs?\nTrivia Tuesday kicks off at 6:00 PM—grab your team and get ready to compete!\n• Teams can have up to 6 players\n• Prizes awarded after every round\n• Teams face off for 1st and 2nd place glory\n\n\nBring your A-game\, some good vibes\, and a whole lot of brainpower.\nLet’s make it a night to remember!\n\n\n\n\n\n\n\n\nCall 340-772-2337 and we will reserve a table for your team of 6 people or less or come early and find a spot and enjoy Happy Hour (starting at 4:00pm)
URL:https://leatherbackbrewing.com/event/tuesday-night-trivia/2025-10-21/
ATTACH;FMTTYPE=image/jpeg:https://leatherbackbrewing.com/wp-content/uploads/2025/05/Trivia-Night.jpg
END:VEVENT
BEGIN:VEVENT
DTSTART;TZID=UTC:20251022T160000
DTEND;TZID=UTC:20251022T180000
DTSTAMP:20260423T094010
CREATED:20240923T195910Z
LAST-MODIFIED:20240923T195910Z
UID:10003417-1761148800-1761156000@leatherbackbrewing.com
SUMMARY:St. Croix Happy Hour
DESCRIPTION:Join us for Happy Hour 4:00pm – 6:00pm with $5 Flagship Beers and $10 Wings!
URL:https://leatherbackbrewing.com/event/st-croix-happy-hour-2/2025-10-22/
CATEGORIES:Specials
ATTACH;FMTTYPE=image/jpeg:https://leatherbackbrewing.com/wp-content/uploads/2024/09/Happy-Hour.jpg
END:VEVENT
BEGIN:VEVENT
DTSTART;TZID=UTC:20251024T173000
DTEND;TZID=UTC:20251024T193000
DTSTAMP:20260423T094010
CREATED:20250512T171126Z
LAST-MODIFIED:20250604T172325Z
UID:10002974-1761327000-1761334200@leatherbackbrewing.com
SUMMARY:St. Croix- Crab Races
DESCRIPTION:Join us for Crab Races with Tito & Sue! \nCheer on your crab while enjoying your favorite Leatherback brew or a cocktail! Bring the while family for some pizza and fun! \nCrabs available starting at 5:30. Arrive early to get a good seat!
URL:https://leatherbackbrewing.com/event/tito-sue-crab-races-2/2025-10-24/
LOCATION:Leatherback Brewing Company- St. Croix
CATEGORIES:Family Fun
ATTACH;FMTTYPE=image/png:https://leatherbackbrewing.com/wp-content/uploads/2024/03/Carb-Races.png
END:VEVENT
BEGIN:VEVENT
DTSTART;TZID=UTC:20251027T160000
DTEND;TZID=UTC:20251027T180000
DTSTAMP:20260423T094010
CREATED:20240923T195910Z
LAST-MODIFIED:20240923T195910Z
UID:10003418-1761580800-1761588000@leatherbackbrewing.com
SUMMARY:St. Croix Happy Hour
DESCRIPTION:Join us for Happy Hour 4:00pm – 6:00pm with $5 Flagship Beers and $10 Wings!
URL:https://leatherbackbrewing.com/event/st-croix-happy-hour-2/2025-10-27/
CATEGORIES:Specials
ATTACH;FMTTYPE=image/jpeg:https://leatherbackbrewing.com/wp-content/uploads/2024/09/Happy-Hour.jpg
END:VEVENT
BEGIN:VEVENT
DTSTART;TZID=UTC:20251028T160000
DTEND;TZID=UTC:20251028T180000
DTSTAMP:20260423T094010
CREATED:20240923T195910Z
LAST-MODIFIED:20240923T195910Z
UID:10003419-1761667200-1761674400@leatherbackbrewing.com
SUMMARY:St. Croix Happy Hour
DESCRIPTION:Join us for Happy Hour 4:00pm – 6:00pm with $5 Flagship Beers and $10 Wings!
URL:https://leatherbackbrewing.com/event/st-croix-happy-hour-2/2025-10-28/
CATEGORIES:Specials
ATTACH;FMTTYPE=image/jpeg:https://leatherbackbrewing.com/wp-content/uploads/2024/09/Happy-Hour.jpg
END:VEVENT
BEGIN:VEVENT
DTSTART;TZID=UTC:20251028T180000
DTEND;TZID=UTC:20251028T200000
DTSTAMP:20260423T094010
CREATED:20250512T170133Z
LAST-MODIFIED:20250512T170133Z
UID:10004124-1761674400-1761681600@leatherbackbrewing.com
SUMMARY:Tuesday Night Trivia
DESCRIPTION:Think you’ve got what it takes to be trivia champs?\nTrivia Tuesday kicks off at 6:00 PM—grab your team and get ready to compete!\n• Teams can have up to 6 players\n• Prizes awarded after every round\n• Teams face off for 1st and 2nd place glory\n\n\nBring your A-game\, some good vibes\, and a whole lot of brainpower.\nLet’s make it a night to remember!\n\n\n\n\n\n\n\n\nCall 340-772-2337 and we will reserve a table for your team of 6 people or less or come early and find a spot and enjoy Happy Hour (starting at 4:00pm)
URL:https://leatherbackbrewing.com/event/tuesday-night-trivia/2025-10-28/
ATTACH;FMTTYPE=image/jpeg:https://leatherbackbrewing.com/wp-content/uploads/2025/05/Trivia-Night.jpg
END:VEVENT
BEGIN:VEVENT
DTSTART;TZID=UTC:20251029T160000
DTEND;TZID=UTC:20251029T180000
DTSTAMP:20260423T094010
CREATED:20240923T195910Z
LAST-MODIFIED:20240923T195910Z
UID:10003420-1761753600-1761760800@leatherbackbrewing.com
SUMMARY:St. Croix Happy Hour
DESCRIPTION:Join us for Happy Hour 4:00pm – 6:00pm with $5 Flagship Beers and $10 Wings!
URL:https://leatherbackbrewing.com/event/st-croix-happy-hour-2/2025-10-29/
CATEGORIES:Specials
ATTACH;FMTTYPE=image/jpeg:https://leatherbackbrewing.com/wp-content/uploads/2024/09/Happy-Hour.jpg
END:VEVENT
BEGIN:VEVENT
DTSTART;TZID=UTC:20251031T173000
DTEND;TZID=UTC:20251031T193000
DTSTAMP:20260423T094010
CREATED:20250512T171126Z
LAST-MODIFIED:20250604T172325Z
UID:10002975-1761931800-1761939000@leatherbackbrewing.com
SUMMARY:St. Croix- Crab Races
DESCRIPTION:Join us for Crab Races with Tito & Sue! \nCheer on your crab while enjoying your favorite Leatherback brew or a cocktail! Bring the while family for some pizza and fun! \nCrabs available starting at 5:30. Arrive early to get a good seat!
URL:https://leatherbackbrewing.com/event/tito-sue-crab-races-2/2025-10-31/
LOCATION:Leatherback Brewing Company- St. Croix
CATEGORIES:Family Fun
ATTACH;FMTTYPE=image/png:https://leatherbackbrewing.com/wp-content/uploads/2024/03/Carb-Races.png
END:VEVENT
BEGIN:VEVENT
DTSTART;TZID=UTC:20251101T184500
DTEND;TZID=UTC:20251101T203000
DTSTAMP:20260423T094010
CREATED:20240322T204739Z
LAST-MODIFIED:20240529T203805Z
UID:10003198-1762022700-1762029000@leatherbackbrewing.com
SUMMARY:St. Croix- Movie Night
DESCRIPTION:Bring the whole family to Leatherback to watch a movie under the stars! \nWe’ll be serving craft beer and cocktails along with our regular menu! \nCome early to get a table outside or bring your own chairs or blankets. \nCheck our Facebook page to find this month’s movie!
URL:https://leatherbackbrewing.com/event/st-croix-movie-night-2/2025-11-01/
LOCATION:Leatherback Brewing Company- St. Croix
CATEGORIES:Family Fun,movie
ATTACH;FMTTYPE=image/png:https://leatherbackbrewing.com/wp-content/uploads/2024/03/Movie-Night.png
END:VEVENT
BEGIN:VEVENT
DTSTART;TZID=UTC:20251103T160000
DTEND;TZID=UTC:20251103T180000
DTSTAMP:20260423T094010
CREATED:20240923T195910Z
LAST-MODIFIED:20240923T195910Z
UID:10003421-1762185600-1762192800@leatherbackbrewing.com
SUMMARY:St. Croix Happy Hour
DESCRIPTION:Join us for Happy Hour 4:00pm – 6:00pm with $5 Flagship Beers and $10 Wings!
URL:https://leatherbackbrewing.com/event/st-croix-happy-hour-2/2025-11-03/
CATEGORIES:Specials
ATTACH;FMTTYPE=image/jpeg:https://leatherbackbrewing.com/wp-content/uploads/2024/09/Happy-Hour.jpg
END:VEVENT
BEGIN:VEVENT
DTSTART;TZID=UTC:20251104T160000
DTEND;TZID=UTC:20251104T180000
DTSTAMP:20260423T094010
CREATED:20240923T195910Z
LAST-MODIFIED:20240923T195910Z
UID:10003422-1762272000-1762279200@leatherbackbrewing.com
SUMMARY:St. Croix Happy Hour
DESCRIPTION:Join us for Happy Hour 4:00pm – 6:00pm with $5 Flagship Beers and $10 Wings!
URL:https://leatherbackbrewing.com/event/st-croix-happy-hour-2/2025-11-04/
CATEGORIES:Specials
ATTACH;FMTTYPE=image/jpeg:https://leatherbackbrewing.com/wp-content/uploads/2024/09/Happy-Hour.jpg
END:VEVENT
BEGIN:VEVENT
DTSTART;TZID=UTC:20251104T180000
DTEND;TZID=UTC:20251104T200000
DTSTAMP:20260423T094010
CREATED:20250512T170133Z
LAST-MODIFIED:20250512T170133Z
UID:10004125-1762279200-1762286400@leatherbackbrewing.com
SUMMARY:Tuesday Night Trivia
DESCRIPTION:Think you’ve got what it takes to be trivia champs?\nTrivia Tuesday kicks off at 6:00 PM—grab your team and get ready to compete!\n• Teams can have up to 6 players\n• Prizes awarded after every round\n• Teams face off for 1st and 2nd place glory\n\n\nBring your A-game\, some good vibes\, and a whole lot of brainpower.\nLet’s make it a night to remember!\n\n\n\n\n\n\n\n\nCall 340-772-2337 and we will reserve a table for your team of 6 people or less or come early and find a spot and enjoy Happy Hour (starting at 4:00pm)
URL:https://leatherbackbrewing.com/event/tuesday-night-trivia/2025-11-04/
ATTACH;FMTTYPE=image/jpeg:https://leatherbackbrewing.com/wp-content/uploads/2025/05/Trivia-Night.jpg
END:VEVENT
BEGIN:VEVENT
DTSTART;TZID=UTC:20251105T160000
DTEND;TZID=UTC:20251105T180000
DTSTAMP:20260423T094010
CREATED:20240923T195910Z
LAST-MODIFIED:20240923T195910Z
UID:10003423-1762358400-1762365600@leatherbackbrewing.com
SUMMARY:St. Croix Happy Hour
DESCRIPTION:Join us for Happy Hour 4:00pm – 6:00pm with $5 Flagship Beers and $10 Wings!
URL:https://leatherbackbrewing.com/event/st-croix-happy-hour-2/2025-11-05/
CATEGORIES:Specials
ATTACH;FMTTYPE=image/jpeg:https://leatherbackbrewing.com/wp-content/uploads/2024/09/Happy-Hour.jpg
END:VEVENT
BEGIN:VEVENT
DTSTART;TZID=UTC:20251107T173000
DTEND;TZID=UTC:20251107T193000
DTSTAMP:20260423T094010
CREATED:20250512T171126Z
LAST-MODIFIED:20250604T172325Z
UID:10002976-1762536600-1762543800@leatherbackbrewing.com
SUMMARY:St. Croix- Crab Races
DESCRIPTION:Join us for Crab Races with Tito & Sue! \nCheer on your crab while enjoying your favorite Leatherback brew or a cocktail! Bring the while family for some pizza and fun! \nCrabs available starting at 5:30. Arrive early to get a good seat!
URL:https://leatherbackbrewing.com/event/tito-sue-crab-races-2/2025-11-07/
LOCATION:Leatherback Brewing Company- St. Croix
CATEGORIES:Family Fun
ATTACH;FMTTYPE=image/png:https://leatherbackbrewing.com/wp-content/uploads/2024/03/Carb-Races.png
END:VEVENT
BEGIN:VEVENT
DTSTART;TZID=UTC:20251110T160000
DTEND;TZID=UTC:20251110T180000
DTSTAMP:20260423T094010
CREATED:20240923T195910Z
LAST-MODIFIED:20240923T195910Z
UID:10003424-1762790400-1762797600@leatherbackbrewing.com
SUMMARY:St. Croix Happy Hour
DESCRIPTION:Join us for Happy Hour 4:00pm – 6:00pm with $5 Flagship Beers and $10 Wings!
URL:https://leatherbackbrewing.com/event/st-croix-happy-hour-2/2025-11-10/
CATEGORIES:Specials
ATTACH;FMTTYPE=image/jpeg:https://leatherbackbrewing.com/wp-content/uploads/2024/09/Happy-Hour.jpg
END:VEVENT
BEGIN:VEVENT
DTSTART;TZID=UTC:20251111T160000
DTEND;TZID=UTC:20251111T180000
DTSTAMP:20260423T094010
CREATED:20240923T195910Z
LAST-MODIFIED:20240923T195910Z
UID:10003425-1762876800-1762884000@leatherbackbrewing.com
SUMMARY:St. Croix Happy Hour
DESCRIPTION:Join us for Happy Hour 4:00pm – 6:00pm with $5 Flagship Beers and $10 Wings!
URL:https://leatherbackbrewing.com/event/st-croix-happy-hour-2/2025-11-11/
CATEGORIES:Specials
ATTACH;FMTTYPE=image/jpeg:https://leatherbackbrewing.com/wp-content/uploads/2024/09/Happy-Hour.jpg
END:VEVENT
BEGIN:VEVENT
DTSTART;TZID=UTC:20251111T180000
DTEND;TZID=UTC:20251111T200000
DTSTAMP:20260423T094010
CREATED:20250512T170133Z
LAST-MODIFIED:20250512T170133Z
UID:10004126-1762884000-1762891200@leatherbackbrewing.com
SUMMARY:Tuesday Night Trivia
DESCRIPTION:Think you’ve got what it takes to be trivia champs?\nTrivia Tuesday kicks off at 6:00 PM—grab your team and get ready to compete!\n• Teams can have up to 6 players\n• Prizes awarded after every round\n• Teams face off for 1st and 2nd place glory\n\n\nBring your A-game\, some good vibes\, and a whole lot of brainpower.\nLet’s make it a night to remember!\n\n\n\n\n\n\n\n\nCall 340-772-2337 and we will reserve a table for your team of 6 people or less or come early and find a spot and enjoy Happy Hour (starting at 4:00pm)
URL:https://leatherbackbrewing.com/event/tuesday-night-trivia/2025-11-11/
ATTACH;FMTTYPE=image/jpeg:https://leatherbackbrewing.com/wp-content/uploads/2025/05/Trivia-Night.jpg
END:VEVENT
BEGIN:VEVENT
DTSTART;TZID=UTC:20251112T160000
DTEND;TZID=UTC:20251112T180000
DTSTAMP:20260423T094010
CREATED:20240923T195910Z
LAST-MODIFIED:20240923T195910Z
UID:10003426-1762963200-1762970400@leatherbackbrewing.com
SUMMARY:St. Croix Happy Hour
DESCRIPTION:Join us for Happy Hour 4:00pm – 6:00pm with $5 Flagship Beers and $10 Wings!
URL:https://leatherbackbrewing.com/event/st-croix-happy-hour-2/2025-11-12/
CATEGORIES:Specials
ATTACH;FMTTYPE=image/jpeg:https://leatherbackbrewing.com/wp-content/uploads/2024/09/Happy-Hour.jpg
END:VEVENT
BEGIN:VEVENT
DTSTART;TZID=UTC:20251114T173000
DTEND;TZID=UTC:20251114T193000
DTSTAMP:20260423T094010
CREATED:20250512T171126Z
LAST-MODIFIED:20250604T172325Z
UID:10002977-1763141400-1763148600@leatherbackbrewing.com
SUMMARY:St. Croix- Crab Races
DESCRIPTION:Join us for Crab Races with Tito & Sue! \nCheer on your crab while enjoying your favorite Leatherback brew or a cocktail! Bring the while family for some pizza and fun! \nCrabs available starting at 5:30. Arrive early to get a good seat!
URL:https://leatherbackbrewing.com/event/tito-sue-crab-races-2/2025-11-14/
LOCATION:Leatherback Brewing Company- St. Croix
CATEGORIES:Family Fun
ATTACH;FMTTYPE=image/png:https://leatherbackbrewing.com/wp-content/uploads/2024/03/Carb-Races.png
END:VEVENT
BEGIN:VEVENT
DTSTART;TZID=UTC:20251117T160000
DTEND;TZID=UTC:20251117T180000
DTSTAMP:20260423T094010
CREATED:20240923T195910Z
LAST-MODIFIED:20240923T195910Z
UID:10003427-1763395200-1763402400@leatherbackbrewing.com
SUMMARY:St. Croix Happy Hour
DESCRIPTION:Join us for Happy Hour 4:00pm – 6:00pm with $5 Flagship Beers and $10 Wings!
URL:https://leatherbackbrewing.com/event/st-croix-happy-hour-2/2025-11-17/
CATEGORIES:Specials
ATTACH;FMTTYPE=image/jpeg:https://leatherbackbrewing.com/wp-content/uploads/2024/09/Happy-Hour.jpg
END:VEVENT
BEGIN:VEVENT
DTSTART;TZID=UTC:20251118T160000
DTEND;TZID=UTC:20251118T180000
DTSTAMP:20260423T094010
CREATED:20240923T195910Z
LAST-MODIFIED:20240923T195910Z
UID:10003428-1763481600-1763488800@leatherbackbrewing.com
SUMMARY:St. Croix Happy Hour
DESCRIPTION:Join us for Happy Hour 4:00pm – 6:00pm with $5 Flagship Beers and $10 Wings!
URL:https://leatherbackbrewing.com/event/st-croix-happy-hour-2/2025-11-18/
CATEGORIES:Specials
ATTACH;FMTTYPE=image/jpeg:https://leatherbackbrewing.com/wp-content/uploads/2024/09/Happy-Hour.jpg
END:VEVENT
END:VCALENDAR