BEGIN:VCALENDAR
VERSION:2.0
PRODID:-//Leatherback Brewing - ECPv6.15.20//NONSGML v1.0//EN
CALSCALE:GREGORIAN
METHOD:PUBLISH
X-WR-CALNAME:Leatherback Brewing
X-ORIGINAL-URL:https://leatherbackbrewing.com
X-WR-CALDESC:Events for Leatherback Brewing
REFRESH-INTERVAL;VALUE=DURATION:PT1H
X-Robots-Tag:noindex
X-PUBLISHED-TTL:PT1H
BEGIN:VTIMEZONE
TZID:UTC
BEGIN:STANDARD
TZOFFSETFROM:+0000
TZOFFSETTO:+0000
TZNAME:UTC
DTSTART:20220101T000000
END:STANDARD
END:VTIMEZONE
BEGIN:VEVENT
DTSTART;TZID=UTC:20231203T190000
DTEND;TZID=UTC:20231203T210000
DTSTAMP:20260423T184149
CREATED:20221005T155657Z
LAST-MODIFIED:20221005T155731Z
UID:10002824-1701630000-1701637200@leatherbackbrewing.com
SUMMARY:St. Croix- Movie Night
DESCRIPTION:Join us for a family friendly movie on the first Saturday of every month! Bring your chairs and blankets and enjoy a movie outdoors\, under the stars! Check our Facebook page for the current month’s movie!
URL:https://leatherbackbrewing.com/event/st-croix-movie-night/2023-12-03/
LOCATION:Leatherback Brewing Company- St. Croix
ATTACH;FMTTYPE=image/jpeg:https://leatherbackbrewing.com/wp-content/uploads/2022/10/movie.jpg
END:VEVENT
BEGIN:VEVENT
DTSTART;TZID=UTC:20231201T170000
DTEND;TZID=UTC:20231201T200000
DTSTAMP:20260423T184149
CREATED:20221005T160714Z
LAST-MODIFIED:20221005T164126Z
UID:10002885-1701450000-1701460800@leatherbackbrewing.com
SUMMARY:St. Croix Live Music
DESCRIPTION:Check our Facebook page to see who is playing!
URL:https://leatherbackbrewing.com/event/st-croix-live-music/2023-12-01/
LOCATION:Leatherback Brewing Company- St. Croix
CATEGORIES:Live Music
ATTACH;FMTTYPE=application/pdf:https://leatherbackbrewing.com/wp-content/uploads/2022/10/LBB_LiveMusic_St.-Croix.pdf
END:VEVENT
BEGIN:VEVENT
DTSTART;TZID=UTC:20231127T113000
DTEND;TZID=UTC:20231127T200000
DTSTAMP:20260423T184149
CREATED:20210920T214536Z
LAST-MODIFIED:20221005T161137Z
UID:10002360-1701084600-1701115200@leatherbackbrewing.com
SUMMARY:St. Croix- LOVE Mondays!
DESCRIPTION:THREE Reasons to LOVE Mondays!\n\n1. A chance to set hte tone for the coming week.\n2. Another beautiful day of island life!\n3. A free pint of beer with the purchase of a large pizza at Leatherback Brewing Company! (Dine in only)
URL:https://leatherbackbrewing.com/event/lovemondays/2023-11-27/
LOCATION:Leatherback Brewing Company- St. Croix
CATEGORIES:Specials
ATTACH;FMTTYPE=image/jpeg:https://leatherbackbrewing.com/wp-content/uploads/2021/09/LBB_Mondays_Flyer-scaled.jpg
END:VEVENT
BEGIN:VEVENT
DTSTART;TZID=UTC:20231124T170000
DTEND;TZID=UTC:20231124T200000
DTSTAMP:20260423T184149
CREATED:20221005T160714Z
LAST-MODIFIED:20221005T164126Z
UID:10002884-1700845200-1700856000@leatherbackbrewing.com
SUMMARY:St. Croix Live Music
DESCRIPTION:Check our Facebook page to see who is playing!
URL:https://leatherbackbrewing.com/event/st-croix-live-music/2023-11-24/
LOCATION:Leatherback Brewing Company- St. Croix
CATEGORIES:Live Music
ATTACH;FMTTYPE=application/pdf:https://leatherbackbrewing.com/wp-content/uploads/2022/10/LBB_LiveMusic_St.-Croix.pdf
END:VEVENT
BEGIN:VEVENT
DTSTART;TZID=UTC:20231120T113000
DTEND;TZID=UTC:20231120T200000
DTSTAMP:20260423T184149
CREATED:20210920T214536Z
LAST-MODIFIED:20221005T161137Z
UID:10002359-1700479800-1700510400@leatherbackbrewing.com
SUMMARY:St. Croix- LOVE Mondays!
DESCRIPTION:THREE Reasons to LOVE Mondays!\n\n1. A chance to set hte tone for the coming week.\n2. Another beautiful day of island life!\n3. A free pint of beer with the purchase of a large pizza at Leatherback Brewing Company! (Dine in only)
URL:https://leatherbackbrewing.com/event/lovemondays/2023-11-20/
LOCATION:Leatherback Brewing Company- St. Croix
CATEGORIES:Specials
ATTACH;FMTTYPE=image/jpeg:https://leatherbackbrewing.com/wp-content/uploads/2021/09/LBB_Mondays_Flyer-scaled.jpg
END:VEVENT
BEGIN:VEVENT
DTSTART;TZID=UTC:20231117T170000
DTEND;TZID=UTC:20231117T200000
DTSTAMP:20260423T184149
CREATED:20221005T160714Z
LAST-MODIFIED:20221005T164126Z
UID:10002883-1700240400-1700251200@leatherbackbrewing.com
SUMMARY:St. Croix Live Music
DESCRIPTION:Check our Facebook page to see who is playing!
URL:https://leatherbackbrewing.com/event/st-croix-live-music/2023-11-17/
LOCATION:Leatherback Brewing Company- St. Croix
CATEGORIES:Live Music
ATTACH;FMTTYPE=application/pdf:https://leatherbackbrewing.com/wp-content/uploads/2022/10/LBB_LiveMusic_St.-Croix.pdf
END:VEVENT
BEGIN:VEVENT
DTSTART;TZID=UTC:20231113T113000
DTEND;TZID=UTC:20231113T200000
DTSTAMP:20260423T184149
CREATED:20210920T214536Z
LAST-MODIFIED:20221005T161137Z
UID:10002358-1699875000-1699905600@leatherbackbrewing.com
SUMMARY:St. Croix- LOVE Mondays!
DESCRIPTION:THREE Reasons to LOVE Mondays!\n\n1. A chance to set hte tone for the coming week.\n2. Another beautiful day of island life!\n3. A free pint of beer with the purchase of a large pizza at Leatherback Brewing Company! (Dine in only)
URL:https://leatherbackbrewing.com/event/lovemondays/2023-11-13/
LOCATION:Leatherback Brewing Company- St. Croix
CATEGORIES:Specials
ATTACH;FMTTYPE=image/jpeg:https://leatherbackbrewing.com/wp-content/uploads/2021/09/LBB_Mondays_Flyer-scaled.jpg
END:VEVENT
BEGIN:VEVENT
DTSTART;TZID=UTC:20231110T170000
DTEND;TZID=UTC:20231110T200000
DTSTAMP:20260423T184149
CREATED:20221005T160714Z
LAST-MODIFIED:20221005T164126Z
UID:10002882-1699635600-1699646400@leatherbackbrewing.com
SUMMARY:St. Croix Live Music
DESCRIPTION:Check our Facebook page to see who is playing!
URL:https://leatherbackbrewing.com/event/st-croix-live-music/2023-11-10/
LOCATION:Leatherback Brewing Company- St. Croix
CATEGORIES:Live Music
ATTACH;FMTTYPE=application/pdf:https://leatherbackbrewing.com/wp-content/uploads/2022/10/LBB_LiveMusic_St.-Croix.pdf
END:VEVENT
BEGIN:VEVENT
DTSTART;TZID=UTC:20231106T113000
DTEND;TZID=UTC:20231106T200000
DTSTAMP:20260423T184149
CREATED:20210920T214536Z
LAST-MODIFIED:20221005T161137Z
UID:10002357-1699270200-1699300800@leatherbackbrewing.com
SUMMARY:St. Croix- LOVE Mondays!
DESCRIPTION:THREE Reasons to LOVE Mondays!\n\n1. A chance to set hte tone for the coming week.\n2. Another beautiful day of island life!\n3. A free pint of beer with the purchase of a large pizza at Leatherback Brewing Company! (Dine in only)
URL:https://leatherbackbrewing.com/event/lovemondays/2023-11-06/
LOCATION:Leatherback Brewing Company- St. Croix
CATEGORIES:Specials
ATTACH;FMTTYPE=image/jpeg:https://leatherbackbrewing.com/wp-content/uploads/2021/09/LBB_Mondays_Flyer-scaled.jpg
END:VEVENT
BEGIN:VEVENT
DTSTART;TZID=UTC:20231105T190000
DTEND;TZID=UTC:20231105T210000
DTSTAMP:20260423T184149
CREATED:20221005T155657Z
LAST-MODIFIED:20221005T155731Z
UID:10002823-1699210800-1699218000@leatherbackbrewing.com
SUMMARY:St. Croix- Movie Night
DESCRIPTION:Join us for a family friendly movie on the first Saturday of every month! Bring your chairs and blankets and enjoy a movie outdoors\, under the stars! Check our Facebook page for the current month’s movie!
URL:https://leatherbackbrewing.com/event/st-croix-movie-night/2023-11-05/
LOCATION:Leatherback Brewing Company- St. Croix
ATTACH;FMTTYPE=image/jpeg:https://leatherbackbrewing.com/wp-content/uploads/2022/10/movie.jpg
END:VEVENT
BEGIN:VEVENT
DTSTART;TZID=UTC:20231103T170000
DTEND;TZID=UTC:20231103T200000
DTSTAMP:20260423T184149
CREATED:20221005T160714Z
LAST-MODIFIED:20221005T164126Z
UID:10002881-1699030800-1699041600@leatherbackbrewing.com
SUMMARY:St. Croix Live Music
DESCRIPTION:Check our Facebook page to see who is playing!
URL:https://leatherbackbrewing.com/event/st-croix-live-music/2023-11-03/
LOCATION:Leatherback Brewing Company- St. Croix
CATEGORIES:Live Music
ATTACH;FMTTYPE=application/pdf:https://leatherbackbrewing.com/wp-content/uploads/2022/10/LBB_LiveMusic_St.-Croix.pdf
END:VEVENT
BEGIN:VEVENT
DTSTART;TZID=UTC:20231030T113000
DTEND;TZID=UTC:20231030T200000
DTSTAMP:20260423T184149
CREATED:20210920T214536Z
LAST-MODIFIED:20221005T161137Z
UID:10002356-1698665400-1698696000@leatherbackbrewing.com
SUMMARY:St. Croix- LOVE Mondays!
DESCRIPTION:THREE Reasons to LOVE Mondays!\n\n1. A chance to set hte tone for the coming week.\n2. Another beautiful day of island life!\n3. A free pint of beer with the purchase of a large pizza at Leatherback Brewing Company! (Dine in only)
URL:https://leatherbackbrewing.com/event/lovemondays/2023-10-30/
LOCATION:Leatherback Brewing Company- St. Croix
CATEGORIES:Specials
ATTACH;FMTTYPE=image/jpeg:https://leatherbackbrewing.com/wp-content/uploads/2021/09/LBB_Mondays_Flyer-scaled.jpg
END:VEVENT
BEGIN:VEVENT
DTSTART;TZID=UTC:20231027T170000
DTEND;TZID=UTC:20231027T200000
DTSTAMP:20260423T184149
CREATED:20221005T160714Z
LAST-MODIFIED:20221005T164126Z
UID:10002880-1698426000-1698436800@leatherbackbrewing.com
SUMMARY:St. Croix Live Music
DESCRIPTION:Check our Facebook page to see who is playing!
URL:https://leatherbackbrewing.com/event/st-croix-live-music/2023-10-27/
LOCATION:Leatherback Brewing Company- St. Croix
CATEGORIES:Live Music
ATTACH;FMTTYPE=application/pdf:https://leatherbackbrewing.com/wp-content/uploads/2022/10/LBB_LiveMusic_St.-Croix.pdf
END:VEVENT
BEGIN:VEVENT
DTSTART;TZID=UTC:20231023T113000
DTEND;TZID=UTC:20231023T200000
DTSTAMP:20260423T184149
CREATED:20210920T214536Z
LAST-MODIFIED:20221005T161137Z
UID:10002355-1698060600-1698091200@leatherbackbrewing.com
SUMMARY:St. Croix- LOVE Mondays!
DESCRIPTION:THREE Reasons to LOVE Mondays!\n\n1. A chance to set hte tone for the coming week.\n2. Another beautiful day of island life!\n3. A free pint of beer with the purchase of a large pizza at Leatherback Brewing Company! (Dine in only)
URL:https://leatherbackbrewing.com/event/lovemondays/2023-10-23/
LOCATION:Leatherback Brewing Company- St. Croix
CATEGORIES:Specials
ATTACH;FMTTYPE=image/jpeg:https://leatherbackbrewing.com/wp-content/uploads/2021/09/LBB_Mondays_Flyer-scaled.jpg
END:VEVENT
BEGIN:VEVENT
DTSTART;TZID=UTC:20231020T170000
DTEND;TZID=UTC:20231020T200000
DTSTAMP:20260423T184149
CREATED:20221005T160714Z
LAST-MODIFIED:20221005T164126Z
UID:10002879-1697821200-1697832000@leatherbackbrewing.com
SUMMARY:St. Croix Live Music
DESCRIPTION:Check our Facebook page to see who is playing!
URL:https://leatherbackbrewing.com/event/st-croix-live-music/2023-10-20/
LOCATION:Leatherback Brewing Company- St. Croix
CATEGORIES:Live Music
ATTACH;FMTTYPE=application/pdf:https://leatherbackbrewing.com/wp-content/uploads/2022/10/LBB_LiveMusic_St.-Croix.pdf
END:VEVENT
BEGIN:VEVENT
DTSTART;TZID=UTC:20231016T113000
DTEND;TZID=UTC:20231016T200000
DTSTAMP:20260423T184149
CREATED:20210920T214536Z
LAST-MODIFIED:20221005T161137Z
UID:10002354-1697455800-1697486400@leatherbackbrewing.com
SUMMARY:St. Croix- LOVE Mondays!
DESCRIPTION:THREE Reasons to LOVE Mondays!\n\n1. A chance to set hte tone for the coming week.\n2. Another beautiful day of island life!\n3. A free pint of beer with the purchase of a large pizza at Leatherback Brewing Company! (Dine in only)
URL:https://leatherbackbrewing.com/event/lovemondays/2023-10-16/
LOCATION:Leatherback Brewing Company- St. Croix
CATEGORIES:Specials
ATTACH;FMTTYPE=image/jpeg:https://leatherbackbrewing.com/wp-content/uploads/2021/09/LBB_Mondays_Flyer-scaled.jpg
END:VEVENT
BEGIN:VEVENT
DTSTART;TZID=UTC:20231013T170000
DTEND;TZID=UTC:20231013T200000
DTSTAMP:20260423T184149
CREATED:20221005T160714Z
LAST-MODIFIED:20221005T164126Z
UID:10002878-1697216400-1697227200@leatherbackbrewing.com
SUMMARY:St. Croix Live Music
DESCRIPTION:Check our Facebook page to see who is playing!
URL:https://leatherbackbrewing.com/event/st-croix-live-music/2023-10-13/
LOCATION:Leatherback Brewing Company- St. Croix
CATEGORIES:Live Music
ATTACH;FMTTYPE=application/pdf:https://leatherbackbrewing.com/wp-content/uploads/2022/10/LBB_LiveMusic_St.-Croix.pdf
END:VEVENT
BEGIN:VEVENT
DTSTART;TZID=UTC:20231009T113000
DTEND;TZID=UTC:20231009T200000
DTSTAMP:20260423T184149
CREATED:20210920T214536Z
LAST-MODIFIED:20221005T161137Z
UID:10002353-1696851000-1696881600@leatherbackbrewing.com
SUMMARY:St. Croix- LOVE Mondays!
DESCRIPTION:THREE Reasons to LOVE Mondays!\n\n1. A chance to set hte tone for the coming week.\n2. Another beautiful day of island life!\n3. A free pint of beer with the purchase of a large pizza at Leatherback Brewing Company! (Dine in only)
URL:https://leatherbackbrewing.com/event/lovemondays/2023-10-09/
LOCATION:Leatherback Brewing Company- St. Croix
CATEGORIES:Specials
ATTACH;FMTTYPE=image/jpeg:https://leatherbackbrewing.com/wp-content/uploads/2021/09/LBB_Mondays_Flyer-scaled.jpg
END:VEVENT
BEGIN:VEVENT
DTSTART;TZID=UTC:20231006T170000
DTEND;TZID=UTC:20231006T200000
DTSTAMP:20260423T184149
CREATED:20221005T160714Z
LAST-MODIFIED:20221005T164126Z
UID:10002877-1696611600-1696622400@leatherbackbrewing.com
SUMMARY:St. Croix Live Music
DESCRIPTION:Check our Facebook page to see who is playing!
URL:https://leatherbackbrewing.com/event/st-croix-live-music/2023-10-06/
LOCATION:Leatherback Brewing Company- St. Croix
CATEGORIES:Live Music
ATTACH;FMTTYPE=application/pdf:https://leatherbackbrewing.com/wp-content/uploads/2022/10/LBB_LiveMusic_St.-Croix.pdf
END:VEVENT
BEGIN:VEVENT
DTSTART;TZID=UTC:20231002T113000
DTEND;TZID=UTC:20231002T200000
DTSTAMP:20260423T184149
CREATED:20210920T214536Z
LAST-MODIFIED:20221005T161137Z
UID:10002352-1696246200-1696276800@leatherbackbrewing.com
SUMMARY:St. Croix- LOVE Mondays!
DESCRIPTION:THREE Reasons to LOVE Mondays!\n\n1. A chance to set hte tone for the coming week.\n2. Another beautiful day of island life!\n3. A free pint of beer with the purchase of a large pizza at Leatherback Brewing Company! (Dine in only)
URL:https://leatherbackbrewing.com/event/lovemondays/2023-10-02/
LOCATION:Leatherback Brewing Company- St. Croix
CATEGORIES:Specials
ATTACH;FMTTYPE=image/jpeg:https://leatherbackbrewing.com/wp-content/uploads/2021/09/LBB_Mondays_Flyer-scaled.jpg
END:VEVENT
BEGIN:VEVENT
DTSTART;TZID=UTC:20231001T190000
DTEND;TZID=UTC:20231001T210000
DTSTAMP:20260423T184149
CREATED:20221005T155657Z
LAST-MODIFIED:20221005T155731Z
UID:10002822-1696186800-1696194000@leatherbackbrewing.com
SUMMARY:St. Croix- Movie Night
DESCRIPTION:Join us for a family friendly movie on the first Saturday of every month! Bring your chairs and blankets and enjoy a movie outdoors\, under the stars! Check our Facebook page for the current month’s movie!
URL:https://leatherbackbrewing.com/event/st-croix-movie-night/2023-10-01/
LOCATION:Leatherback Brewing Company- St. Croix
ATTACH;FMTTYPE=image/jpeg:https://leatherbackbrewing.com/wp-content/uploads/2022/10/movie.jpg
END:VEVENT
BEGIN:VEVENT
DTSTART;TZID=UTC:20230929T170000
DTEND;TZID=UTC:20230929T200000
DTSTAMP:20260423T184149
CREATED:20221005T160714Z
LAST-MODIFIED:20221005T164126Z
UID:10002876-1696006800-1696017600@leatherbackbrewing.com
SUMMARY:St. Croix Live Music
DESCRIPTION:Check our Facebook page to see who is playing!
URL:https://leatherbackbrewing.com/event/st-croix-live-music/2023-09-29/
LOCATION:Leatherback Brewing Company- St. Croix
CATEGORIES:Live Music
ATTACH;FMTTYPE=application/pdf:https://leatherbackbrewing.com/wp-content/uploads/2022/10/LBB_LiveMusic_St.-Croix.pdf
END:VEVENT
BEGIN:VEVENT
DTSTART;TZID=UTC:20230925T113000
DTEND;TZID=UTC:20230925T200000
DTSTAMP:20260423T184149
CREATED:20210920T214536Z
LAST-MODIFIED:20221005T161137Z
UID:10002351-1695641400-1695672000@leatherbackbrewing.com
SUMMARY:St. Croix- LOVE Mondays!
DESCRIPTION:THREE Reasons to LOVE Mondays!\n\n1. A chance to set hte tone for the coming week.\n2. Another beautiful day of island life!\n3. A free pint of beer with the purchase of a large pizza at Leatherback Brewing Company! (Dine in only)
URL:https://leatherbackbrewing.com/event/lovemondays/2023-09-25/
LOCATION:Leatherback Brewing Company- St. Croix
CATEGORIES:Specials
ATTACH;FMTTYPE=image/jpeg:https://leatherbackbrewing.com/wp-content/uploads/2021/09/LBB_Mondays_Flyer-scaled.jpg
END:VEVENT
BEGIN:VEVENT
DTSTART;TZID=UTC:20230922T170000
DTEND;TZID=UTC:20230922T200000
DTSTAMP:20260423T184149
CREATED:20221005T160714Z
LAST-MODIFIED:20221005T164126Z
UID:10002875-1695402000-1695412800@leatherbackbrewing.com
SUMMARY:St. Croix Live Music
DESCRIPTION:Check our Facebook page to see who is playing!
URL:https://leatherbackbrewing.com/event/st-croix-live-music/2023-09-22/
LOCATION:Leatherback Brewing Company- St. Croix
CATEGORIES:Live Music
ATTACH;FMTTYPE=application/pdf:https://leatherbackbrewing.com/wp-content/uploads/2022/10/LBB_LiveMusic_St.-Croix.pdf
END:VEVENT
BEGIN:VEVENT
DTSTART;TZID=UTC:20230918T113000
DTEND;TZID=UTC:20230918T200000
DTSTAMP:20260423T184149
CREATED:20210920T214536Z
LAST-MODIFIED:20221005T161137Z
UID:10002350-1695036600-1695067200@leatherbackbrewing.com
SUMMARY:St. Croix- LOVE Mondays!
DESCRIPTION:THREE Reasons to LOVE Mondays!\n\n1. A chance to set hte tone for the coming week.\n2. Another beautiful day of island life!\n3. A free pint of beer with the purchase of a large pizza at Leatherback Brewing Company! (Dine in only)
URL:https://leatherbackbrewing.com/event/lovemondays/2023-09-18/
LOCATION:Leatherback Brewing Company- St. Croix
CATEGORIES:Specials
ATTACH;FMTTYPE=image/jpeg:https://leatherbackbrewing.com/wp-content/uploads/2021/09/LBB_Mondays_Flyer-scaled.jpg
END:VEVENT
BEGIN:VEVENT
DTSTART;TZID=UTC:20230915T170000
DTEND;TZID=UTC:20230915T200000
DTSTAMP:20260423T184149
CREATED:20221005T160714Z
LAST-MODIFIED:20221005T164126Z
UID:10002874-1694797200-1694808000@leatherbackbrewing.com
SUMMARY:St. Croix Live Music
DESCRIPTION:Check our Facebook page to see who is playing!
URL:https://leatherbackbrewing.com/event/st-croix-live-music/2023-09-15/
LOCATION:Leatherback Brewing Company- St. Croix
CATEGORIES:Live Music
ATTACH;FMTTYPE=application/pdf:https://leatherbackbrewing.com/wp-content/uploads/2022/10/LBB_LiveMusic_St.-Croix.pdf
END:VEVENT
BEGIN:VEVENT
DTSTART;TZID=UTC:20230911T113000
DTEND;TZID=UTC:20230911T200000
DTSTAMP:20260423T184149
CREATED:20210920T214536Z
LAST-MODIFIED:20221005T161137Z
UID:10002349-1694431800-1694462400@leatherbackbrewing.com
SUMMARY:St. Croix- LOVE Mondays!
DESCRIPTION:THREE Reasons to LOVE Mondays!\n\n1. A chance to set hte tone for the coming week.\n2. Another beautiful day of island life!\n3. A free pint of beer with the purchase of a large pizza at Leatherback Brewing Company! (Dine in only)
URL:https://leatherbackbrewing.com/event/lovemondays/2023-09-11/
LOCATION:Leatherback Brewing Company- St. Croix
CATEGORIES:Specials
ATTACH;FMTTYPE=image/jpeg:https://leatherbackbrewing.com/wp-content/uploads/2021/09/LBB_Mondays_Flyer-scaled.jpg
END:VEVENT
BEGIN:VEVENT
DTSTART;TZID=UTC:20230908T170000
DTEND;TZID=UTC:20230908T200000
DTSTAMP:20260423T184149
CREATED:20221005T160714Z
LAST-MODIFIED:20221005T164126Z
UID:10002873-1694192400-1694203200@leatherbackbrewing.com
SUMMARY:St. Croix Live Music
DESCRIPTION:Check our Facebook page to see who is playing!
URL:https://leatherbackbrewing.com/event/st-croix-live-music/2023-09-08/
LOCATION:Leatherback Brewing Company- St. Croix
CATEGORIES:Live Music
ATTACH;FMTTYPE=application/pdf:https://leatherbackbrewing.com/wp-content/uploads/2022/10/LBB_LiveMusic_St.-Croix.pdf
END:VEVENT
BEGIN:VEVENT
DTSTART;TZID=UTC:20230904T113000
DTEND;TZID=UTC:20230904T200000
DTSTAMP:20260423T184149
CREATED:20210920T214536Z
LAST-MODIFIED:20221005T161137Z
UID:10002348-1693827000-1693857600@leatherbackbrewing.com
SUMMARY:St. Croix- LOVE Mondays!
DESCRIPTION:THREE Reasons to LOVE Mondays!\n\n1. A chance to set hte tone for the coming week.\n2. Another beautiful day of island life!\n3. A free pint of beer with the purchase of a large pizza at Leatherback Brewing Company! (Dine in only)
URL:https://leatherbackbrewing.com/event/lovemondays/2023-09-04/
LOCATION:Leatherback Brewing Company- St. Croix
CATEGORIES:Specials
ATTACH;FMTTYPE=image/jpeg:https://leatherbackbrewing.com/wp-content/uploads/2021/09/LBB_Mondays_Flyer-scaled.jpg
END:VEVENT
BEGIN:VEVENT
DTSTART;TZID=UTC:20230903T190000
DTEND;TZID=UTC:20230903T210000
DTSTAMP:20260423T184149
CREATED:20221005T155657Z
LAST-MODIFIED:20221005T155731Z
UID:10002821-1693767600-1693774800@leatherbackbrewing.com
SUMMARY:St. Croix- Movie Night
DESCRIPTION:Join us for a family friendly movie on the first Saturday of every month! Bring your chairs and blankets and enjoy a movie outdoors\, under the stars! Check our Facebook page for the current month’s movie!
URL:https://leatherbackbrewing.com/event/st-croix-movie-night/2023-09-03/
LOCATION:Leatherback Brewing Company- St. Croix
ATTACH;FMTTYPE=image/jpeg:https://leatherbackbrewing.com/wp-content/uploads/2022/10/movie.jpg
END:VEVENT
END:VCALENDAR