BEGIN:VCALENDAR
VERSION:2.0
PRODID:-//Leatherback Brewing - ECPv6.15.20//NONSGML v1.0//EN
CALSCALE:GREGORIAN
METHOD:PUBLISH
X-ORIGINAL-URL:https://leatherbackbrewing.com
X-WR-CALDESC:Events for Leatherback Brewing
REFRESH-INTERVAL;VALUE=DURATION:PT1H
X-Robots-Tag:noindex
X-PUBLISHED-TTL:PT1H
BEGIN:VTIMEZONE
TZID:UTC
BEGIN:STANDARD
TZOFFSETFROM:+0000
TZOFFSETTO:+0000
TZNAME:UTC
DTSTART:20230101T000000
END:STANDARD
END:VTIMEZONE
BEGIN:VEVENT
DTSTART;TZID=UTC:20241209T160000
DTEND;TZID=UTC:20241209T180000
DTSTAMP:20260423T091039
CREATED:20240923T195910Z
LAST-MODIFIED:20240923T195910Z
UID:10003280-1733760000-1733767200@leatherbackbrewing.com
SUMMARY:St. Croix Happy Hour
DESCRIPTION:Join us for Happy Hour 4:00pm – 6:00pm with $5 Flagship Beers and $10 Wings!
URL:https://leatherbackbrewing.com/event/st-croix-happy-hour-2/2024-12-09/
CATEGORIES:Specials
ATTACH;FMTTYPE=image/jpeg:https://leatherbackbrewing.com/wp-content/uploads/2024/09/Happy-Hour.jpg
END:VEVENT
BEGIN:VEVENT
DTSTART;TZID=UTC:20241210T160000
DTEND;TZID=UTC:20241210T180000
DTSTAMP:20260423T091039
CREATED:20240923T195910Z
LAST-MODIFIED:20240923T195910Z
UID:10003281-1733846400-1733853600@leatherbackbrewing.com
SUMMARY:St. Croix Happy Hour
DESCRIPTION:Join us for Happy Hour 4:00pm – 6:00pm with $5 Flagship Beers and $10 Wings!
URL:https://leatherbackbrewing.com/event/st-croix-happy-hour-2/2024-12-10/
CATEGORIES:Specials
ATTACH;FMTTYPE=image/jpeg:https://leatherbackbrewing.com/wp-content/uploads/2024/09/Happy-Hour.jpg
END:VEVENT
BEGIN:VEVENT
DTSTART;TZID=UTC:20241211T160000
DTEND;TZID=UTC:20241211T180000
DTSTAMP:20260423T091039
CREATED:20240923T195910Z
LAST-MODIFIED:20240923T195910Z
UID:10003282-1733932800-1733940000@leatherbackbrewing.com
SUMMARY:St. Croix Happy Hour
DESCRIPTION:Join us for Happy Hour 4:00pm – 6:00pm with $5 Flagship Beers and $10 Wings!
URL:https://leatherbackbrewing.com/event/st-croix-happy-hour-2/2024-12-11/
CATEGORIES:Specials
ATTACH;FMTTYPE=image/jpeg:https://leatherbackbrewing.com/wp-content/uploads/2024/09/Happy-Hour.jpg
END:VEVENT
BEGIN:VEVENT
DTSTART;TZID=UTC:20241213T173000
DTEND;TZID=UTC:20241213T193000
DTSTAMP:20260423T091039
CREATED:20240322T203444Z
LAST-MODIFIED:20240322T203621Z
UID:10002929-1734111000-1734118200@leatherbackbrewing.com
SUMMARY:St. Croix- Crab Races
DESCRIPTION:Join us for Crab Races with Tito & Sue! \nCheer on your crab while enjoying your favorite Leatherback brew or a cocktail! Bring the while family for some pizza and fun! \nCrabs available starting at 5:30. Arrive early to get a good seat!
URL:https://leatherbackbrewing.com/event/tito-sue-crab-races/2024-12-13/
LOCATION:Leatherback Brewing Company- St. Croix
CATEGORIES:Family Fun
ATTACH;FMTTYPE=image/png:https://leatherbackbrewing.com/wp-content/uploads/2024/03/Carb-Races.png
END:VEVENT
END:VCALENDAR